PDS_VERSION_ID = PDS3
/* FILE DATA ELEMENTS */
RECORD_TYPE = STREAM
/* POINTERS TO DATA OBJECTS */
^COMPRESSED_FILE = "H4657_0000_S23.JP2"
/* IDENTIFICATION DATA ELEMENTS */
DATA_SET_ID = "MEX-M-HRSC-5-REFDR-MAPPROJECTED-V3.0"
DATA_SET_NAME = "MARS EXPRESS HRSC MAP PROJECTED REFDR V3.0"
DETECTOR_ID = MEX_HRSC_S2
EVENT_TYPE = "MARS-REGIONAL-MAPPING-Gl-Pf-Eo"
INSTRUMENT_HOST_ID = MEX
INSTRUMENT_HOST_NAME = "MARS EXPRESS"
INSTRUMENT_ID = HRSC
INSTRUMENT_NAME = "HIGH RESOLUTION STEREO CAMERA"
MISSION_NAME = "MARS EXPRESS"
MISSION_PHASE_NAME = ME_Phase_9
PROCESSING_LEVEL_ID = 3
PRODUCT_CREATION_TIME = 2016-04-26T01:56:16.000Z
PRODUCT_ID = "H4657_0000_S23.JP2"
RELEASE_ID = 0053
REVISION_ID = 0000
/* QUALITY DATA ELEMENTS */
DATA_QUALITY_ID = 1
DATA_QUALITY_DESC = "Data calculated based on original SPICE kernels"
/* TIME DATA ELEMENTS */
SPACECRAFT_CLOCK_START_COUNT = "1/0135622034.09063"
SPACECRAFT_CLOCK_STOP_COUNT = "1/0135622269.25461"
START_TIME = 2007-08-19T16:48:30.510Z
STOP_TIME = 2007-08-19T16:51:11.435Z
/* ORBITAL DATA ELEMENTS */
ASCENDING_NODE_LONGITUDE = 130.99
MAXIMUM_RESOLUTION = 34.7
FOOTPRINT_POINT_LATITUDE = (-79.5784,-79.6412,-79.726,-79.7898, -79.8499,-79.9507,-79.6284,-79.3071, -79.1436,-78.9747,-78.647,-78.4791, -78.2293,-78.0605,-77.8063,-77.639, -77.4703,-77.298,-77.1259,-76.9532, -76.7819,-76.5202,-76.3452,-76.1696, -75.9938,-75.8161,-75.6359,-75.4595, -75.2808,-75.0992,-74.9171,-74.649, -74.4693,-74.2857,-74.1003,-73.8218, -73.5403,-73.3522,-73.0716,-72.8818, -72.6925,-72.5034,-72.3104,-72.1175, -71.9252,-71.7291,-71.5328,-71.2384, -71.1037,-71.0782,-71.0553,-71.0131, -70.9779,-70.9318,-70.8982,-70.8596, -71.0416,-71.3308,-71.524,-71.7166, -71.9081,-72.0989,-72.2884,-72.5696, -72.7573,-72.9442,-73.1283,-73.3132, -73.498,-73.6791,-73.8595,-74.0405, -74.2215,-74.3997,-74.5776,-74.7563, -75.0212,-75.1962,-75.4599,-75.6361, -75.8068,-75.9852,-76.2412,-76.4135, -76.5809,-76.7505,-76.9185,-77.0869, -77.2519,-77.4151,-77.583,-77.9056, -78.0675,-78.3086,-78.4689,-78.6296, -78.7896,-79.101,-79.4904,-79.5784)
FOOTPRINT_POINT_LONGITUDE = (47.0318,48.0056,49.4158,50.5582, 51.7147,53.3597,53.8535,54.3162,54.5385 ,54.7561,55.1746,55.3726,55.6638, 55.8531,56.126,56.3022,56.4742,56.6441, 56.809,56.9689,57.1249,57.3546,57.5035, 57.6479,57.7882,57.9275,58.0631,58.197, 58.3259,58.4529,58.5781,58.7624,58.8814 ,58.9992,59.1129,59.2774,59.4402, 59.5452,59.7003,59.8019,59.9011,59.9981 ,60.0943,60.1881,60.2798,60.37,60.4588, 60.5882,60.1982,59.5348,58.9841,58.0517 ,57.3411,56.4692,55.8718,55.2221, 54.8797,54.7189,54.6081,54.4931,54.3759 ,54.2574,54.1371,53.9526,53.8256, 53.6953,53.5645,53.4293,53.2912,53.1522 ,53.0114,52.8661,52.7159,52.5642, 52.4093,52.2489,52.0035,51.8358,51.5735 ,51.3905,51.2119,51.0087,50.7241, 50.5214,50.3225,50.1117,49.8996,49.6806 ,49.4605,49.2376,48.9933,48.5261, 48.2745,47.8856,47.6176,47.3397,47.0551 ,46.4757,45.6953,47.0318)
ORBIT_NUMBER = 4657
ORBITAL_ECCENTRICITY = 0.57
ORBITAL_INCLINATION = 86.69
ORBITAL_SEMIMAJOR_AXIS = 8532.87
PERIAPSIS_ALTITUDE = 295.27
PERIAPSIS_ARGUMENT_ANGLE = 258.63
PERIAPSIS_TIME = 2007-08-19T16:42:32.000Z
SPACECRAFT_ORIENTATION = (0.0,-1.0,0.0)
^MEX_ORIENTATION_DESC = "MEX_ORIENTATION_DESC.TXT"
SPACECRAFT_POINTING_MODE = NADIR
^MEX_POINTING_DESC = "MEX_POINTING_DESC.TXT"
RIGHT_ASCENSION = -1e+32
DECLINATION = -1e+32
OFFSET_ANGLE = -1e+32
SPACECRAFT_SOLAR_DISTANCE = 2.12533e+08
TARGET_NAME = MARS
/* CAMERA DATA ELEMENTS */
DETECTOR_TEMPERATURE = 18.5744
FOCAL_PLANE_TEMPERATURE = 8.7872
INST_CMPRS_NAME = "DISCRETE COSINE TRANSFORMATION (DCT)"
INST_CMPRS_RATIO = 12.5139
INST_CMPRS_QUALITY = 0
INST_CMPRS_QUANTZ_TBL_ID = 0
INSTRUMENT_TEMPERATURE = 11.4379
LENS_TEMPERATURE = 9.3989
MACROPIXEL_SIZE = 2
MISSING_FRAMES = 0
PIXEL_SUBSAMPLING_FLAG = N
SIGNAL_CHAIN_ID = 1
/* RADIOMETRIC DATA ELEMENTS */
BANDWIDTH = 178.0
CENTER_FILTER_WAVELENGTH = 679.0
RADIANCE_OFFSET = 5.2789
RADIANCE_SCALING_FACTOR = 0.0131047
REFLECTANCE_SCALING_FACTOR = 0.000313479
MEX:REFLECTANCE_OFFSET = 0.126278
/* IMAGE OBJECT DEFINITIONS */
OBJECT = IMAGE
  INTERCHANGE_FORMAT = BINARY
  LINES = 21736
  LINE_SAMPLES = 7972
  SAMPLE_TYPE = UNSIGNED_INTEGER
  SAMPLE_BITS = 8
  BANDS = 1
  BAND_STORAGE_TYPE = BAND_SEQUENTIAL
  MAXIMUM = 255
  MEAN = 142.595
  MINIMUM = 1
  STANDARD_DEVIATION = 36.3275
END_OBJECT = IMAGE
/* MAP OBJECT DEFINITIONS */
OBJECT = IMAGE_MAP_PROJECTION
  ^DATA_SET_MAP_PROJECTION_CATALOG= "DSMAP.CAT"
  A_AXIS_RADIUS = 3396.0
  B_AXIS_RADIUS = 3396.0
  C_AXIS_RADIUS = 3396.0
  CENTER_LATITUDE = 0.0
  CENTER_LONGITUDE = 55.0
  COORDINATE_SYSTEM_NAME = PLANETOGRAPHIC
  COORDINATE_SYSTEM_TYPE = "BODY-FIXED ROTATING"
  EASTERNMOST_LONGITUDE = 60.5882
  FIRST_STANDARD_PARALLEL = "N/A"
  LINE_FIRST_PIXEL = 1
  LINE_LAST_PIXEL = 21736
  LINE_PROJECTION_OFFSET = -168027.75
  MAP_PROJECTION_ROTATION = 0.0
  MAP_PROJECTION_TYPE = SINUSOIDAL
  MAP_RESOLUTION = 2370.85521546667
  MAP_SCALE = 0.025
  MAXIMUM_LATITUDE = -70.8596
  MINIMUM_LATITUDE = -79.9507
  POSITIVE_LONGITUDE_DIRECTION = EAST
  REFERENCE_LATITUDE = "N/A"
  REFERENCE_LONGITUDE = "N/A"
  SAMPLE_FIRST_PIXEL = 1
  SAMPLE_LAST_PIXEL = 7972
  SAMPLE_PROJECTION_OFFSET = 3952.75
  SECOND_STANDARD_PARALLEL = "N/A"
  WESTERNMOST_LONGITUDE = 45.6953
END_OBJECT = IMAGE_MAP_PROJECTION
/* The JPEG2000 image data file associated with this label. */
OBJECT = COMPRESSED_FILE
  FILE_NAME = "H4657_0000_S23.JP2"
  RECORD_TYPE = UNDEFINED
  FILE_RECORDS = UNK
  ENCODING_TYPE = "JP2"
  INTERCHANGE_FORMAT = BINARY
  UNCOMPRESSED_FILE_NAME = "H4657_0000_S23.IMG"
  REQUIRED_STORAGE_BYTES = "173311280"
  ^DESCRIPTION = "JP2INFO.TXT"
END_OBJECT = COMPRESSED_FILE
END
