PDS_VERSION_ID = PDS3
/* FILE DATA ELEMENTS */
RECORD_TYPE = STREAM
/* POINTERS TO DATA OBJECTS */
^COMPRESSED_FILE = "H4658_0000_P23.JP2"
/* IDENTIFICATION DATA ELEMENTS */
DATA_SET_ID = "MEX-M-HRSC-5-REFDR-MAPPROJECTED-V3.0"
DATA_SET_NAME = "MARS EXPRESS HRSC MAP PROJECTED REFDR V3.0"
DETECTOR_ID = MEX_HRSC_P2
EVENT_TYPE = "MARS-REGIONAL-MAPPING-Im-Fl-Gl"
INSTRUMENT_HOST_ID = MEX
INSTRUMENT_HOST_NAME = "MARS EXPRESS"
INSTRUMENT_ID = HRSC
INSTRUMENT_NAME = "HIGH RESOLUTION STEREO CAMERA"
MISSION_NAME = "MARS EXPRESS"
MISSION_PHASE_NAME = ME_Phase_9
PROCESSING_LEVEL_ID = 3
PRODUCT_CREATION_TIME = 2016-04-26T01:56:16.000Z
PRODUCT_ID = "H4658_0000_P23.JP2"
RELEASE_ID = 0053
REVISION_ID = 0000
/* QUALITY DATA ELEMENTS */
DATA_QUALITY_ID = 1
DATA_QUALITY_DESC = "Data calculated based on original SPICE kernels"
/* TIME DATA ELEMENTS */
SPACECRAFT_CLOCK_START_COUNT = "1/0135646242.09064"
SPACECRAFT_CLOCK_STOP_COUNT = "1/0135646657.38270"
START_TIME = 2007-08-19T23:31:46.294Z
STOP_TIME = 2007-08-19T23:37:09.980Z
/* ORBITAL DATA ELEMENTS */
ASCENDING_NODE_LONGITUDE = 130.97
MAXIMUM_RESOLUTION = 33.7
FOOTPRINT_POINT_LATITUDE = (-78.7784,-78.9203,-79.0325,-79.1328, -78.6539,-78.3604,-78.065,-77.7704, -77.4698,-77.1677,-76.8663,-76.558, -76.2501,-75.9397,-75.6247,-75.3093, -74.9899,-74.5099,-74.184,-73.8588, -73.5291,-73.1969,-72.8616,-72.5244, -72.1831,-71.84,-71.4936,-71.1451, -70.7926,-70.2593,-69.9003,-69.5374, -68.988,-68.4319,-68.0587,-67.6797, -67.2982,-66.9132,-66.5247,-66.1323, -65.7363,-65.3367,-64.9344,-64.5267, -64.1151,-63.7002,-63.2809,-62.859, -62.4318,-62.0008,-61.5176,-61.4912, -61.4698,-61.4366,-61.3952,-61.3404, -61.7729,-62.1999,-62.622,-63.0407, -63.666,-64.074,-64.6824,-65.0816, -65.4773,-65.869,-66.4571,-66.8411, -67.221,-67.5947,-68.1538,-68.7051, -69.0688,-69.4284,-69.9642,-70.4932, -70.8419,-71.1863,-71.529,-71.8677, -72.2044,-72.5374,-72.8687,-73.1957, -73.522,-73.8433,-74.1647,-74.6373, -74.952,-75.415,-75.7231,-76.0253, -76.3274,-76.6264,-77.0692,-77.3634, -77.6509,-77.9377,-78.2238,-78.7784)
FOOTPRINT_POINT_LONGITUDE = (308.851,311.012,312.948,314.918,316.25 ,316.617,316.966,317.297,317.618, 317.925,318.216,318.5,318.771,319.031, 319.282,319.521,319.754,320.086,320.3, 320.506,320.705,320.896,321.081,321.26, 321.433,321.6,321.763,321.92,322.073, 322.294,322.435,322.574,322.773,322.964 ,323.087,323.208,323.325,323.438, 323.549,323.657,323.762,323.864,323.964 ,324.061,324.156,324.249,324.339, 324.428,324.514,324.599,324.347,323.323 ,322.641,321.765,320.792,319.653, 319.569,319.484,319.396,319.303,319.152 ,319.051,318.889,318.778,318.663, 318.545,318.347,318.217,318.083,317.948 ,317.729,317.5,317.34,317.177,316.916, 316.641,316.451,316.256,316.053,315.843 ,315.626,315.401,315.168,314.927, 314.676,314.417,314.146,313.725,313.428 ,312.964,312.637,312.299,311.946, 311.579,311.0,310.59,310.169,309.73, 309.265,308.851)
ORBIT_NUMBER = 4658
ORBITAL_ECCENTRICITY = 0.57
ORBITAL_INCLINATION = 86.7
ORBITAL_SEMIMAJOR_AXIS = 8533.77
PERIAPSIS_ALTITUDE = 295.93
PERIAPSIS_ARGUMENT_ANGLE = 258.46
PERIAPSIS_TIME = 2007-08-19T23:25:45.000Z
SPACECRAFT_ORIENTATION = (0.0,-1.0,0.0)
^MEX_ORIENTATION_DESC = "MEX_ORIENTATION_DESC.TXT"
SPACECRAFT_POINTING_MODE = ACROSSTRACK
^MEX_POINTING_DESC = "MEX_POINTING_DESC.TXT"
RIGHT_ASCENSION = -1e+32
DECLINATION = -1e+32
OFFSET_ANGLE = 0.1
SPACECRAFT_SOLAR_DISTANCE = 2.12573e+08
TARGET_NAME = MARS
/* CAMERA DATA ELEMENTS */
DETECTOR_TEMPERATURE = 18.7783
FOCAL_PLANE_TEMPERATURE = 8.9911
INST_CMPRS_NAME = "DISCRETE COSINE TRANSFORMATION (DCT)"
INST_CMPRS_RATIO = 7.51905
INST_CMPRS_QUALITY = 0
INST_CMPRS_QUANTZ_TBL_ID = 0
INSTRUMENT_TEMPERATURE = 10.2145
LENS_TEMPERATURE = 9.8067
MACROPIXEL_SIZE = 2
MISSING_FRAMES = 0
PIXEL_SUBSAMPLING_FLAG = N
SIGNAL_CHAIN_ID = 3
/* RADIOMETRIC DATA ELEMENTS */
BANDWIDTH = 177.0
CENTER_FILTER_WAVELENGTH = 676.5
RADIANCE_OFFSET = 5.36725
RADIANCE_SCALING_FACTOR = 0.0154352
REFLECTANCE_SCALING_FACTOR = 0.000369819
MEX:REFLECTANCE_OFFSET = 0.128596
/* IMAGE OBJECT DEFINITIONS */
OBJECT = IMAGE
  INTERCHANGE_FORMAT = BINARY
  LINES = 42440
  LINE_SAMPLES = 10987
  SAMPLE_TYPE = UNSIGNED_INTEGER
  SAMPLE_BITS = 8
  BANDS = 1
  BAND_STORAGE_TYPE = BAND_SEQUENTIAL
  MAXIMUM = 255
  MEAN = 158.932
  MINIMUM = 1
  STANDARD_DEVIATION = 54.0163
END_OBJECT = IMAGE
/* MAP OBJECT DEFINITIONS */
OBJECT = IMAGE_MAP_PROJECTION
  ^DATA_SET_MAP_PROJECTION_CATALOG= "DSMAP.CAT"
  A_AXIS_RADIUS = 3396.0
  B_AXIS_RADIUS = 3396.0
  C_AXIS_RADIUS = 3396.0
  CENTER_LATITUDE = 0.0
  CENTER_LONGITUDE = 319.0
  COORDINATE_SYSTEM_NAME = PLANETOGRAPHIC
  COORDINATE_SYSTEM_TYPE = "BODY-FIXED ROTATING"
  EASTERNMOST_LONGITUDE = 324.599
  FIRST_STANDARD_PARALLEL = "N/A"
  LINE_FIRST_PIXEL = 1
  LINE_LAST_PIXEL = 42440
  LINE_PROJECTION_OFFSET = -145418.25
  MAP_PROJECTION_ROTATION = 0.0
  MAP_PROJECTION_TYPE = SINUSOIDAL
  MAP_RESOLUTION = 2370.85521546667
  MAP_SCALE = 0.025
  MAXIMUM_LATITUDE = -61.3404
  MINIMUM_LATITUDE = -79.1328
  POSITIVE_LONGITUDE_DIRECTION = EAST
  REFERENCE_LATITUDE = "N/A"
  REFERENCE_LONGITUDE = "N/A"
  SAMPLE_FIRST_PIXEL = 1
  SAMPLE_LAST_PIXEL = 10987
  SAMPLE_PROJECTION_OFFSET = 4813.75
  SECOND_STANDARD_PARALLEL = "N/A"
  WESTERNMOST_LONGITUDE = 308.851
END_OBJECT = IMAGE_MAP_PROJECTION
/* The JPEG2000 image data file associated with this label. */
OBJECT = COMPRESSED_FILE
  FILE_NAME = "H4658_0000_P23.JP2"
  RECORD_TYPE = UNDEFINED
  FILE_RECORDS = UNK
  ENCODING_TYPE = "JP2"
  INTERCHANGE_FORMAT = BINARY
  UNCOMPRESSED_FILE_NAME = "H4658_0000_P23.IMG"
  REQUIRED_STORAGE_BYTES = "466321241"
  ^DESCRIPTION = "JP2INFO.TXT"
END_OBJECT = COMPRESSED_FILE
END
