PDS_VERSION_ID = PDS3
/* FILE DATA ELEMENTS */
RECORD_TYPE = STREAM
/* POINTERS TO DATA OBJECTS */
^COMPRESSED_FILE = "H4659_0000_S13.JP2"
/* IDENTIFICATION DATA ELEMENTS */
DATA_SET_ID = "MEX-M-HRSC-5-REFDR-MAPPROJECTED-V3.0"
DATA_SET_NAME = "MARS EXPRESS HRSC MAP PROJECTED REFDR V3.0"
DETECTOR_ID = MEX_HRSC_S1
EVENT_TYPE = "MARS-REGIONAL-MAPPING-Te-Im-Fl"
INSTRUMENT_HOST_ID = MEX
INSTRUMENT_HOST_NAME = "MARS EXPRESS"
INSTRUMENT_ID = HRSC
INSTRUMENT_NAME = "HIGH RESOLUTION STEREO CAMERA"
MISSION_NAME = "MARS EXPRESS"
MISSION_PHASE_NAME = ME_Phase_9
PROCESSING_LEVEL_ID = 3
PRODUCT_CREATION_TIME = 2016-04-26T01:56:16.000Z
PRODUCT_ID = "H4659_0000_S13.JP2"
RELEASE_ID = 0053
REVISION_ID = 0000
/* QUALITY DATA ELEMENTS */
DATA_QUALITY_ID = 1
DATA_QUALITY_DESC = "Data calculated based on original SPICE kernels"
/* TIME DATA ELEMENTS */
SPACECRAFT_CLOCK_START_COUNT = "1/0135670718.09096"
SPACECRAFT_CLOCK_STOP_COUNT = "1/0135671180.01937"
START_TIME = 2007-08-20T06:18:42.195Z
STOP_TIME = 2007-08-20T06:22:19.682Z
/* ORBITAL DATA ELEMENTS */
ASCENDING_NODE_LONGITUDE = 130.96
MAXIMUM_RESOLUTION = 49.8
FOOTPRINT_POINT_LATITUDE = (-60.9179,-60.9581,-60.9974,-61.033, -61.0649,-61.093,-61.1132,-61.05, -60.5935,-60.2533,-60.0241,-59.7938, -59.5614,-59.3284,-59.0944,-58.8582, -58.622,-58.3825,-58.0229,-57.658, -57.4155,-57.1688,-56.923,-56.6746, -56.4267,-56.1768,-55.9193,-55.6555, -55.4006,-55.1415,-54.8829,-54.6228, -54.2383,-53.9747,-53.5664,-53.1617, -52.8905,-52.4845,-52.2092,-51.9318, -51.6522,-51.2236,-50.7928,-50.5048, -50.2157,-49.9331,-49.6417,-49.3375, -49.0409,-48.7416,-48.2948,-47.9708, -47.9639,-47.9455,-47.9232,-47.9093, -47.8729,-47.8419,-48.2762,-48.723, -49.0198,-49.3123,-49.7507,-50.0416, -50.3306,-50.6157,-51.0415,-51.4689, -51.7471,-52.0227,-52.2981,-52.5712, -52.9796,-53.2481,-53.5137,-53.9122, -54.1765,-54.4383,-54.7009,-54.9581, -55.3418,-55.7221,-55.9736,-56.3494, -56.5905,-56.8339,-57.0802,-57.33, -57.5696,-57.929,-58.167,-58.4048, -58.6401,-58.9927,-59.2251,-59.4572, -59.6869,-60.144,-60.4827,-60.9179)
FOOTPRINT_POINT_LONGITUDE = (221.769,222.368,223.007,223.647, 224.286,224.927,225.448,225.954,226.034 ,226.09,226.127,226.163,226.199,226.234 ,226.269,226.304,226.338,226.371, 226.421,226.47,226.502,226.533,226.564, 226.594,226.624,226.653,226.685,226.719 ,226.747,226.776,226.804,226.831, 226.867,226.892,226.936,226.974,227.0, 227.034,227.058,227.082,227.106,227.14, 227.176,227.199,227.221,227.239,227.26, 227.285,227.305,227.326,227.354,227.128 ,226.63,225.842,225.18,224.807,223.936, 223.356,223.072,223.052,223.038,223.023 ,223.001,222.985,222.969,222.952, 222.925,222.896,222.876,222.856,222.836 ,222.814,222.782,222.759,222.735, 222.699,222.674,222.649,222.624,222.597 ,222.556,222.512,222.483,222.438, 222.404,222.371,222.339,222.309,222.274 ,222.222,222.187,222.15,222.114,222.058 ,222.02,221.98,221.941,221.859,221.797, 221.769)
ORBIT_NUMBER = 4659
ORBITAL_ECCENTRICITY = 0.57
ORBITAL_INCLINATION = 86.7
ORBITAL_SEMIMAJOR_AXIS = 8534.41
PERIAPSIS_ALTITUDE = 295.08
PERIAPSIS_ARGUMENT_ANGLE = 258.28
PERIAPSIS_TIME = 2007-08-20T06:08:55.000Z
SPACECRAFT_ORIENTATION = (0.0,-1.0,0.0)
^MEX_ORIENTATION_DESC = "MEX_ORIENTATION_DESC.TXT"
SPACECRAFT_POINTING_MODE = ACROSSTRACK
^MEX_POINTING_DESC = "MEX_POINTING_DESC.TXT"
RIGHT_ASCENSION = -1e+32
DECLINATION = -1e+32
OFFSET_ANGLE = 0.17
SPACECRAFT_SOLAR_DISTANCE = 2.12614e+08
TARGET_NAME = MARS
/* CAMERA DATA ELEMENTS */
DETECTOR_TEMPERATURE = 17.9627
FOCAL_PLANE_TEMPERATURE = 8.9911
INST_CMPRS_NAME = "DISCRETE COSINE TRANSFORMATION (DCT)"
INST_CMPRS_RATIO = 13.1533
INST_CMPRS_QUALITY = 0
INST_CMPRS_QUANTZ_TBL_ID = 0
INSTRUMENT_TEMPERATURE = 11.4379
LENS_TEMPERATURE = 9.195
MACROPIXEL_SIZE = 2
MISSING_FRAMES = 1
PIXEL_SUBSAMPLING_FLAG = N
SIGNAL_CHAIN_ID = 1
/* RADIOMETRIC DATA ELEMENTS */
BANDWIDTH = 180.0
CENTER_FILTER_WAVELENGTH = 677.0
RADIANCE_OFFSET = 7.08653
RADIANCE_SCALING_FACTOR = 0.0164683
REFLECTANCE_SCALING_FACTOR = 0.000388397
MEX:REFLECTANCE_OFFSET = 0.167132
/* IMAGE OBJECT DEFINITIONS */
OBJECT = IMAGE
  INTERCHANGE_FORMAT = BINARY
  LINES = 15636
  LINE_SAMPLES = 4132
  SAMPLE_TYPE = UNSIGNED_INTEGER
  SAMPLE_BITS = 8
  BANDS = 1
  BAND_STORAGE_TYPE = BAND_SEQUENTIAL
  MAXIMUM = 255
  MEAN = 122.682
  MINIMUM = 1
  STANDARD_DEVIATION = 56.6046
END_OBJECT = IMAGE
/* MAP OBJECT DEFINITIONS */
OBJECT = IMAGE_MAP_PROJECTION
  ^DATA_SET_MAP_PROJECTION_CATALOG= "DSMAP.CAT"
  A_AXIS_RADIUS = 3396.0
  B_AXIS_RADIUS = 3396.0
  C_AXIS_RADIUS = 3396.0
  CENTER_LATITUDE = 0.0
  CENTER_LONGITUDE = 225.0
  COORDINATE_SYSTEM_NAME = PLANETOGRAPHIC
  COORDINATE_SYSTEM_TYPE = "BODY-FIXED ROTATING"
  EASTERNMOST_LONGITUDE = 227.354
  FIRST_STANDARD_PARALLEL = "N/A"
  LINE_FIRST_PIXEL = 1
  LINE_LAST_PIXEL = 15636
  LINE_PROJECTION_OFFSET = -56703.75
  MAP_PROJECTION_ROTATION = 0.0
  MAP_PROJECTION_TYPE = SINUSOIDAL
  MAP_RESOLUTION = 1185.42760773333
  MAP_SCALE = 0.05
  MAXIMUM_LATITUDE = -47.8419
  MINIMUM_LATITUDE = -61.1132
  POSITIVE_LONGITUDE_DIRECTION = EAST
  REFERENCE_LATITUDE = "N/A"
  REFERENCE_LONGITUDE = "N/A"
  SAMPLE_FIRST_PIXEL = 1
  SAMPLE_LAST_PIXEL = 4132
  SAMPLE_PROJECTION_OFFSET = 2025.75
  SECOND_STANDARD_PARALLEL = "N/A"
  WESTERNMOST_LONGITUDE = 221.769
END_OBJECT = IMAGE_MAP_PROJECTION
/* The JPEG2000 image data file associated with this label. */
OBJECT = COMPRESSED_FILE
  FILE_NAME = "H4659_0000_S13.JP2"
  RECORD_TYPE = UNDEFINED
  FILE_RECORDS = UNK
  ENCODING_TYPE = "JP2"
  INTERCHANGE_FORMAT = BINARY
  UNCOMPRESSED_FILE_NAME = "H4659_0000_S13.IMG"
  REQUIRED_STORAGE_BYTES = "64632744"
  ^DESCRIPTION = "JP2INFO.TXT"
END_OBJECT = COMPRESSED_FILE
END
