PDS_VERSION_ID = PDS3
/* FILE DATA ELEMENTS */
RECORD_TYPE = STREAM
/* POINTERS TO DATA OBJECTS */
^COMPRESSED_FILE = "H4660_0000_BL3.JP2"
/* IDENTIFICATION DATA ELEMENTS */
DATA_SET_ID = "MEX-M-HRSC-5-REFDR-MAPPROJECTED-V3.0"
DATA_SET_NAME = "MARS EXPRESS HRSC MAP PROJECTED REFDR V3.0"
DETECTOR_ID = MEX_HRSC_BLUE
EVENT_TYPE = "MARS-REGIONAL-MAPPING-Gl-Eo-La"
INSTRUMENT_HOST_ID = MEX
INSTRUMENT_HOST_NAME = "MARS EXPRESS"
INSTRUMENT_ID = HRSC
INSTRUMENT_NAME = "HIGH RESOLUTION STEREO CAMERA"
MISSION_NAME = "MARS EXPRESS"
MISSION_PHASE_NAME = ME_Phase_9
PROCESSING_LEVEL_ID = 3
PRODUCT_CREATION_TIME = 2016-04-26T01:56:16.000Z
PRODUCT_ID = "H4660_0000_BL3.JP2"
RELEASE_ID = 0053
REVISION_ID = 0000
/* QUALITY DATA ELEMENTS */
DATA_QUALITY_ID = 2
DATA_QUALITY_DESC = "Data calculated based on photogrammetrically improved orbit and attitude data"
/* TIME DATA ELEMENTS */
SPACECRAFT_CLOCK_START_COUNT = "1/0135694516.08236"
SPACECRAFT_CLOCK_STOP_COUNT = "1/0135694748.08694"
START_TIME = 2007-08-20T12:55:55.141Z
STOP_TIME = 2007-08-20T12:58:33.761Z
/* ORBITAL DATA ELEMENTS */
ASCENDING_NODE_LONGITUDE = 130.94
MAXIMUM_RESOLUTION = 54.1
FOOTPRINT_POINT_LATITUDE = (-84.9024,-85.1883,-85.4621,-85.6617, -85.5451,-85.4244,-85.3,-85.1069, -84.9745,-84.8396,-84.7022,-84.5622, -84.4197,-84.2754,-84.1292,-83.9812, -83.8317,-83.6047,-83.4512,-83.1419, -82.8764,-82.6884,-82.4039,-82.2131, -82.0214,-81.8288,-81.6356,-81.4418, -81.2473,-81.0523,-80.8568,-80.6609, -80.4647,-80.1703,-79.9728,-79.7751, -79.5774,-79.3796,-79.1815,-78.9833, -78.6832,-78.4796,-78.2761,-78.0723, -77.8684,-77.5557,-77.3462,-77.1367, -76.8829,-76.8306,-76.7527,-76.68, -76.6274,-76.5587,-76.5973,-76.8016, -77.0057,-77.2097,-77.5118,-77.71, -77.908,-78.1058,-78.3996,-78.5913, -78.7827,-79.0689,-79.2592,-79.4494, -79.6387,-79.8275,-80.0155,-80.2029, -80.3895,-80.5753,-80.7603,-80.9442, -81.1271,-81.3089,-81.4895,-81.6687, -81.8464,-82.0218,-82.1965,-82.4448, -82.7986,-83.0745,-83.3449,-83.4763, -83.6055,-83.7321,-83.8562,-83.9775, -84.0959,-84.2112,-84.3232,-84.4316, -84.5362,-84.6368,-84.7331,-84.9024)
FOOTPRINT_POINT_LONGITUDE = (75.5428,77.7454,80.1795,83.4835, 85.2803,86.9827,88.5947,90.8543,92.2595 ,93.5884,94.8465,96.0427,97.1792, 98.2574,99.2812,100.254,101.18,102.485, 103.307,104.831,106.017,106.798,107.896 ,108.581,109.233,109.854,110.445, 111.008,111.546,112.059,112.55,113.019, 113.469,114.107,114.512,114.901,115.274 ,115.632,115.977,116.309,116.788, 117.098,117.397,117.685,117.963,118.37, 118.631,118.883,118.747,117.813,116.534 ,115.43,114.671,113.752,112.775,112.465 ,112.153,111.832,111.33,110.99,110.635, 110.267,109.697,109.305,108.899,108.26, 107.816,107.37,106.893,106.396,105.878, 105.338,104.776,104.191,103.58,102.943, 102.278,101.583,100.857,100.096,99.2986 ,98.4455,97.5765,96.2542,94.1582, 92.3271,90.3748,89.3241,88.2276,87.0833 ,85.8899,84.6475,83.353,82.0042,80.6, 79.1385,77.6178,76.0362,74.3945, 75.5428)
ORBIT_NUMBER = 4660
ORBITAL_ECCENTRICITY = 0.57
ORBITAL_INCLINATION = 86.69
ORBITAL_SEMIMAJOR_AXIS = 8533.49
PERIAPSIS_ALTITUDE = 295.99
PERIAPSIS_ARGUMENT_ANGLE = 258.09
PERIAPSIS_TIME = 2007-08-20T12:52:09.000Z
SPACECRAFT_ORIENTATION = (0.0,-1.0,0.0)
^MEX_ORIENTATION_DESC = "MEX_ORIENTATION_DESC.TXT"
SPACECRAFT_POINTING_MODE = ACROSSTRACK
^MEX_POINTING_DESC = "MEX_POINTING_DESC.TXT"
RIGHT_ASCENSION = -1e+32
DECLINATION = -1e+32
OFFSET_ANGLE = 0.58
SPACECRAFT_SOLAR_DISTANCE = 2.12654e+08
TARGET_NAME = MARS
/* CAMERA DATA ELEMENTS */
DETECTOR_TEMPERATURE = 17.9627
FOCAL_PLANE_TEMPERATURE = 8.9911
INST_CMPRS_NAME = "DISCRETE COSINE TRANSFORMATION (DCT)"
INST_CMPRS_RATIO = 9.14702
INST_CMPRS_QUALITY = 0
INST_CMPRS_QUANTZ_TBL_ID = 0
INSTRUMENT_TEMPERATURE = 10.8262
LENS_TEMPERATURE = 9.3989
MACROPIXEL_SIZE = 4
MISSING_FRAMES = 0
PIXEL_SUBSAMPLING_FLAG = N
SIGNAL_CHAIN_ID = 2
/* RADIOMETRIC DATA ELEMENTS */
BANDWIDTH = 76.0
CENTER_FILTER_WAVELENGTH = 444.0
RADIANCE_OFFSET = 0.623815
RADIANCE_SCALING_FACTOR = 0.00127522
REFLECTANCE_SCALING_FACTOR = 5.925e-05
MEX:REFLECTANCE_OFFSET = 0.0289841
/* IMAGE OBJECT DEFINITIONS */
OBJECT = IMAGE
  INTERCHANGE_FORMAT = BINARY
  LINES = 10945
  LINE_SAMPLES = 7063
  SAMPLE_TYPE = UNSIGNED_INTEGER
  SAMPLE_BITS = 8
  BANDS = 1
  BAND_STORAGE_TYPE = BAND_SEQUENTIAL
  MAXIMUM = 255
  MEAN = 142.918
  MINIMUM = 4
  STANDARD_DEVIATION = 40.7934
END_OBJECT = IMAGE
/* MAP OBJECT DEFINITIONS */
OBJECT = IMAGE_MAP_PROJECTION
  ^DATA_SET_MAP_PROJECTION_CATALOG= "DSMAP.CAT"
  A_AXIS_RADIUS = 3396.0
  B_AXIS_RADIUS = 3396.0
  C_AXIS_RADIUS = 3396.0
  CENTER_LATITUDE = 0.0
  CENTER_LONGITUDE = 105.0
  COORDINATE_SYSTEM_NAME = PLANETOGRAPHIC
  COORDINATE_SYSTEM_TYPE = "BODY-FIXED ROTATING"
  EASTERNMOST_LONGITUDE = 118.883
  FIRST_STANDARD_PARALLEL = "N/A"
  LINE_FIRST_PIXEL = 1
  LINE_LAST_PIXEL = 10945
  LINE_PROJECTION_OFFSET = -90685.875
  MAP_PROJECTION_ROTATION = 0.0
  MAP_PROJECTION_TYPE = SINUSOIDAL
  MAP_RESOLUTION = 1185.42760773333
  MAP_SCALE = 0.05
  MAXIMUM_LATITUDE = -76.5587
  MINIMUM_LATITUDE = -85.6617
  POSITIVE_LONGITUDE_DIRECTION = EAST
  REFERENCE_LATITUDE = "N/A"
  REFERENCE_LONGITUDE = "N/A"
  SAMPLE_FIRST_PIXEL = 1
  SAMPLE_LAST_PIXEL = 7063
  SAMPLE_PROJECTION_OFFSET = 3266.875
  SECOND_STANDARD_PARALLEL = "N/A"
  WESTERNMOST_LONGITUDE = 74.39449999999999
END_OBJECT = IMAGE_MAP_PROJECTION
/* The JPEG2000 image data file associated with this label. */
OBJECT = COMPRESSED_FILE
  FILE_NAME = "H4660_0000_BL3.JP2"
  RECORD_TYPE = UNDEFINED
  FILE_RECORDS = UNK
  ENCODING_TYPE = "JP2"
  INTERCHANGE_FORMAT = BINARY
  UNCOMPRESSED_FILE_NAME = "H4660_0000_BL3.IMG"
  REQUIRED_STORAGE_BYTES = "77339850"
  ^DESCRIPTION = "JP2INFO.TXT"
END_OBJECT = COMPRESSED_FILE
END
