PDS_VERSION_ID = PDS3
/* FILE DATA ELEMENTS */
RECORD_TYPE = STREAM
/* POINTERS TO DATA OBJECTS */
^COMPRESSED_FILE = "H4660_0004_SR3.JP2"
/* IDENTIFICATION DATA ELEMENTS */
DATA_SET_ID = "MEX-M-HRSC-5-REFDR-MAPPROJECTED-V3.0"
DATA_SET_NAME = "MARS EXPRESS HRSC MAP PROJECTED REFDR V3.0"
DETECTOR_ID = MEX_HRSC_SRC
EVENT_TYPE = "MARS-REGIONAL-MAPPING-Gl-Eo-La"
INSTRUMENT_HOST_ID = MEX
INSTRUMENT_HOST_NAME = "MARS EXPRESS"
INSTRUMENT_ID = HRSC
INSTRUMENT_NAME = "HIGH RESOLUTION STEREO CAMERA"
MISSION_NAME = "MARS EXPRESS"
MISSION_PHASE_NAME = ME_Phase_9
PROCESSING_LEVEL_ID = 3
PRODUCT_CREATION_TIME = 2016-04-26T01:56:16.000Z
PRODUCT_ID = "H4660_0004_SR3.JP2"
RELEASE_ID = 0053
REVISION_ID = 0000
/* QUALITY DATA ELEMENTS */
DATA_QUALITY_ID = 1
DATA_QUALITY_DESC = "Data calculated based on original SPICE kernels"
/* TIME DATA ELEMENTS */
SPACECRAFT_CLOCK_START_COUNT = "1/0135694516.08236"
SPACECRAFT_CLOCK_STOP_COUNT = "1/0135694748.08694"
IMAGE_TIME = 2007-08-20T12:56:19.256Z
START_TIME = 2007-08-20T12:56:19.254Z
STOP_TIME = 2007-08-20T12:56:19.259Z
/* ORBITAL DATA ELEMENTS */
ASCENDING_NODE_LONGITUDE = 130.94
MAXIMUM_RESOLUTION = 3.209
FOOTPRINT_POINT_LATITUDE = (-83.9472,-83.9493,-83.9517,-83.9533, -83.955,-83.9562,-83.9581,-83.9596, -83.9618,-83.9642,-83.9657,-83.9676, -83.9693,-83.9705,-83.9724,-83.9736, -83.9753,-83.9767,-83.9787,-83.9809, -83.9828,-83.9843,-83.9863,-83.9876, -83.9862,-83.9848,-83.9828,-83.9814, -83.98,-83.9786,-83.9772,-83.9758, -83.9744,-83.9729,-83.9715,-83.9701, -83.9687,-83.9673,-83.9659,-83.9645, -83.963,-83.9616,-83.9602,-83.9588, -83.9574,-83.9559,-83.9545,-83.9526, -83.9506,-83.9485,-83.9463,-83.9448, -83.9435,-83.9418,-83.9408,-83.9396, -83.9381,-83.937,-83.9346,-83.9328, -83.9316,-83.9299,-83.9286,-83.9272, -83.925,-83.9234,-83.9222,-83.9206, -83.9195,-83.9177,-83.9165,-83.915, -83.9128,-83.9107,-83.9111,-83.9127, -83.9141,-83.9155,-83.9169,-83.9183, -83.9197,-83.9211,-83.9225,-83.924, -83.9254,-83.9268,-83.9282,-83.9296, -83.931,-83.9324,-83.9338,-83.9352, -83.9366,-83.938,-83.9394,-83.9408, -83.9422,-83.9436,-83.945,-83.9472)
FOOTPRINT_POINT_LONGITUDE = (93.4962,93.4797,93.4613,93.4487, 93.4355,93.4262,93.4113,93.399,93.3815, 93.3626,93.3503,93.3353,93.3217,93.3127 ,93.2974,93.2874,93.2744,93.2628, 93.2468,93.2291,93.2141,93.202,93.1857, 93.1749,93.1589,93.1429,93.1212,93.1052 ,93.0893,93.0733,93.0573,93.0414, 93.0255,93.0095,92.9936,92.9777,92.9617 ,92.9458,92.9299,92.914,92.8981,92.8822 ,92.8663,92.8505,92.8346,92.8187, 92.8029,92.7822,92.7876,92.7999,92.8177 ,92.829,92.8397,92.8535,92.8618,92.8715 ,92.8832,92.8925,92.9112,92.9259, 92.9359,92.9496,92.9596,92.9709,92.9888 ,93.0015,93.0111,93.0241,93.0327, 93.0466,93.0562,93.0682,93.0861,93.103, 93.1205,93.138,93.1538,93.1696,93.1855, 93.2013,93.2172,93.233,93.2489,93.2647, 93.2806,93.2965,93.3124,93.3283,93.3442 ,93.3601,93.376,93.3919,93.4078,93.4237 ,93.4396,93.4556,93.4711,93.4871,93.503 ,93.4962)
ORBIT_NUMBER = 4660
ORBITAL_ECCENTRICITY = 0.57
ORBITAL_INCLINATION = 86.69
ORBITAL_SEMIMAJOR_AXIS = 8533.49
PERIAPSIS_ALTITUDE = 295.99
PERIAPSIS_ARGUMENT_ANGLE = 258.09
PERIAPSIS_TIME = 2007-08-20T12:52:09.000Z
SPACECRAFT_ORIENTATION = (0.0,-1.0,0.0)
^MEX_ORIENTATION_DESC = "MEX_ORIENTATION_DESC.TXT"
SPACECRAFT_POINTING_MODE = ACROSSTRACK
^MEX_POINTING_DESC = "MEX_POINTING_DESC.TXT"
RIGHT_ASCENSION = -1e+32
DECLINATION = -1e+32
OFFSET_ANGLE = 0.58
SPACECRAFT_SOLAR_DISTANCE = 2.12654e+08
TARGET_NAME = MARS
/* CAMERA DATA ELEMENTS */
BUFFER_MODE_ID = BUFFER_8
EXPOSURE_DURATION = 5.04
INST_CMPRS_NAME = NONE
INST_CMPRS_RATIO = 1.0
INST_CMPRS_QUALITY = -2147483648
INST_CMPRS_QUANTZ_TBL_ID = -2147483648
INSTRUMENT_TEMPERATURE = 9.20535
MISSING_FRAMES = 0
START_BIT = 0
/* RADIOMETRIC DATA ELEMENTS */
BANDWIDTH = 250.0
CENTER_FILTER_WAVELENGTH = 600.0
RADIANCE_OFFSET = -9.99e+31
RADIANCE_SCALING_FACTOR = -9.99e+31
REFLECTANCE_SCALING_FACTOR = -9.99e+31
MEX:REFLECTANCE_OFFSET = -9.99e+31
/* IMAGE OBJECT DEFINITIONS */
OBJECT = IMAGE
  INTERCHANGE_FORMAT = BINARY
  LINES = 1988
  LINE_SAMPLES = 1991
  SAMPLE_TYPE = UNSIGNED_INTEGER
  SAMPLE_BITS = 8
  BANDS = 1
  BAND_STORAGE_TYPE = BAND_SEQUENTIAL
  MAXIMUM = 252
  MEAN = 142.767
  MINIMUM = 7
  STANDARD_DEVIATION = 24.1711
END_OBJECT = IMAGE
/* MAP OBJECT DEFINITIONS */
OBJECT = IMAGE_MAP_PROJECTION
  ^DATA_SET_MAP_PROJECTION_CATALOG= "DSMAP.CAT"
  A_AXIS_RADIUS = 3396.19
  B_AXIS_RADIUS = 3396.19
  C_AXIS_RADIUS = 3396.19
  CENTER_LATITUDE = 0.0
  CENTER_LONGITUDE = 93.0
  COORDINATE_SYSTEM_NAME = PLANETOGRAPHIC
  COORDINATE_SYSTEM_TYPE = "BODY-FIXED ROTATING"
  EASTERNMOST_LONGITUDE = 93.503
  FIRST_STANDARD_PARALLEL = "N/A"
  LINE_FIRST_PIXEL = 1
  LINE_LAST_PIXEL = 1988
  LINE_PROJECTION_OFFSET = -1983421.0
  MAP_PROJECTION_ROTATION = 0.0
  MAP_PROJECTION_TYPE = SINUSOIDAL
  MAP_RESOLUTION = 23709.8786048756
  MAP_SCALE = 0.0025
  MAXIMUM_LATITUDE = -83.91070000000001
  MINIMUM_LATITUDE = -83.9876
  POSITIVE_LONGITUDE_DIRECTION = EAST
  REFERENCE_LATITUDE = "N/A"
  REFERENCE_LONGITUDE = "N/A"
  SAMPLE_FIRST_PIXEL = 1
  SAMPLE_LAST_PIXEL = 1991
  SAMPLE_PROJECTION_OFFSET = 1331.0
  SECOND_STANDARD_PARALLEL = "N/A"
  WESTERNMOST_LONGITUDE = 92.7822
END_OBJECT = IMAGE_MAP_PROJECTION
/* The JPEG2000 image data file associated with this label. */
OBJECT = COMPRESSED_FILE
  FILE_NAME = "H4660_0004_SR3.JP2"
  RECORD_TYPE = UNDEFINED
  FILE_RECORDS = UNK
  ENCODING_TYPE = "JP2"
  INTERCHANGE_FORMAT = BINARY
  UNCOMPRESSED_FILE_NAME = "H4660_0004_SR3.IMG"
  REQUIRED_STORAGE_BYTES = "3978018"
  ^DESCRIPTION = "JP2INFO.TXT"
END_OBJECT = COMPRESSED_FILE
END
