PDS_VERSION_ID = PDS3
/* FILE DATA ELEMENTS */
RECORD_TYPE = STREAM
/* POINTERS TO DATA OBJECTS */
^COMPRESSED_FILE = "H4661_0000_ND3.JP2"
/* IDENTIFICATION DATA ELEMENTS */
DATA_SET_ID = "MEX-M-HRSC-5-REFDR-MAPPROJECTED-V3.0"
DATA_SET_NAME = "MARS EXPRESS HRSC MAP PROJECTED REFDR V3.0"
DETECTOR_ID = MEX_HRSC_NADIR
EVENT_TYPE = "MARS-REGIONAL-MAPPING-Gl-Eo-La"
INSTRUMENT_HOST_ID = MEX
INSTRUMENT_HOST_NAME = "MARS EXPRESS"
INSTRUMENT_ID = HRSC
INSTRUMENT_NAME = "HIGH RESOLUTION STEREO CAMERA"
MISSION_NAME = "MARS EXPRESS"
MISSION_PHASE_NAME = ME_Phase_9
PROCESSING_LEVEL_ID = 3
PRODUCT_CREATION_TIME = 2016-04-26T01:56:16.000Z
PRODUCT_ID = "H4661_0000_ND3.JP2"
RELEASE_ID = 0053
REVISION_ID = 0000
/* QUALITY DATA ELEMENTS */
DATA_QUALITY_ID = 2
DATA_QUALITY_DESC = "Data calculated based on photogrammetrically improved orbit and attitude data"
/* TIME DATA ELEMENTS */
SPACECRAFT_CLOCK_START_COUNT = "1/0135718690.09066"
SPACECRAFT_CLOCK_STOP_COUNT = "1/0135718857.25216"
START_TIME = 2007-08-20T19:38:43.134Z
STOP_TIME = 2007-08-20T19:40:22.128Z
/* ORBITAL DATA ELEMENTS */
ASCENDING_NODE_LONGITUDE = 130.91
MAXIMUM_RESOLUTION = 12.5
FOOTPRINT_POINT_LATITUDE = (-85.9949,-86.2274,-86.4876,-86.6557, -86.8417,-86.8716,-86.7496,-86.6142, -86.5399,-86.4628,-86.3831,-86.3009, -86.2165,-86.1299,-86.0414,-85.951, -85.8588,-85.765,-85.6698,-85.5732, -85.4752,-85.3762,-85.2769,-85.1744, -85.072,-84.9686,-84.8644,-84.7594, -84.6536,-84.5471,-84.4402,-84.3326, -84.2246,-84.1162,-83.9517,-83.8414, -83.7307,-83.6195,-83.508,-83.3961, -83.284,-83.1714,-82.9456,-82.7479, -82.612,-82.4757,-82.3389,-82.2025, -81.9965,-81.8594,-81.7072,-81.6395, -81.5925,-81.5189,-81.4038,-81.3209, -81.3974,-81.5276,-81.6574,-81.7866, -81.9155,-82.0438,-82.1716,-82.36, -82.5709,-82.7799,-82.9866,-83.191, -83.2918,-83.3923,-83.492,-83.5909, -83.689,-83.7862,-83.8825,-83.9778, -84.0721,-84.1655,-84.2576,-84.3484, -84.4384,-84.5274,-84.6149,-84.7006, -84.7849,-84.8675,-84.9484,-85.0275, -85.1049,-85.1798,-85.2531,-85.3243, -85.3933,-85.4594,-85.5236,-85.5848, -85.6426,-85.7477,-85.8416,-85.9949)
FOOTPRINT_POINT_LONGITUDE = (325.757,327.078,328.781,330.036, 331.599,334.351,338.105,341.565,343.244 ,344.851,346.388,347.857,349.261, 350.603,351.884,353.109,354.278,355.396 ,356.465,357.488,358.465,359.402, 360.314,361.155,361.975,362.761,363.516 ,364.242,364.936,365.604,366.251, 366.871,367.471,368.052,368.865,369.384 ,369.884,370.366,370.83,371.279,371.714 ,372.134,372.932,373.586,374.012, 374.421,374.811,375.199,375.739,376.093 ,375.043,373.783,372.96,371.741,369.987 ,368.818,367.666,367.229,366.778, 366.313,365.832,365.336,364.823,364.029 ,363.08,362.074,361.005,359.873,359.275 ,358.663,358.031,357.38,356.708,356.013 ,355.296,354.556,353.791,353.003, 352.187,351.343,350.476,349.583,348.658 ,347.698,346.708,345.684,344.626, 343.532,342.405,341.237,340.035,338.795 ,337.518,336.197,334.842,333.444, 332.024,329.133,326.102,325.757)
ORBIT_NUMBER = 4661
ORBITAL_ECCENTRICITY = 0.57
ORBITAL_INCLINATION = 86.68
ORBITAL_SEMIMAJOR_AXIS = 8534.25
PERIAPSIS_ALTITUDE = 296.01
PERIAPSIS_ARGUMENT_ANGLE = 257.92
PERIAPSIS_TIME = 2007-08-20T19:35:19.000Z
SPACECRAFT_ORIENTATION = (0.0,-1.0,0.0)
^MEX_ORIENTATION_DESC = "MEX_ORIENTATION_DESC.TXT"
SPACECRAFT_POINTING_MODE = NADIR
^MEX_POINTING_DESC = "MEX_POINTING_DESC.TXT"
RIGHT_ASCENSION = -1e+32
DECLINATION = -1e+32
OFFSET_ANGLE = -1e+32
SPACECRAFT_SOLAR_DISTANCE = 2.12695e+08
TARGET_NAME = MARS
/* CAMERA DATA ELEMENTS */
DETECTOR_TEMPERATURE = 18.1666
FOCAL_PLANE_TEMPERATURE = 7.7677
INST_CMPRS_NAME = "DISCRETE COSINE TRANSFORMATION (DCT)"
INST_CMPRS_RATIO = 6.06827
INST_CMPRS_QUALITY = 0
INST_CMPRS_QUANTZ_TBL_ID = 0
INSTRUMENT_TEMPERATURE = 11.6418
LENS_TEMPERATURE = 7.9716
MACROPIXEL_SIZE = 1
MISSING_FRAMES = 0
PIXEL_SUBSAMPLING_FLAG = N
SIGNAL_CHAIN_ID = 0
/* RADIOMETRIC DATA ELEMENTS */
BANDWIDTH = 177.0
CENTER_FILTER_WAVELENGTH = 677.5
RADIANCE_OFFSET = 4.13123
RADIANCE_SCALING_FACTOR = 0.0324018
REFLECTANCE_SCALING_FACTOR = 0.000778698
MEX:REFLECTANCE_OFFSET = 0.099284
/* IMAGE OBJECT DEFINITIONS */
OBJECT = IMAGE
  INTERCHANGE_FORMAT = BINARY
  LINES = 26677
  LINE_SAMPLES = 23110
  SAMPLE_TYPE = UNSIGNED_INTEGER
  SAMPLE_BITS = 8
  BANDS = 1
  BAND_STORAGE_TYPE = BAND_SEQUENTIAL
  MAXIMUM = 255
  MEAN = 107.706
  MINIMUM = 1
  STANDARD_DEVIATION = 65.4003
END_OBJECT = IMAGE
/* MAP OBJECT DEFINITIONS */
OBJECT = IMAGE_MAP_PROJECTION
  ^DATA_SET_MAP_PROJECTION_CATALOG= "DSMAP.CAT"
  A_AXIS_RADIUS = 3396.0
  B_AXIS_RADIUS = 3396.0
  C_AXIS_RADIUS = 3396.0
  CENTER_LATITUDE = 0.0
  CENTER_LONGITUDE = 359.0
  COORDINATE_SYSTEM_NAME = PLANETOGRAPHIC
  COORDINATE_SYSTEM_TYPE = "BODY-FIXED ROTATING"
  EASTERNMOST_LONGITUDE = 16.093
  FIRST_STANDARD_PARALLEL = "N/A"
  LINE_FIRST_PIXEL = 1
  LINE_LAST_PIXEL = 26677
  LINE_PROJECTION_OFFSET = -385397.0
  MAP_PROJECTION_ROTATION = 0.0
  MAP_PROJECTION_TYPE = SINUSOIDAL
  MAP_RESOLUTION = 4741.71043093333
  MAP_SCALE = 0.0125
  MAXIMUM_LATITUDE = -81.32089999999999
  MINIMUM_LATITUDE = -86.8716
  POSITIVE_LONGITUDE_DIRECTION = EAST
  REFERENCE_LATITUDE = "N/A"
  REFERENCE_LONGITUDE = "N/A"
  SAMPLE_FIRST_PIXEL = 1
  SAMPLE_LAST_PIXEL = 23110
  SAMPLE_PROJECTION_OFFSET = 11470.0
  SECOND_STANDARD_PARALLEL = "N/A"
  WESTERNMOST_LONGITUDE = -34.243
END_OBJECT = IMAGE_MAP_PROJECTION
/* The JPEG2000 image data file associated with this label. */
OBJECT = COMPRESSED_FILE
  FILE_NAME = "H4661_0000_ND3.JP2"
  RECORD_TYPE = UNDEFINED
  FILE_RECORDS = UNK
  ENCODING_TYPE = "JP2"
  INTERCHANGE_FORMAT = BINARY
  UNCOMPRESSED_FILE_NAME = "H4661_0000_ND3.IMG"
  REQUIRED_STORAGE_BYTES = "616574800"
  ^DESCRIPTION = "JP2INFO.TXT"
END_OBJECT = COMPRESSED_FILE
END
