PDS_VERSION_ID = PDS3
/* FILE DATA ELEMENTS */
RECORD_TYPE = STREAM
/* POINTERS TO DATA OBJECTS */
^COMPRESSED_FILE = "H4661_0001_BL3.JP2"
/* IDENTIFICATION DATA ELEMENTS */
DATA_SET_ID = "MEX-M-HRSC-5-REFDR-MAPPROJECTED-V3.0"
DATA_SET_NAME = "MARS EXPRESS HRSC MAP PROJECTED REFDR V3.0"
DETECTOR_ID = MEX_HRSC_BLUE
EVENT_TYPE = "MARS-REGIONAL-MAPPING-Vo-Gl"
INSTRUMENT_HOST_ID = MEX
INSTRUMENT_HOST_NAME = "MARS EXPRESS"
INSTRUMENT_ID = HRSC
INSTRUMENT_NAME = "HIGH RESOLUTION STEREO CAMERA"
MISSION_NAME = "MARS EXPRESS"
MISSION_PHASE_NAME = ME_Phase_9
PROCESSING_LEVEL_ID = 3
PRODUCT_CREATION_TIME = 2016-04-26T01:56:16.000Z
PRODUCT_ID = "H4661_0001_BL3.JP2"
RELEASE_ID = 0053
REVISION_ID = 0000
/* QUALITY DATA ELEMENTS */
DATA_QUALITY_ID = 1
DATA_QUALITY_DESC = "Data calculated based on original SPICE kernels"
/* TIME DATA ELEMENTS */
SPACECRAFT_CLOCK_START_COUNT = "1/0135719002.09052"
SPACECRAFT_CLOCK_STOP_COUNT = "1/0135719405.56121"
START_TIME = 2007-08-20T19:44:25.265Z
STOP_TIME = 2007-08-20T19:48:34.556Z
/* ORBITAL DATA ELEMENTS */
ASCENDING_NODE_LONGITUDE = 130.91
MAXIMUM_RESOLUTION = 43.9
FOOTPRINT_POINT_LATITUDE = (-67.5716,-67.6274,-67.6839,-67.7128, -67.6345,-67.0575,-66.4737,-66.1187, -65.8816,-65.6412,-65.2808,-65.0372, -64.7938,-64.5479,-64.3015,-64.0529, -63.8031,-63.4246,-63.172,-62.9156, -62.5302,-62.2714,-62.0099,-61.748, -61.4834,-61.0847,-60.8169,-60.548, -60.1387,-59.727,-59.4508,-59.1717, -58.8913,-58.6093,-58.3246,-58.0387, -57.606,-57.3157,-57.0226,-56.7277, -56.4311,-56.1328,-55.8315,-55.5281, -55.2233,-54.7615,-54.4532,-54.3957, -54.3869,-54.3761,-54.3616,-54.338, -54.3235,-54.3052,-54.278,-54.2564, -54.5619,-54.8683,-55.1723,-55.4741, -55.7743,-56.0724,-56.3689,-56.6629, -56.9545,-57.2447,-57.5331,-57.8188, -58.2448,-58.5269,-58.8073,-59.0847, -59.4982,-59.9076,-60.1791,-60.448, -60.8487,-61.114,-61.377,-61.7681, -62.028,-62.2853,-62.5421,-62.7961, -63.0497,-63.301,-63.5515,-63.7995, -64.0469,-64.2917,-64.5365,-64.7781, -65.1398,-65.3784,-65.8527,-66.2057, -66.6698,-67.1286,-67.4702,-67.5716)
FOOTPRINT_POINT_LONGITUDE = (24.7942,25.8723,27.1427,27.8998, 28.4902,28.6534,28.8139,28.9067,28.9669 ,29.0264,29.1136,29.1717,29.2281, 29.2842,29.3395,29.3938,29.4466,29.5233 ,29.5744,29.6242,29.6988,29.7471,29.794 ,29.8403,29.8865,29.9551,29.9994, 30.0481,30.109,30.1723,30.2139,30.2548, 30.2948,30.3343,30.3733,30.4112,30.4677 ,30.5045,30.5412,30.5773,30.613,30.6478 ,30.6819,30.7155,30.7486,30.797,30.8285 ,30.3715,29.8559,29.3879,28.829,28.0383 ,27.6198,27.1559,26.5049,26.0223, 25.9976,25.9718,25.9445,25.9158,25.8861 ,25.856,25.825,25.7916,25.7597,25.726, 25.6913,25.6561,25.6,25.5601,25.5205, 25.4805,25.4181,25.354,25.3098,25.264, 25.1941,25.146,25.0973,25.0242,24.9728, 24.9187,24.8635,24.8085,24.7513,24.6926 ,24.6334,24.5736,24.513,24.4509,24.3874 ,24.3225,24.2228,24.1542,24.013,23.9033 ,23.7533,23.597,23.4741,24.7942)
ORBIT_NUMBER = 4661
ORBITAL_ECCENTRICITY = 0.57
ORBITAL_INCLINATION = 86.68
ORBITAL_SEMIMAJOR_AXIS = 8534.25
PERIAPSIS_ALTITUDE = 296.01
PERIAPSIS_ARGUMENT_ANGLE = 257.92
PERIAPSIS_TIME = 2007-08-20T19:35:19.000Z
SPACECRAFT_ORIENTATION = (0.0,-1.0,0.0)
^MEX_ORIENTATION_DESC = "MEX_ORIENTATION_DESC.TXT"
SPACECRAFT_POINTING_MODE = NADIR
^MEX_POINTING_DESC = "MEX_POINTING_DESC.TXT"
RIGHT_ASCENSION = -1e+32
DECLINATION = -1e+32
OFFSET_ANGLE = -1e+32
SPACECRAFT_SOLAR_DISTANCE = 2.12695e+08
TARGET_NAME = MARS
/* CAMERA DATA ELEMENTS */
DETECTOR_TEMPERATURE = 19.39
FOCAL_PLANE_TEMPERATURE = 8.9911
INST_CMPRS_NAME = "DISCRETE COSINE TRANSFORMATION (DCT)"
INST_CMPRS_RATIO = 6.44791
INST_CMPRS_QUALITY = 0
INST_CMPRS_QUANTZ_TBL_ID = 0
INSTRUMENT_TEMPERATURE = 12.8652
LENS_TEMPERATURE = 9.8067
MACROPIXEL_SIZE = 2
MISSING_FRAMES = 0
PIXEL_SUBSAMPLING_FLAG = N
SIGNAL_CHAIN_ID = 2
/* RADIOMETRIC DATA ELEMENTS */
BANDWIDTH = 76.0
CENTER_FILTER_WAVELENGTH = 444.0
RADIANCE_OFFSET = 0.912235
RADIANCE_SCALING_FACTOR = 0.0013451
REFLECTANCE_SCALING_FACTOR = 6.25212e-05
MEX:REFLECTANCE_OFFSET = 0.0424014
/* IMAGE OBJECT DEFINITIONS */
OBJECT = IMAGE
  INTERCHANGE_FORMAT = BINARY
  LINES = 15984
  LINE_SAMPLES = 4233
  SAMPLE_TYPE = UNSIGNED_INTEGER
  SAMPLE_BITS = 8
  BANDS = 1
  BAND_STORAGE_TYPE = BAND_SEQUENTIAL
  MAXIMUM = 253
  MEAN = 156.649
  MINIMUM = 4
  STANDARD_DEVIATION = 33.9128
END_OBJECT = IMAGE
/* MAP OBJECT DEFINITIONS */
OBJECT = IMAGE_MAP_PROJECTION
  ^DATA_SET_MAP_PROJECTION_CATALOG= "DSMAP.CAT"
  A_AXIS_RADIUS = 3396.0
  B_AXIS_RADIUS = 3396.0
  C_AXIS_RADIUS = 3396.0
  CENTER_LATITUDE = 0.0
  CENTER_LONGITUDE = 27.0
  COORDINATE_SYSTEM_NAME = PLANETOGRAPHIC
  COORDINATE_SYSTEM_TYPE = "BODY-FIXED ROTATING"
  EASTERNMOST_LONGITUDE = 30.8285
  FIRST_STANDARD_PARALLEL = "N/A"
  LINE_FIRST_PIXEL = 1
  LINE_LAST_PIXEL = 15984
  LINE_PROJECTION_OFFSET = -64318.25
  MAP_PROJECTION_ROTATION = 0.0
  MAP_PROJECTION_TYPE = SINUSOIDAL
  MAP_RESOLUTION = 1185.42760773333
  MAP_SCALE = 0.05
  MAXIMUM_LATITUDE = -54.2564
  MINIMUM_LATITUDE = -67.7128
  POSITIVE_LONGITUDE_DIRECTION = EAST
  REFERENCE_LATITUDE = "N/A"
  REFERENCE_LONGITUDE = "N/A"
  SAMPLE_FIRST_PIXEL = 1
  SAMPLE_LAST_PIXEL = 4233
  SAMPLE_PROJECTION_OFFSET = 1603.25
  SECOND_STANDARD_PARALLEL = "N/A"
  WESTERNMOST_LONGITUDE = 23.4741
END_OBJECT = IMAGE_MAP_PROJECTION
/* The JPEG2000 image data file associated with this label. */
OBJECT = COMPRESSED_FILE
  FILE_NAME = "H4661_0001_BL3.JP2"
  RECORD_TYPE = UNDEFINED
  FILE_RECORDS = UNK
  ENCODING_TYPE = "JP2"
  INTERCHANGE_FORMAT = BINARY
  UNCOMPRESSED_FILE_NAME = "H4661_0001_BL3.IMG"
  REQUIRED_STORAGE_BYTES = "67685670"
  ^DESCRIPTION = "JP2INFO.TXT"
END_OBJECT = COMPRESSED_FILE
END
