PDS_VERSION_ID = PDS3
/* FILE DATA ELEMENTS */
RECORD_TYPE = STREAM
/* POINTERS TO DATA OBJECTS */
^COMPRESSED_FILE = "H4664_0000_IR3.JP2"
/* IDENTIFICATION DATA ELEMENTS */
DATA_SET_ID = "MEX-M-HRSC-5-REFDR-MAPPROJECTED-V3.0"
DATA_SET_NAME = "MARS EXPRESS HRSC MAP PROJECTED REFDR V3.0"
DETECTOR_ID = MEX_HRSC_IR
EVENT_TYPE = "MARS-REGIONAL-MAPPING-Im-Pf"
INSTRUMENT_HOST_ID = MEX
INSTRUMENT_HOST_NAME = "MARS EXPRESS"
INSTRUMENT_ID = HRSC
INSTRUMENT_NAME = "HIGH RESOLUTION STEREO CAMERA"
MISSION_NAME = "MARS EXPRESS"
MISSION_PHASE_NAME = ME_Phase_9
PROCESSING_LEVEL_ID = 3
PRODUCT_CREATION_TIME = 2016-04-26T01:56:16.000Z
PRODUCT_ID = "H4664_0000_IR3.JP2"
RELEASE_ID = 0053
REVISION_ID = 0000
/* QUALITY DATA ELEMENTS */
DATA_QUALITY_ID = 1
DATA_QUALITY_DESC = "Data calculated based on original SPICE kernels"
/* TIME DATA ELEMENTS */
SPACECRAFT_CLOCK_START_COUNT = "1/0135791516.08248"
SPACECRAFT_CLOCK_STOP_COUNT = "1/0135791911.22665"
START_TIME = 2007-08-21T15:52:07.108Z
STOP_TIME = 2007-08-21T15:56:00.496Z
/* ORBITAL DATA ELEMENTS */
ASCENDING_NODE_LONGITUDE = 130.85
MAXIMUM_RESOLUTION = 37.6
FOOTPRINT_POINT_LATITUDE = (-72.5455,-72.656,-72.7523,-72.3361, -72.0817,-71.8332,-71.5876,-71.3453, -70.9698,-70.7183,-70.4623,-70.0801, -69.8178,-69.4267,-69.1652,-68.8902, -68.6214,-68.3627,-68.0909,-67.8157, -67.5439,-67.266,-66.9887,-66.7033, -66.2835,-65.9972,-65.5678,-65.2767, -64.9827,-64.6874,-64.3947,-64.0881, -63.6438,-63.3379,-63.0324,-62.7221, -62.4081,-62.0893,-61.7743,-61.4586, -61.1423,-60.8201,-60.3295,-59.8334, -59.3281,-58.9905,-58.657,-58.3146, -58.2331,-58.1948,-58.159,-58.1153, -58.0389,-58.1643,-58.505,-58.8428, -59.3433,-59.6778,-60.0066,-60.3337, -60.6548,-60.9762,-61.2944,-61.6114, -61.9221,-62.3899,-62.7017,-63.0049, -63.3081,-63.6071,-64.0544,-64.3499, -64.6443,-64.9331,-65.225,-65.5101, -65.937,-66.3557,-66.6351,-66.9118, -67.1891,-67.4539,-67.7233,-68.127, -68.3917,-68.6574,-68.9228,-69.1869, -69.4443,-69.7007,-69.9525,-70.2069, -70.4611,-70.7158,-70.9613,-71.2079, -71.4501,-71.8157,-72.2981,-72.5455)
FOOTPRINT_POINT_LONGITUDE = (86.2003,87.7486,89.2994,89.9964,90.146 ,90.2855,90.4185,90.5434,90.7338, 90.8574,90.9795,91.1546,91.2729,91.4403 ,91.5489,91.6632,91.7695,91.8652, 91.9663,92.0673,92.1624,92.2581,92.351, 92.4455,92.5766,92.6638,92.7901,92.8729 ,92.9555,93.0355,93.1113,93.1928, 93.3006,93.3743,93.4459,93.5168,93.588, 93.6585,93.725,93.7884,93.8503,93.9124, 94.0053,94.0953,94.1846,94.2417,94.2938 ,94.3482,93.8586,93.1894,92.5169, 91.7584,90.6182,89.9803,89.9229,89.8632 ,89.7698,89.709,89.6443,89.5778,89.509, 89.4387,89.3678,89.295,89.2181,89.1043, 89.027,88.9455,88.8612,88.7762,88.6445, 88.5555,88.4634,88.3689,88.2739,88.1755 ,88.0224,87.8646,87.7557,87.6479, 87.5369,87.4144,87.2964,87.1138,86.9895 ,86.8622,86.7343,86.6056,86.4662, 86.3259,86.1809,86.034,85.886,85.7391, 85.5782,85.4152,85.2504,84.9959,84.6447 ,86.2003)
ORBIT_NUMBER = 4664
ORBITAL_ECCENTRICITY = 0.57
ORBITAL_INCLINATION = 86.7
ORBITAL_SEMIMAJOR_AXIS = 8533.17
PERIAPSIS_ALTITUDE = 295.27
PERIAPSIS_ARGUMENT_ANGLE = 257.41
PERIAPSIS_TIME = 2007-08-21T15:45:03.000Z
SPACECRAFT_ORIENTATION = (0.0,-1.0,0.0)
^MEX_ORIENTATION_DESC = "MEX_ORIENTATION_DESC.TXT"
SPACECRAFT_POINTING_MODE = ACROSSTRACK
^MEX_POINTING_DESC = "MEX_POINTING_DESC.TXT"
RIGHT_ASCENSION = -1e+32
DECLINATION = -1e+32
OFFSET_ANGLE = 0.5
SPACECRAFT_SOLAR_DISTANCE = 2.12817e+08
TARGET_NAME = MARS
/* CAMERA DATA ELEMENTS */
DETECTOR_TEMPERATURE = 17.7588
FOCAL_PLANE_TEMPERATURE = 9.195
INST_CMPRS_NAME = "DISCRETE COSINE TRANSFORMATION (DCT)"
INST_CMPRS_RATIO = 6.78721
INST_CMPRS_QUALITY = 0
INST_CMPRS_QUANTZ_TBL_ID = 0
INSTRUMENT_TEMPERATURE = 11.4379
LENS_TEMPERATURE = 9.6028
MACROPIXEL_SIZE = 2
MISSING_FRAMES = 0
PIXEL_SUBSAMPLING_FLAG = N
SIGNAL_CHAIN_ID = 3
/* RADIOMETRIC DATA ELEMENTS */
BANDWIDTH = 81.0
CENTER_FILTER_WAVELENGTH = 955.5
RADIANCE_OFFSET = 1.38564
RADIANCE_SCALING_FACTOR = 0.00406535
REFLECTANCE_SCALING_FACTOR = 0.000397231
MEX:REFLECTANCE_OFFSET = 0.135393
/* IMAGE OBJECT DEFINITIONS */
OBJECT = IMAGE
  INTERCHANGE_FORMAT = BINARY
  LINES = 17387
  LINE_SAMPLES = 4777
  SAMPLE_TYPE = UNSIGNED_INTEGER
  SAMPLE_BITS = 8
  BANDS = 1
  BAND_STORAGE_TYPE = BAND_SEQUENTIAL
  MAXIMUM = 255
  MEAN = 105.107
  MINIMUM = 1
  STANDARD_DEVIATION = 41.6933
END_OBJECT = IMAGE
/* MAP OBJECT DEFINITIONS */
OBJECT = IMAGE_MAP_PROJECTION
  ^DATA_SET_MAP_PROJECTION_CATALOG= "DSMAP.CAT"
  A_AXIS_RADIUS = 3396.0
  B_AXIS_RADIUS = 3396.0
  C_AXIS_RADIUS = 3396.0
  CENTER_LATITUDE = 0.0
  CENTER_LONGITUDE = 90.0
  COORDINATE_SYSTEM_NAME = PLANETOGRAPHIC
  COORDINATE_SYSTEM_TYPE = "BODY-FIXED ROTATING"
  EASTERNMOST_LONGITUDE = 94.34820000000001
  FIRST_STANDARD_PARALLEL = "N/A"
  LINE_FIRST_PIXEL = 1
  LINE_LAST_PIXEL = 17387
  LINE_PROJECTION_OFFSET = -68763.25
  MAP_PROJECTION_ROTATION = 0.0
  MAP_PROJECTION_TYPE = SINUSOIDAL
  MAP_RESOLUTION = 1185.42760773333
  MAP_SCALE = 0.05
  MAXIMUM_LATITUDE = -58.0389
  MINIMUM_LATITUDE = -72.75230000000001
  POSITIVE_LONGITUDE_DIRECTION = EAST
  REFERENCE_LATITUDE = "N/A"
  REFERENCE_LONGITUDE = "N/A"
  SAMPLE_FIRST_PIXEL = 1
  SAMPLE_LAST_PIXEL = 4777
  SAMPLE_PROJECTION_OFFSET = 1954.25
  SECOND_STANDARD_PARALLEL = "N/A"
  WESTERNMOST_LONGITUDE = 84.6447
END_OBJECT = IMAGE_MAP_PROJECTION
/* The JPEG2000 image data file associated with this label. */
OBJECT = COMPRESSED_FILE
  FILE_NAME = "H4664_0000_IR3.JP2"
  RECORD_TYPE = UNDEFINED
  FILE_RECORDS = UNK
  ENCODING_TYPE = "JP2"
  INTERCHANGE_FORMAT = BINARY
  UNCOMPRESSED_FILE_NAME = "H4664_0000_IR3.IMG"
  REQUIRED_STORAGE_BYTES = "83081584"
  ^DESCRIPTION = "JP2INFO.TXT"
END_OBJECT = COMPRESSED_FILE
END
