PDS_VERSION_ID = PDS3
/* FILE DATA ELEMENTS */
RECORD_TYPE = STREAM
/* POINTERS TO DATA OBJECTS */
^COMPRESSED_FILE = "H4665_0000_IR3.JP2"
/* IDENTIFICATION DATA ELEMENTS */
DATA_SET_ID = "MEX-M-HRSC-5-REFDR-MAPPROJECTED-V3.0"
DATA_SET_NAME = "MARS EXPRESS HRSC MAP PROJECTED REFDR V3.0"
DETECTOR_ID = MEX_HRSC_IR
EVENT_TYPE = "MARS-REGIONAL-MAPPING-Gl-Pf-Eo"
INSTRUMENT_HOST_ID = MEX
INSTRUMENT_HOST_NAME = "MARS EXPRESS"
INSTRUMENT_ID = HRSC
INSTRUMENT_NAME = "HIGH RESOLUTION STEREO CAMERA"
MISSION_NAME = "MARS EXPRESS"
MISSION_PHASE_NAME = ME_Phase_9
PROCESSING_LEVEL_ID = 3
PRODUCT_CREATION_TIME = 2016-04-26T01:56:16.000Z
PRODUCT_ID = "H4665_0000_IR3.JP2"
RELEASE_ID = 0053
REVISION_ID = 0000
/* QUALITY DATA ELEMENTS */
DATA_QUALITY_ID = 1
DATA_QUALITY_DESC = "Data calculated based on original SPICE kernels"
/* TIME DATA ELEMENTS */
SPACECRAFT_CLOCK_START_COUNT = "1/0135815582.09084"
SPACECRAFT_CLOCK_STOP_COUNT = "1/0135815897.32876"
START_TIME = 2007-08-21T22:33:11.855Z
STOP_TIME = 2007-08-21T22:36:34.027Z
/* ORBITAL DATA ELEMENTS */
ASCENDING_NODE_LONGITUDE = 130.83
MAXIMUM_RESOLUTION = 62.3
FOOTPRINT_POINT_LATITUDE = (-80.3242,-80.5207,-80.6849,-80.8341, -80.4536,-80.2245,-79.9976,-79.7677, -79.5388,-79.309,-79.0776,-78.7333, -78.502,-78.2711,-77.9238,-77.6929, -77.4621,-77.2246,-76.986,-76.7471, -76.5086,-76.2673,-76.0217,-75.7754, -75.4061,-75.1555,-74.9037,-74.6524, -74.3986,-74.1407,-73.8821,-73.6258, -73.3612,-72.9667,-72.7027,-72.4312, -72.1615,-71.8922,-71.6198,-71.3442, -71.0687,-70.7893,-70.5082,-70.2274, -69.9423,-69.6559,-69.3677,-69.0749, -68.7823,-68.3368,-68.0386,-67.9752, -67.9353,-67.8799,-67.7882,-67.709, -68.0045,-68.3007,-68.5917,-68.8802, -69.1687,-69.4518,-69.7351,-70.1544, -70.4329,-70.7103,-70.9824,-71.3896, -71.6585,-72.058,-72.3241,-72.5844, -72.8441,-73.1048,-73.3606,-73.7413, -73.9946,-74.2446,-74.4925,-74.7333, -75.1076,-75.4677,-75.7076,-76.066, -76.2985,-76.5315,-76.7647,-76.9968, -77.2223,-77.5587,-77.7839,-78.1203, -78.3449,-78.6788,-78.9012,-79.1219, -79.3432,-79.6728,-79.8912,-80.3242)
FOOTPRINT_POINT_LONGITUDE = (334.263,336.479,338.555,340.676,342.21 ,342.703,343.167,343.615,344.039, 344.446,344.838,345.388,345.738,346.073 ,346.551,346.853,347.142,347.429, 347.706,347.973,348.23,348.479,348.724, 348.961,349.3,349.52,349.733,349.938, 350.139,350.336,350.526,350.708,350.891 ,351.151,351.318,351.485,351.645, 351.799,351.95,352.099,352.242,352.383, 352.521,352.654,352.785,352.913,353.038 ,353.161,353.28,353.455,353.568,352.567 ,351.911,351.078,349.849,348.869, 348.735,348.596,348.456,348.309,348.16, 348.007,347.849,347.606,347.439,347.267 ,347.092,346.818,346.632,346.341, 346.139,345.935,345.724,345.506,345.284 ,344.938,344.697,344.453,344.202, 343.934,343.534,343.113,342.819,342.362 ,342.048,341.723,341.386,341.037, 340.682,340.123,339.734,339.12,338.69, 338.011,337.535,337.037,336.519,335.698 ,335.12,334.263)
ORBIT_NUMBER = 4665
ORBITAL_ECCENTRICITY = 0.57
ORBITAL_INCLINATION = 86.69
ORBITAL_SEMIMAJOR_AXIS = 8534.25
PERIAPSIS_ALTITUDE = 296.25
PERIAPSIS_ARGUMENT_ANGLE = 257.22
PERIAPSIS_TIME = 2007-08-21T22:28:13.000Z
SPACECRAFT_ORIENTATION = (0.0,-1.0,0.0)
^MEX_ORIENTATION_DESC = "MEX_ORIENTATION_DESC.TXT"
SPACECRAFT_POINTING_MODE = ACROSSTRACK
^MEX_POINTING_DESC = "MEX_POINTING_DESC.TXT"
RIGHT_ASCENSION = -1e+32
DECLINATION = -1e+32
OFFSET_ANGLE = 0.55
SPACECRAFT_SOLAR_DISTANCE = 2.12859e+08
TARGET_NAME = MARS
/* CAMERA DATA ELEMENTS */
DETECTOR_TEMPERATURE = 17.9627
FOCAL_PLANE_TEMPERATURE = 9.195
INST_CMPRS_NAME = "DISCRETE COSINE TRANSFORMATION (DCT)"
INST_CMPRS_RATIO = 16.2291
INST_CMPRS_QUALITY = 0
INST_CMPRS_QUANTZ_TBL_ID = 0
INSTRUMENT_TEMPERATURE = 11.4379
LENS_TEMPERATURE = 9.8067
MACROPIXEL_SIZE = 4
MISSING_FRAMES = 0
PIXEL_SUBSAMPLING_FLAG = N
SIGNAL_CHAIN_ID = 2
/* RADIOMETRIC DATA ELEMENTS */
BANDWIDTH = 81.0
CENTER_FILTER_WAVELENGTH = 955.5
RADIANCE_OFFSET = 1.06218
RADIANCE_SCALING_FACTOR = 0.00475346
REFLECTANCE_SCALING_FACTOR = 0.000464645
MEX:REFLECTANCE_OFFSET = 0.103827
/* IMAGE OBJECT DEFINITIONS */
OBJECT = IMAGE
  INTERCHANGE_FORMAT = BINARY
  LINES = 15486
  LINE_SAMPLES = 5566
  SAMPLE_TYPE = UNSIGNED_INTEGER
  SAMPLE_BITS = 8
  BANDS = 1
  BAND_STORAGE_TYPE = BAND_SEQUENTIAL
  MAXIMUM = 255
  MEAN = 145.073
  MINIMUM = 1
  STANDARD_DEVIATION = 43.4789
END_OBJECT = IMAGE
/* MAP OBJECT DEFINITIONS */
OBJECT = IMAGE_MAP_PROJECTION
  ^DATA_SET_MAP_PROJECTION_CATALOG= "DSMAP.CAT"
  A_AXIS_RADIUS = 3396.0
  B_AXIS_RADIUS = 3396.0
  C_AXIS_RADIUS = 3396.0
  CENTER_LATITUDE = 0.0
  CENTER_LONGITUDE = 347.0
  COORDINATE_SYSTEM_NAME = PLANETOGRAPHIC
  COORDINATE_SYSTEM_TYPE = "BODY-FIXED ROTATING"
  EASTERNMOST_LONGITUDE = 353.568
  FIRST_STANDARD_PARALLEL = "N/A"
  LINE_FIRST_PIXEL = 1
  LINE_LAST_PIXEL = 15486
  LINE_PROJECTION_OFFSET = -80263.125
  MAP_PROJECTION_ROTATION = 0.0
  MAP_PROJECTION_TYPE = SINUSOIDAL
  MAP_RESOLUTION = 1185.42760773333
  MAP_SCALE = 0.05
  MAXIMUM_LATITUDE = -67.709
  MINIMUM_LATITUDE = -80.83410000000001
  POSITIVE_LONGITUDE_DIRECTION = EAST
  REFERENCE_LATITUDE = "N/A"
  REFERENCE_LONGITUDE = "N/A"
  SAMPLE_FIRST_PIXEL = 1
  SAMPLE_LAST_PIXEL = 5566
  SAMPLE_PROJECTION_OFFSET = 2561.375
  SECOND_STANDARD_PARALLEL = "N/A"
  WESTERNMOST_LONGITUDE = 334.263
END_OBJECT = IMAGE_MAP_PROJECTION
/* The JPEG2000 image data file associated with this label. */
OBJECT = COMPRESSED_FILE
  FILE_NAME = "H4665_0000_IR3.JP2"
  RECORD_TYPE = UNDEFINED
  FILE_RECORDS = UNK
  ENCODING_TYPE = "JP2"
  INTERCHANGE_FORMAT = BINARY
  UNCOMPRESSED_FILE_NAME = "H4665_0000_IR3.IMG"
  REQUIRED_STORAGE_BYTES = "86222906"
  ^DESCRIPTION = "JP2INFO.TXT"
END_OBJECT = COMPRESSED_FILE
END
