PDS_VERSION_ID = PDS3
/* FILE DATA ELEMENTS */
RECORD_TYPE = STREAM
/* POINTERS TO DATA OBJECTS */
^COMPRESSED_FILE = "H4666_0000_P23.JP2"
/* IDENTIFICATION DATA ELEMENTS */
DATA_SET_ID = "MEX-M-HRSC-5-REFDR-MAPPROJECTED-V3.0"
DATA_SET_NAME = "MARS EXPRESS HRSC MAP PROJECTED REFDR V3.0"
DETECTOR_ID = MEX_HRSC_P2
EVENT_TYPE = "MARS-REGIONAL-MAPPING-Im-Gl-Eo"
INSTRUMENT_HOST_ID = MEX
INSTRUMENT_HOST_NAME = "MARS EXPRESS"
INSTRUMENT_ID = HRSC
INSTRUMENT_NAME = "HIGH RESOLUTION STEREO CAMERA"
MISSION_NAME = "MARS EXPRESS"
MISSION_PHASE_NAME = ME_Phase_9
PROCESSING_LEVEL_ID = 3
PRODUCT_CREATION_TIME = 2016-04-26T01:56:16.000Z
PRODUCT_ID = "H4666_0000_P23.JP2"
RELEASE_ID = 0053
REVISION_ID = 0000
/* QUALITY DATA ELEMENTS */
DATA_QUALITY_ID = 1
DATA_QUALITY_DESC = "Data calculated based on original SPICE kernels"
/* TIME DATA ELEMENTS */
SPACECRAFT_CLOCK_START_COUNT = "1/0135839833.07288"
SPACECRAFT_CLOCK_STOP_COUNT = "1/0135840155.34577"
START_TIME = 2007-08-22T05:18:23.395Z
STOP_TIME = 2007-08-22T05:22:10.623Z
/* ORBITAL DATA ELEMENTS */
ASCENDING_NODE_LONGITUDE = 130.82
MAXIMUM_RESOLUTION = 36.8
FOOTPRINT_POINT_LATITUDE = (-77.0468,-77.1092,-77.1681,-77.2234, -77.275,-77.323,-77.215,-76.7833, -76.4539,-76.0142,-75.7903,-75.566, -75.3423,-75.0012,-74.7734,-74.5457, -74.3136,-74.0807,-73.7318,-73.4958, -73.26,-73.0213,-72.6632,-72.4219, -72.1784,-71.9355,-71.6874,-71.4413, -71.1932,-70.9432,-70.6926,-70.4389, -70.0579,-69.8005,-69.544,-69.2832, -69.0229,-68.7591,-68.4955,-68.2284, -67.961,-67.6907,-67.2835,-67.0095, -66.7325,-66.4561,-66.1795,-65.8996, -65.6159,-65.327,-65.0411,-64.9852, -64.9512,-64.9158,-64.8916,-64.8529, -64.8214,-64.7845,-65.068,-65.4915, -65.7717,-66.0498,-66.4634,-66.7374, -67.0089,-67.4128,-67.6816,-67.946, -68.2113,-68.4722,-68.7342,-68.9919, -69.3785,-69.633,-69.887,-70.138, -70.3893,-70.6375,-70.8854,-71.2528, -71.4968,-71.8589,-72.0993,-72.4568, -72.6927,-72.9284,-73.2804,-73.5095, -73.7386,-73.9672,-74.1959,-74.4198, -74.6447,-74.9817,-75.203,-75.4232, -75.8594,-76.3991,-76.8218,-77.0468)
FOOTPRINT_POINT_LONGITUDE = (246.699,247.703,248.718,249.742, 250.777,251.822,252.943,253.316,253.584 ,253.922,254.085,254.244,254.397, 254.621,254.765,254.905,255.043,255.175 ,255.37,255.496,255.618,255.737,255.913 ,256.026,256.136,256.243,256.348, 256.452,256.552,256.652,256.747,256.843 ,256.98,257.071,257.159,257.245,257.329 ,257.413,257.493,257.573,257.65,257.727 ,257.839,257.911,257.982,258.052, 258.125,258.193,258.259,258.32,258.384, 257.718,256.684,255.758,255.193,254.375 ,253.764,253.083,253.011,252.897, 252.819,252.739,252.614,252.529,252.442 ,252.308,252.214,252.12,252.022,251.923 ,251.82,251.716,251.554,251.443,251.329 ,251.212,251.092,250.969,250.843,250.65 ,250.516,250.309,250.166,249.945, 249.795,249.639,249.391,249.233,249.063 ,248.888,248.708,248.526,248.336, 248.038,247.833,247.625,247.19,246.609, 246.116,246.699)
ORBIT_NUMBER = 4666
ORBITAL_ECCENTRICITY = 0.57
ORBITAL_INCLINATION = 86.69
ORBITAL_SEMIMAJOR_AXIS = 8535.93
PERIAPSIS_ALTITUDE = 295.69
PERIAPSIS_ARGUMENT_ANGLE = 257.05
PERIAPSIS_TIME = 2007-08-22T05:11:27.000Z
SPACECRAFT_ORIENTATION = (0.0,-1.0,0.0)
^MEX_ORIENTATION_DESC = "MEX_ORIENTATION_DESC.TXT"
SPACECRAFT_POINTING_MODE = ACROSSTRACK
^MEX_POINTING_DESC = "MEX_POINTING_DESC.TXT"
RIGHT_ASCENSION = -1e+32
DECLINATION = -1e+32
OFFSET_ANGLE = -0.15
SPACECRAFT_SOLAR_DISTANCE = 2.129e+08
TARGET_NAME = MARS
/* CAMERA DATA ELEMENTS */
DETECTOR_TEMPERATURE = 18.5744
FOCAL_PLANE_TEMPERATURE = 8.9911
INST_CMPRS_NAME = "DISCRETE COSINE TRANSFORMATION (DCT)"
INST_CMPRS_RATIO = 7.74165
INST_CMPRS_QUALITY = 0
INST_CMPRS_QUANTZ_TBL_ID = 0
INSTRUMENT_TEMPERATURE = 12.8652
LENS_TEMPERATURE = 9.195
MACROPIXEL_SIZE = 2
MISSING_FRAMES = 0
PIXEL_SUBSAMPLING_FLAG = N
SIGNAL_CHAIN_ID = 3
/* RADIOMETRIC DATA ELEMENTS */
BANDWIDTH = 177.0
CENTER_FILTER_WAVELENGTH = 676.5
RADIANCE_OFFSET = 5.28174
RADIANCE_SCALING_FACTOR = 0.0152207
REFLECTANCE_SCALING_FACTOR = 0.000365801
MEX:REFLECTANCE_OFFSET = 0.126937
/* IMAGE OBJECT DEFINITIONS */
OBJECT = IMAGE
  INTERCHANGE_FORMAT = BINARY
  LINES = 29934
  LINE_SAMPLES = 8902
  SAMPLE_TYPE = UNSIGNED_INTEGER
  SAMPLE_BITS = 8
  BANDS = 1
  BAND_STORAGE_TYPE = BAND_SEQUENTIAL
  MAXIMUM = 255
  MEAN = 153.288
  MINIMUM = 1
  STANDARD_DEVIATION = 47.7458
END_OBJECT = IMAGE
/* MAP OBJECT DEFINITIONS */
OBJECT = IMAGE_MAP_PROJECTION
  ^DATA_SET_MAP_PROJECTION_CATALOG= "DSMAP.CAT"
  A_AXIS_RADIUS = 3396.0
  B_AXIS_RADIUS = 3396.0
  C_AXIS_RADIUS = 3396.0
  CENTER_LATITUDE = 0.0
  CENTER_LONGITUDE = 253.0
  COORDINATE_SYSTEM_NAME = PLANETOGRAPHIC
  COORDINATE_SYSTEM_TYPE = "BODY-FIXED ROTATING"
  EASTERNMOST_LONGITUDE = 258.384
  FIRST_STANDARD_PARALLEL = "N/A"
  LINE_FIRST_PIXEL = 1
  LINE_LAST_PIXEL = 29934
  LINE_PROJECTION_OFFSET = -153658.25
  MAP_PROJECTION_ROTATION = 0.0
  MAP_PROJECTION_TYPE = SINUSOIDAL
  MAP_RESOLUTION = 2370.85521546667
  MAP_SCALE = 0.025
  MAXIMUM_LATITUDE = -64.78449999999999
  MINIMUM_LATITUDE = -77.32299999999999
  POSITIVE_LONGITUDE_DIRECTION = EAST
  REFERENCE_LATITUDE = "N/A"
  REFERENCE_LONGITUDE = "N/A"
  SAMPLE_FIRST_PIXEL = 1
  SAMPLE_LAST_PIXEL = 8902
  SAMPLE_PROJECTION_OFFSET = 3720.25
  SECOND_STANDARD_PARALLEL = "N/A"
  WESTERNMOST_LONGITUDE = 246.116
END_OBJECT = IMAGE_MAP_PROJECTION
/* The JPEG2000 image data file associated with this label. */
OBJECT = COMPRESSED_FILE
  FILE_NAME = "H4666_0000_P23.JP2"
  RECORD_TYPE = UNDEFINED
  FILE_RECORDS = UNK
  ENCODING_TYPE = "JP2"
  INTERCHANGE_FORMAT = BINARY
  UNCOMPRESSED_FILE_NAME = "H4666_0000_P23.IMG"
  REQUIRED_STORAGE_BYTES = "266508076"
  ^DESCRIPTION = "JP2INFO.TXT"
END_OBJECT = COMPRESSED_FILE
END
