PDS_VERSION_ID = PDS3
/* FILE DATA ELEMENTS */
RECORD_TYPE = STREAM
/* POINTERS TO DATA OBJECTS */
^COMPRESSED_FILE = "H4668_0000_IR3.JP2"
/* IDENTIFICATION DATA ELEMENTS */
DATA_SET_ID = "MEX-M-HRSC-5-REFDR-MAPPROJECTED-V3.0"
DATA_SET_NAME = "MARS EXPRESS HRSC MAP PROJECTED REFDR V3.0"
DETECTOR_ID = MEX_HRSC_IR
EVENT_TYPE = "MARS-REGIONAL-MAPPING-Gl-Pf-Eo"
INSTRUMENT_HOST_ID = MEX
INSTRUMENT_HOST_NAME = "MARS EXPRESS"
INSTRUMENT_ID = HRSC
INSTRUMENT_NAME = "HIGH RESOLUTION STEREO CAMERA"
MISSION_NAME = "MARS EXPRESS"
MISSION_PHASE_NAME = ME_Phase_9
PROCESSING_LEVEL_ID = 3
PRODUCT_CREATION_TIME = 2016-04-26T01:56:16.000Z
PRODUCT_ID = "H4668_0000_IR3.JP2"
RELEASE_ID = 0053
REVISION_ID = 0000
/* QUALITY DATA ELEMENTS */
DATA_QUALITY_ID = 1
DATA_QUALITY_DESC = "Data calculated based on original SPICE kernels"
/* TIME DATA ELEMENTS */
SPACECRAFT_CLOCK_START_COUNT = "1/0135888155.08360"
SPACECRAFT_CLOCK_STOP_COUNT = "1/0135888434.15864"
START_TIME = 2007-08-22T18:42:44.735Z
STOP_TIME = 2007-08-22T18:45:38.963Z
/* ORBITAL DATA ELEMENTS */
ASCENDING_NODE_LONGITUDE = 130.77
MAXIMUM_RESOLUTION = 61.7
FOOTPRINT_POINT_LATITUDE = (-81.0414,-81.1607,-81.3494,-81.5224, -81.5677,-81.3707,-81.1729,-80.9756, -80.6784,-80.3801,-80.1802,-79.9802, -79.682,-79.4817,-79.2808,-78.9787, -78.7759,-78.5733,-78.3709,-78.1677, -77.8628,-77.6547,-77.4463,-77.2367, -77.0279,-76.7094,-76.4968,-76.2821, -76.0676,-75.7416,-75.521,-75.3005, -75.082,-74.7472,-74.5215,-74.2952, -74.0695,-73.7234,-73.4916,-73.2595, -73.0239,-72.7864,-72.5492,-72.3123, -72.0721,-71.8306,-71.5889,-71.3432, -71.0962,-70.8498,-70.5761,-70.4954, -70.4422,-70.3752,-70.3141,-70.3724, -70.6156,-70.8598,-71.1032,-71.3421, -71.5813,-71.9388,-72.1722,-72.4058, -72.7556,-72.9844,-73.2125,-73.4409, -73.779,-74.003,-74.2258,-74.558, -74.7747,-74.992,-75.2069,-75.4175, -75.6269,-75.8365,-76.047,-76.2561, -76.5664,-76.7696,-77.0773,-77.2816, -77.4812,-77.6786,-77.9734,-78.2683, -78.4627,-78.6579,-78.9492,-79.143, -79.3373,-79.5298,-79.9096,-80.0995, -80.2892,-80.4777,-80.7587,-81.0414)
FOOTPRINT_POINT_LONGITUDE = (36.4979,37.743,39.8896,42.0945,44.0209 ,44.5908,45.1347,45.6517,46.3852,47.072 ,47.5069,47.9234,48.512,48.8872,49.2483 ,49.765,50.0952,50.4126,50.718,51.0133, 51.4369,51.7131,51.98,52.2392,52.4884, 52.853,53.0857,53.3133,53.5332,53.8541, 54.0626,54.2643,54.4577,54.743,54.928, 55.1078,55.2817,55.5386,55.7042,55.8653 ,56.0242,56.1796,56.3301,56.4762, 56.6199,56.7604,56.8971,57.0325,57.1645 ,57.2926,56.8135,55.5598,54.8164, 53.9332,53.1896,52.3541,52.2001,52.0423 ,51.8799,51.7162,51.5478,51.2865, 51.1087,50.9258,50.6413,50.4492,50.2505 ,50.046,49.7318,49.5176,49.2954,48.9508 ,48.7158,48.4743,48.2224,47.9578, 47.6963,47.4267,47.1497,46.8622,46.4232 ,46.1192,45.6479,45.3196,44.9845, 44.6415,44.1038,43.5387,43.1432,42.7347 ,42.0931,41.6455,41.1821,40.6994, 39.6739,39.1315,38.5676,37.9801,37.0525 ,36.4979)
ORBIT_NUMBER = 4668
ORBITAL_ECCENTRICITY = 0.57
ORBITAL_INCLINATION = 86.69
ORBITAL_SEMIMAJOR_AXIS = 8534.17
PERIAPSIS_ALTITUDE = 295.53
PERIAPSIS_ARGUMENT_ANGLE = 256.73
PERIAPSIS_TIME = 2007-08-22T18:37:52.000Z
SPACECRAFT_ORIENTATION = (0.0,-1.0,0.0)
^MEX_ORIENTATION_DESC = "MEX_ORIENTATION_DESC.TXT"
SPACECRAFT_POINTING_MODE = ACROSSTRACK
^MEX_POINTING_DESC = "MEX_POINTING_DESC.TXT"
RIGHT_ASCENSION = -1e+32
DECLINATION = -1e+32
OFFSET_ANGLE = 0.62
SPACECRAFT_SOLAR_DISTANCE = 2.12982e+08
TARGET_NAME = MARS
/* CAMERA DATA ELEMENTS */
DETECTOR_TEMPERATURE = 17.7588
FOCAL_PLANE_TEMPERATURE = 9.3989
INST_CMPRS_NAME = "DISCRETE COSINE TRANSFORMATION (DCT)"
INST_CMPRS_RATIO = 18.8324
INST_CMPRS_QUALITY = 0
INST_CMPRS_QUANTZ_TBL_ID = 0
INSTRUMENT_TEMPERATURE = 10.2145
LENS_TEMPERATURE = 10.0106
MACROPIXEL_SIZE = 4
MISSING_FRAMES = 0
PIXEL_SUBSAMPLING_FLAG = N
SIGNAL_CHAIN_ID = 2
/* RADIOMETRIC DATA ELEMENTS */
BANDWIDTH = 81.0
CENTER_FILTER_WAVELENGTH = 955.5
RADIANCE_OFFSET = 1.11216
RADIANCE_SCALING_FACTOR = 0.00372436
REFLECTANCE_SCALING_FACTOR = 0.000364478
MEX:REFLECTANCE_OFFSET = 0.10884
/* IMAGE OBJECT DEFINITIONS */
OBJECT = IMAGE
  INTERCHANGE_FORMAT = BINARY
  LINES = 13353
  LINE_SAMPLES = 5490
  SAMPLE_TYPE = UNSIGNED_INTEGER
  SAMPLE_BITS = 8
  BANDS = 1
  BAND_STORAGE_TYPE = BAND_SEQUENTIAL
  MAXIMUM = 255
  MEAN = 145.499
  MINIMUM = 1
  STANDARD_DEVIATION = 46.6653
END_OBJECT = IMAGE
/* MAP OBJECT DEFINITIONS */
OBJECT = IMAGE_MAP_PROJECTION
  ^DATA_SET_MAP_PROJECTION_CATALOG= "DSMAP.CAT"
  A_AXIS_RADIUS = 3396.0
  B_AXIS_RADIUS = 3396.0
  C_AXIS_RADIUS = 3396.0
  CENTER_LATITUDE = 0.0
  CENTER_LONGITUDE = 50.0
  COORDINATE_SYSTEM_NAME = PLANETOGRAPHIC
  COORDINATE_SYSTEM_TYPE = "BODY-FIXED ROTATING"
  EASTERNMOST_LONGITUDE = 57.2926
  FIRST_STANDARD_PARALLEL = "N/A"
  LINE_FIRST_PIXEL = 1
  LINE_LAST_PIXEL = 13353
  LINE_PROJECTION_OFFSET = -83305.375
  MAP_PROJECTION_ROTATION = 0.0
  MAP_PROJECTION_TYPE = SINUSOIDAL
  MAP_RESOLUTION = 1185.42760773333
  MAP_SCALE = 0.05
  MAXIMUM_LATITUDE = -70.3141
  MINIMUM_LATITUDE = -81.5677
  POSITIVE_LONGITUDE_DIRECTION = EAST
  REFERENCE_LATITUDE = "N/A"
  REFERENCE_LONGITUDE = "N/A"
  SAMPLE_FIRST_PIXEL = 1
  SAMPLE_LAST_PIXEL = 5490
  SAMPLE_PROJECTION_OFFSET = 2506.625
  SECOND_STANDARD_PARALLEL = "N/A"
  WESTERNMOST_LONGITUDE = 36.4979
END_OBJECT = IMAGE_MAP_PROJECTION
/* The JPEG2000 image data file associated with this label. */
OBJECT = COMPRESSED_FILE
  FILE_NAME = "H4668_0000_IR3.JP2"
  RECORD_TYPE = UNDEFINED
  FILE_RECORDS = UNK
  ENCODING_TYPE = "JP2"
  INTERCHANGE_FORMAT = BINARY
  UNCOMPRESSED_FILE_NAME = "H4668_0000_IR3.IMG"
  REQUIRED_STORAGE_BYTES = "73335420"
  ^DESCRIPTION = "JP2INFO.TXT"
END_OBJECT = COMPRESSED_FILE
END
