PDS_VERSION_ID = PDS3
/* FILE DATA ELEMENTS */
RECORD_TYPE = STREAM
/* POINTERS TO DATA OBJECTS */
^COMPRESSED_FILE = "H4668_0000_P23.JP2"
/* IDENTIFICATION DATA ELEMENTS */
DATA_SET_ID = "MEX-M-HRSC-5-REFDR-MAPPROJECTED-V3.0"
DATA_SET_NAME = "MARS EXPRESS HRSC MAP PROJECTED REFDR V3.0"
DETECTOR_ID = MEX_HRSC_P2
EVENT_TYPE = "MARS-REGIONAL-MAPPING-Gl-Pf-Eo"
INSTRUMENT_HOST_ID = MEX
INSTRUMENT_HOST_NAME = "MARS EXPRESS"
INSTRUMENT_ID = HRSC
INSTRUMENT_NAME = "HIGH RESOLUTION STEREO CAMERA"
MISSION_NAME = "MARS EXPRESS"
MISSION_PHASE_NAME = ME_Phase_9
PROCESSING_LEVEL_ID = 3
PRODUCT_CREATION_TIME = 2016-04-26T01:56:16.000Z
PRODUCT_ID = "H4668_0000_P23.JP2"
RELEASE_ID = 0053
REVISION_ID = 0000
/* QUALITY DATA ELEMENTS */
DATA_QUALITY_ID = 1
DATA_QUALITY_DESC = "Data calculated based on original SPICE kernels"
/* TIME DATA ELEMENTS */
SPACECRAFT_CLOCK_START_COUNT = "1/0135888155.08360"
SPACECRAFT_CLOCK_STOP_COUNT = "1/0135888434.15864"
START_TIME = 2007-08-22T18:43:38.479Z
STOP_TIME = 2007-08-22T18:46:54.877Z
/* ORBITAL DATA ELEMENTS */
ASCENDING_NODE_LONGITUDE = 130.77
MAXIMUM_RESOLUTION = 32.9
FOOTPRINT_POINT_LATITUDE = (-80.9287,-81.0261,-81.1189,-81.2072, -81.2908,-81.3698,-81.3256,-81.0453, -80.8549,-80.664,-80.2815,-80.0852, -79.8877,-79.5906,-79.3926,-79.1897, -78.9871,-78.7852,-78.583,-78.3764, -78.1691,-77.9619,-77.6485,-77.4359, -77.2242,-77.0116,-76.7957,-76.5789, -76.2532,-76.032,-75.8106,-75.5908, -75.2541,-75.0274,-74.8023,-74.5731, -74.3435,-74.1145,-73.8806,-73.6469, -73.415,-73.1788,-72.9434,-72.5853, -72.3443,-71.9797,-71.7347,-71.4907, -71.2425,-70.9944,-70.557,-70.52, -70.4626,-70.4162,-70.3813,-70.3342, -70.2615,-70.5105,-70.7571,-71.0015, -71.2467,-71.608,-71.8487,-72.0856, -72.3231,-72.5582,-72.7912,-73.1401, -73.3689,-73.5985,-73.8254,-74.0498, -74.2749,-74.4976,-74.7175,-74.9384, -75.1585,-75.4867,-75.7032,-76.0224, -76.2342,-76.4453,-76.6544,-76.8605, -77.169,-77.3738,-77.575,-77.7763, -78.0778,-78.3714,-78.5667,-78.7618, -78.9552,-79.1445,-79.4273,-79.6161, -79.8944,-80.1674,-80.6182,-80.9287)
FOOTPRINT_POINT_LONGITUDE = (37.2248,38.4434,39.6776,40.9277, 42.1913,43.4696,45.153,45.9008,46.3801, 46.8393,47.7009,48.1152,48.5143,49.0841 ,49.4449,49.8001,50.141,50.4682,50.7833 ,51.0933,51.3928,51.6814,52.0982, 52.3684,52.6284,52.88,53.127,53.3667, 53.7115,53.9358,54.1533,54.363,54.6702, 54.8684,55.0598,55.2486,55.4319,55.6093 ,55.7847,55.9548,56.1194,56.2823, 56.4402,56.6708,56.8202,57.038,57.1793, 57.317,57.4527,57.5844,57.5855,56.703, 55.4894,54.6048,53.9967,53.2228,52.0916 ,51.9372,51.7814,51.6226,51.4567, 51.2047,51.0302,50.8533,50.6694,50.4823 ,50.2918,49.9939,49.792,49.5804,49.3691 ,49.1526,48.9257,48.6963,48.4637, 48.2177,47.9623,47.5506,47.2791,46.8642 ,46.5739,46.2787,45.9723,45.6635, 45.1828,44.8433,44.4992,44.141,43.579, 43.0012,42.5975,42.1783,41.7465,41.3083 ,40.6229,40.1342,39.3713,38.5837, 37.1699,37.2248)
ORBIT_NUMBER = 4668
ORBITAL_ECCENTRICITY = 0.57
ORBITAL_INCLINATION = 86.69
ORBITAL_SEMIMAJOR_AXIS = 8534.17
PERIAPSIS_ALTITUDE = 295.53
PERIAPSIS_ARGUMENT_ANGLE = 256.73
PERIAPSIS_TIME = 2007-08-22T18:37:52.000Z
SPACECRAFT_ORIENTATION = (0.0,-1.0,0.0)
^MEX_ORIENTATION_DESC = "MEX_ORIENTATION_DESC.TXT"
SPACECRAFT_POINTING_MODE = ACROSSTRACK
^MEX_POINTING_DESC = "MEX_POINTING_DESC.TXT"
RIGHT_ASCENSION = -1e+32
DECLINATION = -1e+32
OFFSET_ANGLE = 0.62
SPACECRAFT_SOLAR_DISTANCE = 2.12982e+08
TARGET_NAME = MARS
/* CAMERA DATA ELEMENTS */
DETECTOR_TEMPERATURE = 18.9822
FOCAL_PLANE_TEMPERATURE = 9.3989
INST_CMPRS_NAME = "DISCRETE COSINE TRANSFORMATION (DCT)"
INST_CMPRS_RATIO = 7.86637
INST_CMPRS_QUALITY = 0
INST_CMPRS_QUANTZ_TBL_ID = 0
INSTRUMENT_TEMPERATURE = 10.2145
LENS_TEMPERATURE = 10.0106
MACROPIXEL_SIZE = 2
MISSING_FRAMES = 0
PIXEL_SUBSAMPLING_FLAG = N
SIGNAL_CHAIN_ID = 3
/* RADIOMETRIC DATA ELEMENTS */
BANDWIDTH = 177.0
CENTER_FILTER_WAVELENGTH = 676.5
RADIANCE_OFFSET = 4.64153
RADIANCE_SCALING_FACTOR = 0.0123962
REFLECTANCE_SCALING_FACTOR = 0.000298151
MEX:REFLECTANCE_OFFSET = 0.111637
/* IMAGE OBJECT DEFINITIONS */
OBJECT = IMAGE
  INTERCHANGE_FORMAT = BINARY
  LINES = 26705
  LINE_SAMPLES = 10979
  SAMPLE_TYPE = UNSIGNED_INTEGER
  SAMPLE_BITS = 8
  BANDS = 1
  BAND_STORAGE_TYPE = BAND_SEQUENTIAL
  MAXIMUM = 255
  MEAN = 140.337
  MINIMUM = 1
  STANDARD_DEVIATION = 48.9849
END_OBJECT = IMAGE
/* MAP OBJECT DEFINITIONS */
OBJECT = IMAGE_MAP_PROJECTION
  ^DATA_SET_MAP_PROJECTION_CATALOG= "DSMAP.CAT"
  A_AXIS_RADIUS = 3396.0
  B_AXIS_RADIUS = 3396.0
  C_AXIS_RADIUS = 3396.0
  CENTER_LATITUDE = 0.0
  CENTER_LONGITUDE = 50.0
  COORDINATE_SYSTEM_NAME = PLANETOGRAPHIC
  COORDINATE_SYSTEM_TYPE = "BODY-FIXED ROTATING"
  EASTERNMOST_LONGITUDE = 57.5855
  FIRST_STANDARD_PARALLEL = "N/A"
  LINE_FIRST_PIXEL = 1
  LINE_LAST_PIXEL = 26705
  LINE_PROJECTION_OFFSET = -166610.25
  MAP_PROJECTION_ROTATION = 0.0
  MAP_PROJECTION_TYPE = SINUSOIDAL
  MAP_RESOLUTION = 2370.85521546667
  MAP_SCALE = 0.025
  MAXIMUM_LATITUDE = -70.2615
  MINIMUM_LATITUDE = -81.3698
  POSITIVE_LONGITUDE_DIRECTION = EAST
  REFERENCE_LATITUDE = "N/A"
  REFERENCE_LONGITUDE = "N/A"
  SAMPLE_FIRST_PIXEL = 1
  SAMPLE_LAST_PIXEL = 10979
  SAMPLE_PROJECTION_OFFSET = 5013.75
  SECOND_STANDARD_PARALLEL = "N/A"
  WESTERNMOST_LONGITUDE = 37.1699
END_OBJECT = IMAGE_MAP_PROJECTION
/* The JPEG2000 image data file associated with this label. */
OBJECT = COMPRESSED_FILE
  FILE_NAME = "H4668_0000_P23.JP2"
  RECORD_TYPE = UNDEFINED
  FILE_RECORDS = UNK
  ENCODING_TYPE = "JP2"
  INTERCHANGE_FORMAT = BINARY
  UNCOMPRESSED_FILE_NAME = "H4668_0000_P23.IMG"
  REQUIRED_STORAGE_BYTES = "293227132"
  ^DESCRIPTION = "JP2INFO.TXT"
END_OBJECT = COMPRESSED_FILE
END
