PDS_VERSION_ID = PDS3
/* FILE DATA ELEMENTS */
RECORD_TYPE = STREAM
/* POINTERS TO DATA OBJECTS */
^COMPRESSED_FILE = "H4672_0000_S13.JP2"
/* IDENTIFICATION DATA ELEMENTS */
DATA_SET_ID = "MEX-M-HRSC-5-REFDR-MAPPROJECTED-V3.0"
DATA_SET_NAME = "MARS EXPRESS HRSC MAP PROJECTED REFDR V3.0"
DETECTOR_ID = MEX_HRSC_S1
EVENT_TYPE = "MARS-REGIONAL-MAPPING-Gl-Eo-La"
INSTRUMENT_HOST_ID = MEX
INSTRUMENT_HOST_NAME = "MARS EXPRESS"
INSTRUMENT_ID = HRSC
INSTRUMENT_NAME = "HIGH RESOLUTION STEREO CAMERA"
MISSION_NAME = "MARS EXPRESS"
MISSION_PHASE_NAME = ME_Phase_9
PROCESSING_LEVEL_ID = 3
PRODUCT_CREATION_TIME = 2016-04-26T01:56:16.000Z
PRODUCT_ID = "H4672_0000_S13.JP2"
RELEASE_ID = 0053
REVISION_ID = 0000
/* QUALITY DATA ELEMENTS */
DATA_QUALITY_ID = 1
DATA_QUALITY_DESC = "Data calculated based on original SPICE kernels"
/* TIME DATA ELEMENTS */
SPACECRAFT_CLOCK_START_COUNT = "1/0135984848.08267"
SPACECRAFT_CLOCK_STOP_COUNT = "1/0135985004.05827"
START_TIME = 2007-08-23T21:34:12.127Z
STOP_TIME = 2007-08-23T21:35:32.359Z
/* ORBITAL DATA ELEMENTS */
ASCENDING_NODE_LONGITUDE = 130.69
MAXIMUM_RESOLUTION = 27.9
FOOTPRINT_POINT_LATITUDE = (-85.2002,-85.355,-85.518,-85.6787, -85.837,-85.9927,-86.146,-86.184, -86.1295,-86.044,-85.9848,-85.8927, -85.7957,-85.6959,-85.593,-85.5227, -85.4148,-85.3041,-85.1897,-85.1124, -85.0347,-84.9558,-84.8761,-84.7544, -84.6724,-84.5898,-84.5047,-84.4183, -84.3327,-84.2091,-84.123,-84.0308, -83.9436,-83.8561,-83.7681,-83.6798, -83.5907,-83.5012,-83.3668,-83.2751, -83.1401,-83.0489,-82.9572,-82.8656, -82.7677,-82.6037,-82.4923,-82.3822, -82.2706,-82.1584,-82.0469,-81.9298, -81.8406,-81.7361,-81.6508,-81.5369, -81.4101,-81.3095,-81.4165,-81.5755, -81.7329,-81.8886,-81.9918,-82.0949, -82.1846,-82.27,-82.397,-82.4808, -82.6882,-82.8113,-82.9728,-83.053, -83.1329,-83.2119,-83.29,-83.3674, -83.4821,-83.5583,-83.6707,-83.7446, -83.8172,-83.8904,-84.0316,-84.1017, -84.2044,-84.272,-84.3398,-84.4047, -84.4684,-84.5616,-84.6235,-84.6859, -84.7427,-84.8267,-84.8807,-84.9587, -85.0081,-85.0558,-85.1016,-85.2002)
FOOTPRINT_POINT_LONGITUDE = (328.212,328.973,329.837,330.762, 331.752,332.815,333.958,335.69,337.013, 338.926,340.152,341.922,343.634,345.254 ,346.795,347.783,349.208,350.568, 351.876,352.712,353.514,354.293,355.048 ,356.142,356.841,357.517,358.188, 358.842,359.465,360.322,360.893,361.485 ,362.023,362.543,363.049,363.54,364.019 ,364.485,365.156,365.596,366.219, 366.625,367.02,367.403,367.801,368.439, 368.855,369.253,369.643,370.023,370.388 ,370.376,369.106,367.696,366.619, 365.254,363.847,362.802,362.389,361.751 ,361.087,360.397,359.922,359.434,359.0, 358.571,357.909,357.456,356.276,355.534 ,354.505,353.972,353.426,352.867, 352.296,351.71,350.806,350.183,349.222, 348.562,347.887,347.191,345.757,345.01, 343.859,343.065,342.248,341.418,340.569 ,339.257,338.35,337.411,336.475,335.021 ,334.026,332.494,331.45,330.386,329.302 ,328.212)
ORBIT_NUMBER = 4672
ORBITAL_ECCENTRICITY = 0.57
ORBITAL_INCLINATION = 86.68
ORBITAL_SEMIMAJOR_AXIS = 8535.58
PERIAPSIS_ALTITUDE = 296.27
PERIAPSIS_ARGUMENT_ANGLE = 256.01
PERIAPSIS_TIME = 2007-08-23T21:30:40.000Z
SPACECRAFT_ORIENTATION = (0.0,-1.0,0.0)
^MEX_ORIENTATION_DESC = "MEX_ORIENTATION_DESC.TXT"
SPACECRAFT_POINTING_MODE = ACROSSTRACK
^MEX_POINTING_DESC = "MEX_POINTING_DESC.TXT"
RIGHT_ASCENSION = -1e+32
DECLINATION = -1e+32
OFFSET_ANGLE = 0.5
SPACECRAFT_SOLAR_DISTANCE = 2.13149e+08
TARGET_NAME = MARS
/* CAMERA DATA ELEMENTS */
DETECTOR_TEMPERATURE = 17.5549
FOCAL_PLANE_TEMPERATURE = 8.5833
INST_CMPRS_NAME = "DISCRETE COSINE TRANSFORMATION (DCT)"
INST_CMPRS_RATIO = 10.9561
INST_CMPRS_QUALITY = 0
INST_CMPRS_QUANTZ_TBL_ID = 0
INSTRUMENT_TEMPERATURE = 11.6418
LENS_TEMPERATURE = 8.9911
MACROPIXEL_SIZE = 2
MISSING_FRAMES = 0
PIXEL_SUBSAMPLING_FLAG = N
SIGNAL_CHAIN_ID = 1
/* RADIOMETRIC DATA ELEMENTS */
BANDWIDTH = 180.0
CENTER_FILTER_WAVELENGTH = 677.0
RADIANCE_OFFSET = 5.72502
RADIANCE_SCALING_FACTOR = 0.0260123
REFLECTANCE_SCALING_FACTOR = 0.000616579
MEX:REFLECTANCE_OFFSET = 0.135702
/* IMAGE OBJECT DEFINITIONS */
OBJECT = IMAGE
  INTERCHANGE_FORMAT = BINARY
  LINES = 11465
  LINE_SAMPLES = 10635
  SAMPLE_TYPE = UNSIGNED_INTEGER
  SAMPLE_BITS = 8
  BANDS = 1
  BAND_STORAGE_TYPE = BAND_SEQUENTIAL
  MAXIMUM = 255
  MEAN = 122.909
  MINIMUM = 1
  STANDARD_DEVIATION = 89.8449
END_OBJECT = IMAGE
/* MAP OBJECT DEFINITIONS */
OBJECT = IMAGE_MAP_PROJECTION
  ^DATA_SET_MAP_PROJECTION_CATALOG= "DSMAP.CAT"
  A_AXIS_RADIUS = 3396.0
  B_AXIS_RADIUS = 3396.0
  C_AXIS_RADIUS = 3396.0
  CENTER_LATITUDE = 0.0
  CENTER_LONGITUDE = 354.0
  COORDINATE_SYSTEM_NAME = PLANETOGRAPHIC
  COORDINATE_SYSTEM_TYPE = "BODY-FIXED ROTATING"
  EASTERNMOST_LONGITUDE = 10.388
  FIRST_STANDARD_PARALLEL = "N/A"
  LINE_FIRST_PIXEL = 1
  LINE_LAST_PIXEL = 11465
  LINE_PROJECTION_OFFSET = -192816.25
  MAP_PROJECTION_ROTATION = 0.0
  MAP_PROJECTION_TYPE = SINUSOIDAL
  MAP_RESOLUTION = 2370.85521546667
  MAP_SCALE = 0.025
  MAXIMUM_LATITUDE = -81.3095
  MINIMUM_LATITUDE = -86.184
  POSITIVE_LONGITUDE_DIRECTION = EAST
  REFERENCE_LATITUDE = "N/A"
  REFERENCE_LONGITUDE = "N/A"
  SAMPLE_FIRST_PIXEL = 1
  SAMPLE_LAST_PIXEL = 10635
  SAMPLE_PROJECTION_OFFSET = 4974.25
  SECOND_STANDARD_PARALLEL = "N/A"
  WESTERNMOST_LONGITUDE = -31.788
END_OBJECT = IMAGE_MAP_PROJECTION
/* The JPEG2000 image data file associated with this label. */
OBJECT = COMPRESSED_FILE
  FILE_NAME = "H4672_0000_S13.JP2"
  RECORD_TYPE = UNDEFINED
  FILE_RECORDS = UNK
  ENCODING_TYPE = "JP2"
  INTERCHANGE_FORMAT = BINARY
  UNCOMPRESSED_FILE_NAME = "H4672_0000_S13.IMG"
  REQUIRED_STORAGE_BYTES = "121962180"
  ^DESCRIPTION = "JP2INFO.TXT"
END_OBJECT = COMPRESSED_FILE
END
