PDS_VERSION_ID = PDS3
/* FILE DATA ELEMENTS */
RECORD_TYPE = STREAM
/* POINTERS TO DATA OBJECTS */
^COMPRESSED_FILE = "H4674_0001_SR3.JP2"
/* IDENTIFICATION DATA ELEMENTS */
DATA_SET_ID = "MEX-M-HRSC-5-REFDR-MAPPROJECTED-V3.0"
DATA_SET_NAME = "MARS EXPRESS HRSC MAP PROJECTED REFDR V3.0"
DETECTOR_ID = MEX_HRSC_SRC
EVENT_TYPE = "MARS-REGIONAL-MAPPING-Im-Gl-Pf"
INSTRUMENT_HOST_ID = MEX
INSTRUMENT_HOST_NAME = "MARS EXPRESS"
INSTRUMENT_ID = HRSC
INSTRUMENT_NAME = "HIGH RESOLUTION STEREO CAMERA"
MISSION_NAME = "MARS EXPRESS"
MISSION_PHASE_NAME = ME_Phase_9
PROCESSING_LEVEL_ID = 3
PRODUCT_CREATION_TIME = 2016-04-26T01:56:16.000Z
PRODUCT_ID = "H4674_0001_SR3.JP2"
RELEASE_ID = 0053
REVISION_ID = 0000
/* QUALITY DATA ELEMENTS */
DATA_QUALITY_ID = 1
DATA_QUALITY_DESC = "Data calculated based on original SPICE kernels"
/* TIME DATA ELEMENTS */
SPACECRAFT_CLOCK_START_COUNT = "1/0136033286.09066"
SPACECRAFT_CLOCK_STOP_COUNT = "1/0136033690.21070"
IMAGE_TIME = 2007-08-24T11:02:13.919Z
START_TIME = 2007-08-24T11:02:13.661Z
STOP_TIME = 2007-08-24T11:02:14.177Z
/* ORBITAL DATA ELEMENTS */
ASCENDING_NODE_LONGITUDE = 130.65
MAXIMUM_RESOLUTION = 3.435
FOOTPRINT_POINT_LATITUDE = (-83.36,-83.3626,-83.3643,-83.3665, -83.3681,-83.3702,-83.3724,-83.3742, -83.3767,-83.3797,-83.381,-83.3832, -83.3849,-83.3874,-83.3889,-83.3912, -83.3934,-83.395,-83.3972,-83.3985, -83.4005,-83.4023,-83.4038,-83.4056, -83.4072,-83.4088,-83.4076,-83.4062, -83.405,-83.4039,-83.4027,-83.4018, -83.4007,-83.3995,-83.3984,-83.3972, -83.3958,-83.3946,-83.3935,-83.3923, -83.3912,-83.3897,-83.3886,-83.3877, -83.3865,-83.3854,-83.3842,-83.3831, -83.3822,-83.381,-83.3796,-83.3779, -83.3758,-83.3729,-83.3709,-83.3686, -83.3667,-83.3644,-83.3621,-83.3595, -83.3573,-83.3557,-83.3531,-83.3515, -83.3493,-83.3473,-83.3458,-83.3436, -83.3416,-83.3402,-83.3385,-83.3364, -83.3347,-83.3324,-83.3307,-83.3289, -83.33,-83.3312,-83.332,-83.3335, -83.3346,-83.3358,-83.3369,-83.3384, -83.3398,-83.341,-83.3424,-83.3435, -83.3444,-83.3458,-83.347,-83.3478, -83.3493,-83.3504,-83.3515,-83.3533, -83.3547,-83.3558,-83.357,-83.36)
FOOTPRINT_POINT_LONGITUDE = (167.882,167.869,167.861,167.85,167.843 ,167.832,167.821,167.813,167.8,167.786, 167.779,167.769,167.76,167.748,167.741, 167.73,167.719,167.711,167.7,167.694, 167.684,167.675,167.668,167.659,167.651 ,167.643,167.625,167.603,167.585, 167.568,167.55,167.537,167.519,167.502, 167.484,167.466,167.444,167.427,167.409 ,167.392,167.374,167.352,167.335, 167.321,167.304,167.286,167.269,167.251 ,167.238,167.221,167.199,167.204, 167.214,167.229,167.238,167.25,167.259, 167.271,167.282,167.296,167.306,167.314 ,167.327,167.335,167.346,167.356, 167.363,167.374,167.384,167.391,167.399 ,167.41,167.418,167.429,167.438,167.453 ,167.471,167.488,167.501,167.523,167.54 ,167.558,167.575,167.597,167.619, 167.636,167.658,167.676,167.689,167.711 ,167.728,167.741,167.763,167.781, 167.798,167.824,167.846,167.864,167.881 ,167.882)
ORBIT_NUMBER = 4674
ORBITAL_ECCENTRICITY = 0.57
ORBITAL_INCLINATION = 86.68
ORBITAL_SEMIMAJOR_AXIS = 8536.69
PERIAPSIS_ALTITUDE = 296.16
PERIAPSIS_ARGUMENT_ANGLE = 255.68
PERIAPSIS_TIME = 2007-08-24T10:57:08.000Z
SPACECRAFT_ORIENTATION = (0.0,-1.0,0.0)
^MEX_ORIENTATION_DESC = "MEX_ORIENTATION_DESC.TXT"
SPACECRAFT_POINTING_MODE = NADIR
^MEX_POINTING_DESC = "MEX_POINTING_DESC.TXT"
RIGHT_ASCENSION = -1e+32
DECLINATION = -1e+32
OFFSET_ANGLE = -1e+32
SPACECRAFT_SOLAR_DISTANCE = 2.13233e+08
TARGET_NAME = MARS
/* CAMERA DATA ELEMENTS */
BUFFER_MODE_ID = BUFFER_8
EXPOSURE_DURATION = 516.096
INST_CMPRS_NAME = NONE
INST_CMPRS_RATIO = 1.0
INST_CMPRS_QUALITY = -2147483648
INST_CMPRS_QUANTZ_TBL_ID = -2147483648
INSTRUMENT_TEMPERATURE = 4.72309
MISSING_FRAMES = 0
START_BIT = 0
/* RADIOMETRIC DATA ELEMENTS */
BANDWIDTH = 250.0
CENTER_FILTER_WAVELENGTH = 600.0
RADIANCE_OFFSET = -9.99e+31
RADIANCE_SCALING_FACTOR = -9.99e+31
REFLECTANCE_SCALING_FACTOR = -9.99e+31
MEX:REFLECTANCE_OFFSET = -9.99e+31
/* IMAGE OBJECT DEFINITIONS */
OBJECT = IMAGE
  INTERCHANGE_FORMAT = BINARY
  LINES = 2043
  LINE_SAMPLES = 2044
  SAMPLE_TYPE = UNSIGNED_INTEGER
  SAMPLE_BITS = 8
  BANDS = 1
  BAND_STORAGE_TYPE = BAND_SEQUENTIAL
  MAXIMUM = 255
  MEAN = 254.995
  MINIMUM = 32
  STANDARD_DEVIATION = 0.650035
END_OBJECT = IMAGE
/* MAP OBJECT DEFINITIONS */
OBJECT = IMAGE_MAP_PROJECTION
  ^DATA_SET_MAP_PROJECTION_CATALOG= "DSMAP.CAT"
  A_AXIS_RADIUS = 3396.19
  B_AXIS_RADIUS = 3396.19
  C_AXIS_RADIUS = 3396.19
  CENTER_LATITUDE = 0.0
  CENTER_LONGITUDE = 168.0
  COORDINATE_SYSTEM_NAME = PLANETOGRAPHIC
  COORDINATE_SYSTEM_TYPE = "BODY-FIXED ROTATING"
  EASTERNMOST_LONGITUDE = 167.882
  FIRST_STANDARD_PARALLEL = "N/A"
  LINE_FIRST_PIXEL = 1
  LINE_LAST_PIXEL = 2043
  LINE_PROJECTION_OFFSET = -1970297.0
  MAP_PROJECTION_ROTATION = 0.0
  MAP_PROJECTION_TYPE = SINUSOIDAL
  MAP_RESOLUTION = 23709.8786048756
  MAP_SCALE = 0.0025
  MAXIMUM_LATITUDE = -83.3289
  MINIMUM_LATITUDE = -83.4088
  POSITIVE_LONGITUDE_DIRECTION = EAST
  REFERENCE_LATITUDE = "N/A"
  REFERENCE_LONGITUDE = "N/A"
  SAMPLE_FIRST_PIXEL = 1
  SAMPLE_LAST_PIXEL = 2044
  SAMPLE_PROJECTION_OFFSET = 2270.0
  SECOND_STANDARD_PARALLEL = "N/A"
  WESTERNMOST_LONGITUDE = 167.199
END_OBJECT = IMAGE_MAP_PROJECTION
/* The JPEG2000 image data file associated with this label. */
OBJECT = COMPRESSED_FILE
  FILE_NAME = "H4674_0001_SR3.JP2"
  RECORD_TYPE = UNDEFINED
  FILE_RECORDS = UNK
  ENCODING_TYPE = "JP2"
  INTERCHANGE_FORMAT = BINARY
  UNCOMPRESSED_FILE_NAME = "H4674_0001_SR3.IMG"
  REQUIRED_STORAGE_BYTES = "4196332"
  ^DESCRIPTION = "JP2INFO.TXT"
END_OBJECT = COMPRESSED_FILE
END
