PDS_VERSION_ID = PDS3
/* FILE DATA ELEMENTS */
RECORD_TYPE = STREAM
/* POINTERS TO DATA OBJECTS */
^COMPRESSED_FILE = "H4678_0000_BL3.JP2"
/* IDENTIFICATION DATA ELEMENTS */
DATA_SET_ID = "MEX-M-HRSC-5-REFDR-MAPPROJECTED-V3.0"
DATA_SET_NAME = "MARS EXPRESS HRSC MAP PROJECTED REFDR V3.0"
DETECTOR_ID = MEX_HRSC_BLUE
EVENT_TYPE = "MARS-REGIONAL-MAPPING-Gl-Eo-La"
INSTRUMENT_HOST_ID = MEX
INSTRUMENT_HOST_NAME = "MARS EXPRESS"
INSTRUMENT_ID = HRSC
INSTRUMENT_NAME = "HIGH RESOLUTION STEREO CAMERA"
MISSION_NAME = "MARS EXPRESS"
MISSION_PHASE_NAME = ME_Phase_9
PROCESSING_LEVEL_ID = 3
PRODUCT_CREATION_TIME = 2016-04-26T01:56:16.000Z
PRODUCT_ID = "H4678_0000_BL3.JP2"
RELEASE_ID = 0053
REVISION_ID = 0000
/* QUALITY DATA ELEMENTS */
DATA_QUALITY_ID = 1
DATA_QUALITY_DESC = "Data calculated based on original SPICE kernels"
/* TIME DATA ELEMENTS */
SPACECRAFT_CLOCK_START_COUNT = "1/0136130080.08236"
SPACECRAFT_CLOCK_STOP_COUNT = "1/0136130429.37691"
START_TIME = 2007-08-25T13:55:24.351Z
STOP_TIME = 2007-08-25T13:59:35.490Z
/* ORBITAL DATA ELEMENTS */
ASCENDING_NODE_LONGITUDE = 130.57
MAXIMUM_RESOLUTION = 62.1
FOOTPRINT_POINT_LATITUDE = (-83.112,-83.3094,-83.4116,-83.0542, -82.8135,-82.5714,-82.2057,-81.9617, -81.7106,-81.459,-81.2091,-80.9533, -80.6925,-80.4321,-80.1714,-79.9054, -79.6379,-79.3704,-78.9621,-78.688, -78.4147,-78.1332,-77.8525,-77.4284, -77.1415,-76.8549,-76.5628,-76.1239, -75.6777,-75.3796,-74.9247,-74.6209, -74.312,-74.0024,-73.6893,-73.3751, -72.8973,-72.5778,-72.2528,-71.7628, -71.4327,-71.0989,-70.7635,-70.4237, -69.9101,-69.39,-68.9648,-68.9098, -68.8731,-68.836,-68.7984,-68.736, -68.8823,-69.2292,-69.5709,-69.911, -70.2476,-70.7473,-71.0779,-71.404, -71.7283,-72.0491,-72.3683,-72.6834, -72.9972,-73.3074,-73.6171,-73.9212, -74.226,-74.5251,-74.9735,-75.266, -75.7043,-75.991,-76.2777,-76.7011, -76.9814,-77.2595,-77.5331,-77.8064, -78.0771,-78.3435,-78.6096,-79.0026, -79.39,-79.6471,-79.8976,-80.1473, -80.3962,-80.6405,-80.881,-81.1203, -81.3584,-81.5898,-81.8187,-82.0459, -82.2713,-82.4945,-82.7155,-83.112)
FOOTPRINT_POINT_LONGITUDE = (132.82,135.749,139.782,141.173,142.018 ,142.804,143.887,144.557,145.202, 145.809,146.391,146.926,147.441,147.93, 148.392,148.838,149.262,149.665,150.24, 150.603,150.95,151.28,151.599,152.051, 152.34,152.615,152.881,153.261,153.622, 153.852,154.182,154.391,154.597,154.792 ,154.983,155.168,155.434,155.603,155.77 ,156.009,156.162,156.31,156.452,156.592 ,156.791,156.983,156.514,155.216, 154.442,153.721,153.054,152.03,151.528, 151.369,151.206,151.038,150.865,150.595 ,150.407,150.215,150.018,149.814, 149.601,149.388,149.162,148.927,148.681 ,148.434,148.172,147.902,147.47,147.179 ,146.721,146.398,146.062,145.534, 145.163,144.776,144.376,143.957,143.523 ,143.073,142.599,141.853,141.061, 140.498,139.92,139.307,138.657,137.972, 137.282,136.543,135.752,134.934,134.081 ,133.173,132.211,131.188,130.101, 132.82)
ORBIT_NUMBER = 4678
ORBITAL_ECCENTRICITY = 0.57
ORBITAL_INCLINATION = 86.68
ORBITAL_SEMIMAJOR_AXIS = 8536.72
PERIAPSIS_ALTITUDE = 297.05
PERIAPSIS_ARGUMENT_ANGLE = 254.98
PERIAPSIS_TIME = 2007-08-25T13:49:59.000Z
SPACECRAFT_ORIENTATION = (0.0,-1.0,0.0)
^MEX_ORIENTATION_DESC = "MEX_ORIENTATION_DESC.TXT"
SPACECRAFT_POINTING_MODE = ACROSSTRACK
^MEX_POINTING_DESC = "MEX_POINTING_DESC.TXT"
RIGHT_ASCENSION = -1e+32
DECLINATION = -1e+32
OFFSET_ANGLE = 0.1
SPACECRAFT_SOLAR_DISTANCE = 2.13402e+08
TARGET_NAME = MARS
/* CAMERA DATA ELEMENTS */
DETECTOR_TEMPERATURE = 18.1666
FOCAL_PLANE_TEMPERATURE = 8.7872
INST_CMPRS_NAME = "DISCRETE COSINE TRANSFORMATION (DCT)"
INST_CMPRS_RATIO = 13.3869
INST_CMPRS_QUALITY = 0
INST_CMPRS_QUANTZ_TBL_ID = 0
INSTRUMENT_TEMPERATURE = 11.234
LENS_TEMPERATURE = 8.9911
MACROPIXEL_SIZE = 4
MISSING_FRAMES = 0
PIXEL_SUBSAMPLING_FLAG = N
SIGNAL_CHAIN_ID = 2
/* RADIOMETRIC DATA ELEMENTS */
BANDWIDTH = 76.0
CENTER_FILTER_WAVELENGTH = 444.0
RADIANCE_OFFSET = 0.689954
RADIANCE_SCALING_FACTOR = 0.00150895
REFLECTANCE_SCALING_FACTOR = 7.06042e-05
MEX:REFLECTANCE_OFFSET = 0.0322832
/* IMAGE OBJECT DEFINITIONS */
OBJECT = IMAGE
  INTERCHANGE_FORMAT = BINARY
  LINES = 17549
  LINE_SAMPLES = 6307
  SAMPLE_TYPE = UNSIGNED_INTEGER
  SAMPLE_BITS = 8
  BANDS = 1
  BAND_STORAGE_TYPE = BAND_SEQUENTIAL
  MAXIMUM = 255
  MEAN = 135.482
  MINIMUM = 1
  STANDARD_DEVIATION = 50.9566
END_OBJECT = IMAGE
/* MAP OBJECT DEFINITIONS */
OBJECT = IMAGE_MAP_PROJECTION
  ^DATA_SET_MAP_PROJECTION_CATALOG= "DSMAP.CAT"
  A_AXIS_RADIUS = 3396.0
  B_AXIS_RADIUS = 3396.0
  C_AXIS_RADIUS = 3396.0
  CENTER_LATITUDE = 0.0
  CENTER_LONGITUDE = 149.0
  COORDINATE_SYSTEM_NAME = PLANETOGRAPHIC
  COORDINATE_SYSTEM_TYPE = "BODY-FIXED ROTATING"
  EASTERNMOST_LONGITUDE = 156.983
  FIRST_STANDARD_PARALLEL = "N/A"
  LINE_FIRST_PIXEL = 1
  LINE_LAST_PIXEL = 17549
  LINE_PROJECTION_OFFSET = -81473.375
  MAP_PROJECTION_ROTATION = 0.0
  MAP_PROJECTION_TYPE = SINUSOIDAL
  MAP_RESOLUTION = 1185.42760773333
  MAP_SCALE = 0.05
  MAXIMUM_LATITUDE = -68.736
  MINIMUM_LATITUDE = -83.41160000000001
  POSITIVE_LONGITUDE_DIRECTION = EAST
  REFERENCE_LATITUDE = "N/A"
  REFERENCE_LONGITUDE = "N/A"
  SAMPLE_FIRST_PIXEL = 1
  SAMPLE_LAST_PIXEL = 6307
  SAMPLE_PROJECTION_OFFSET = 2848.125
  SECOND_STANDARD_PARALLEL = "N/A"
  WESTERNMOST_LONGITUDE = 130.101
END_OBJECT = IMAGE_MAP_PROJECTION
/* The JPEG2000 image data file associated with this label. */
OBJECT = COMPRESSED_FILE
  FILE_NAME = "H4678_0000_BL3.JP2"
  RECORD_TYPE = UNDEFINED
  FILE_RECORDS = UNK
  ENCODING_TYPE = "JP2"
  INTERCHANGE_FORMAT = BINARY
  UNCOMPRESSED_FILE_NAME = "H4678_0000_BL3.IMG"
  REQUIRED_STORAGE_BYTES = "110713078"
  ^DESCRIPTION = "JP2INFO.TXT"
END_OBJECT = COMPRESSED_FILE
END
