PDS_VERSION_ID = PDS3
/* FILE DATA ELEMENTS */
RECORD_TYPE = STREAM
/* POINTERS TO DATA OBJECTS */
^COMPRESSED_FILE = "H4678_0000_P13.JP2"
/* IDENTIFICATION DATA ELEMENTS */
DATA_SET_ID = "MEX-M-HRSC-5-REFDR-MAPPROJECTED-V3.0"
DATA_SET_NAME = "MARS EXPRESS HRSC MAP PROJECTED REFDR V3.0"
DETECTOR_ID = MEX_HRSC_P1
EVENT_TYPE = "MARS-REGIONAL-MAPPING-Gl-Eo-La"
INSTRUMENT_HOST_ID = MEX
INSTRUMENT_HOST_NAME = "MARS EXPRESS"
INSTRUMENT_ID = HRSC
INSTRUMENT_NAME = "HIGH RESOLUTION STEREO CAMERA"
MISSION_NAME = "MARS EXPRESS"
MISSION_PHASE_NAME = ME_Phase_9
PROCESSING_LEVEL_ID = 3
PRODUCT_CREATION_TIME = 2016-04-26T01:56:16.000Z
PRODUCT_ID = "H4678_0000_P13.JP2"
RELEASE_ID = 0053
REVISION_ID = 0000
/* QUALITY DATA ELEMENTS */
DATA_QUALITY_ID = 1
DATA_QUALITY_DESC = "Data calculated based on original SPICE kernels"
/* TIME DATA ELEMENTS */
SPACECRAFT_CLOCK_START_COUNT = "1/0136130080.08236"
SPACECRAFT_CLOCK_STOP_COUNT = "1/0136130429.37691"
START_TIME = 2007-08-25T13:54:55.496Z
STOP_TIME = 2007-08-25T13:58:49.502Z
/* ORBITAL DATA ELEMENTS */
ASCENDING_NODE_LONGITUDE = 130.57
MAXIMUM_RESOLUTION = 30.6
FOOTPRINT_POINT_LATITUDE = (-83.1804,-83.3489,-83.5482,-83.1705, -82.9221,-82.6733,-82.2989,-81.9198, -81.6655,-81.4091,-81.1494,-80.8959, -80.6407,-80.3839,-80.1267,-79.7296, -79.464,-79.1982,-78.9275,-78.6537, -78.3775,-78.1061,-77.8253,-77.5444, -77.2638,-76.9773,-76.5466,-76.1103, -75.8158,-75.5211,-75.2218,-74.9206, -74.6197,-74.3114,-74.0049,-73.6946, -73.3787,-73.0656,-72.7462,-72.4255, -71.9379,-71.6117,-71.2809,-70.784, -70.4461,-70.1096,-69.7671,-69.424, -68.9962,-68.949,-68.9161,-68.8661, -68.7854,-69.0824,-69.4223,-69.7625, -70.0968,-70.5963,-70.9246,-71.2525, -71.5758,-72.0585,-72.3734,-72.6945, -73.0051,-73.4686,-73.9243,-74.2276, -74.524,-74.8147,-75.1137,-75.4037, -75.6945,-75.9821,-76.2639,-76.5455, -76.9632,-77.2364,-77.5088,-77.9136, -78.1789,-78.444,-78.7068,-78.9653, -79.2221,-79.478,-79.8559,-80.1032, -80.348,-80.5898,-80.8365,-81.0815, -81.3222,-81.5597,-81.7986,-82.1527, -82.3864,-82.6173,-82.8452,-83.1804)
FOOTPRINT_POINT_LONGITUDE = (132.271,134.657,137.922,140.571, 141.479,142.316,143.46,144.51,145.158, 145.774,146.367,146.89,147.39,147.868, 148.32,148.973,149.38,149.767,150.142, 150.502,150.852,151.168,151.485,151.788 ,152.076,152.356,152.753,153.13,153.37, 153.601,153.825,154.042,154.248,154.453 ,154.645,154.835,155.022,155.197, 155.369,155.536,155.778,155.931,156.081 ,156.294,156.432,156.564,156.693, 156.818,156.568,155.458,154.703,153.803 ,152.509,151.64,151.48,151.314,151.144, 150.878,150.695,150.504,150.31,150.005, 149.793,149.576,149.352,148.996,148.626 ,148.366,148.099,147.816,147.531, 147.236,146.928,146.606,146.276,145.931 ,145.387,145.009,144.613,143.991, 143.557,143.102,142.626,142.137,141.623 ,141.083,140.233,139.635,139.004, 138.339,137.638,136.896,136.111,135.28, 134.398,132.973,131.946,130.853,129.688 ,132.271)
ORBIT_NUMBER = 4678
ORBITAL_ECCENTRICITY = 0.57
ORBITAL_INCLINATION = 86.68
ORBITAL_SEMIMAJOR_AXIS = 8536.72
PERIAPSIS_ALTITUDE = 297.05
PERIAPSIS_ARGUMENT_ANGLE = 254.98
PERIAPSIS_TIME = 2007-08-25T13:49:59.000Z
SPACECRAFT_ORIENTATION = (0.0,-1.0,0.0)
^MEX_ORIENTATION_DESC = "MEX_ORIENTATION_DESC.TXT"
SPACECRAFT_POINTING_MODE = ACROSSTRACK
^MEX_POINTING_DESC = "MEX_POINTING_DESC.TXT"
RIGHT_ASCENSION = -1e+32
DECLINATION = -1e+32
OFFSET_ANGLE = 0.1
SPACECRAFT_SOLAR_DISTANCE = 2.13402e+08
TARGET_NAME = MARS
/* CAMERA DATA ELEMENTS */
DETECTOR_TEMPERATURE = 17.351
FOCAL_PLANE_TEMPERATURE = 8.7872
INST_CMPRS_NAME = "DISCRETE COSINE TRANSFORMATION (DCT)"
INST_CMPRS_RATIO = 12.9316
INST_CMPRS_QUALITY = 0
INST_CMPRS_QUANTZ_TBL_ID = 0
INSTRUMENT_TEMPERATURE = 11.234
LENS_TEMPERATURE = 8.9911
MACROPIXEL_SIZE = 2
MISSING_FRAMES = 0
PIXEL_SUBSAMPLING_FLAG = N
SIGNAL_CHAIN_ID = 3
/* RADIOMETRIC DATA ELEMENTS */
BANDWIDTH = 174.0
CENTER_FILTER_WAVELENGTH = 675.0
RADIANCE_OFFSET = 4.28251
RADIANCE_SCALING_FACTOR = 0.0169541
REFLECTANCE_SCALING_FACTOR = 0.000415299
MEX:REFLECTANCE_OFFSET = 0.104902
/* IMAGE OBJECT DEFINITIONS */
OBJECT = IMAGE
  INTERCHANGE_FORMAT = BINARY
  LINES = 35097
  LINE_SAMPLES = 12614
  SAMPLE_TYPE = UNSIGNED_INTEGER
  SAMPLE_BITS = 8
  BANDS = 1
  BAND_STORAGE_TYPE = BAND_SEQUENTIAL
  MAXIMUM = 255
  MEAN = 111.066
  MINIMUM = 1
  STANDARD_DEVIATION = 49.4089
END_OBJECT = IMAGE
/* MAP OBJECT DEFINITIONS */
OBJECT = IMAGE_MAP_PROJECTION
  ^DATA_SET_MAP_PROJECTION_CATALOG= "DSMAP.CAT"
  A_AXIS_RADIUS = 3396.0
  B_AXIS_RADIUS = 3396.0
  C_AXIS_RADIUS = 3396.0
  CENTER_LATITUDE = 0.0
  CENTER_LONGITUDE = 149.0
  COORDINATE_SYSTEM_NAME = PLANETOGRAPHIC
  COORDINATE_SYSTEM_TYPE = "BODY-FIXED ROTATING"
  EASTERNMOST_LONGITUDE = 156.818
  FIRST_STANDARD_PARALLEL = "N/A"
  LINE_FIRST_PIXEL = 1
  LINE_LAST_PIXEL = 35097
  LINE_PROJECTION_OFFSET = -162946.25
  MAP_PROJECTION_ROTATION = 0.0
  MAP_PROJECTION_TYPE = SINUSOIDAL
  MAP_RESOLUTION = 2370.85521546667
  MAP_SCALE = 0.025
  MAXIMUM_LATITUDE = -68.7854
  MINIMUM_LATITUDE = -83.54819999999999
  POSITIVE_LONGITUDE_DIRECTION = EAST
  REFERENCE_LATITUDE = "N/A"
  REFERENCE_LONGITUDE = "N/A"
  SAMPLE_FIRST_PIXEL = 1
  SAMPLE_LAST_PIXEL = 12614
  SAMPLE_PROJECTION_OFFSET = 5696.75
  SECOND_STANDARD_PARALLEL = "N/A"
  WESTERNMOST_LONGITUDE = 129.688
END_OBJECT = IMAGE_MAP_PROJECTION
/* The JPEG2000 image data file associated with this label. */
OBJECT = COMPRESSED_FILE
  FILE_NAME = "H4678_0000_P13.JP2"
  RECORD_TYPE = UNDEFINED
  FILE_RECORDS = UNK
  ENCODING_TYPE = "JP2"
  INTERCHANGE_FORMAT = BINARY
  UNCOMPRESSED_FILE_NAME = "H4678_0000_P13.IMG"
  REQUIRED_STORAGE_BYTES = "442751400"
  ^DESCRIPTION = "JP2INFO.TXT"
END_OBJECT = COMPRESSED_FILE
END
