PDS_VERSION_ID = PDS3
/* FILE DATA ELEMENTS */
RECORD_TYPE = STREAM
/* POINTERS TO DATA OBJECTS */
^COMPRESSED_FILE = "H4678_0000_S23.JP2"
/* IDENTIFICATION DATA ELEMENTS */
DATA_SET_ID = "MEX-M-HRSC-5-REFDR-MAPPROJECTED-V3.0"
DATA_SET_NAME = "MARS EXPRESS HRSC MAP PROJECTED REFDR V3.0"
DETECTOR_ID = MEX_HRSC_S2
EVENT_TYPE = "MARS-REGIONAL-MAPPING-Gl-Eo-La"
INSTRUMENT_HOST_ID = MEX
INSTRUMENT_HOST_NAME = "MARS EXPRESS"
INSTRUMENT_ID = HRSC
INSTRUMENT_NAME = "HIGH RESOLUTION STEREO CAMERA"
MISSION_NAME = "MARS EXPRESS"
MISSION_PHASE_NAME = ME_Phase_9
PROCESSING_LEVEL_ID = 3
PRODUCT_CREATION_TIME = 2016-04-26T01:56:16.000Z
PRODUCT_ID = "H4678_0000_S23.JP2"
RELEASE_ID = 0053
REVISION_ID = 0000
/* QUALITY DATA ELEMENTS */
DATA_QUALITY_ID = 1
DATA_QUALITY_DESC = "Data calculated based on original SPICE kernels"
/* TIME DATA ELEMENTS */
SPACECRAFT_CLOCK_START_COUNT = "1/0136130080.08236"
SPACECRAFT_CLOCK_STOP_COUNT = "1/0136130429.37691"
START_TIME = 2007-08-25T13:55:56.889Z
STOP_TIME = 2007-08-25T14:00:31.629Z
/* ORBITAL DATA ELEMENTS */
ASCENDING_NODE_LONGITUDE = 130.57
MAXIMUM_RESOLUTION = 34.8
FOOTPRINT_POINT_LATITUDE = (-82.863,-82.9944,-83.1,-83.2006, -83.3363,-83.5149,-83.2859,-83.0515, -82.8129,-82.5642,-82.3186,-81.9477, -81.6968,-81.4462,-81.2006,-80.9385, -80.5462,-80.2811,-80.0158,-79.6158, -79.3452,-79.0751,-78.8005,-78.5293, -78.2486,-77.9658,-77.6854,-77.3998, -76.9706,-76.6784,-76.3862,-76.0915, -75.796,-75.4976,-75.1977,-74.8941, -74.5889,-74.283,-73.9735,-73.6612, -73.3476,-73.0324,-72.5532,-72.0695, -71.5799,-71.0834,-70.5804,-70.0683, -69.7248,-69.3785,-69.0312,-68.9512, -68.8944,-68.8514,-68.7883,-68.6936, -69.0399,-69.3814,-69.8898,-70.2243, -70.5573,-70.8866,-71.2133,-71.5359, -71.8548,-72.3304,-72.7975,-73.1078, -73.417,-73.8733,-74.1764,-74.4758, -74.7802,-75.0731,-75.5075,-75.7967, -76.2263,-76.6521,-76.9318,-77.2124, -77.4874,-77.8979,-78.1656,-78.4338, -78.8295,-79.0923,-79.3493,-79.6031, -79.8567,-80.1084,-80.4837,-80.7301, -80.9646,-81.3226,-81.559,-81.7865, -82.0139,-82.3491,-82.5662,-82.863)
FOOTPRINT_POINT_LONGITUDE = (131.279,133.051,134.591,136.172, 138.522,139.885,140.82,141.696,142.523, 143.309,144.04,145.057,145.692,146.287, 146.85,147.392,148.144,148.62,149.07, 149.705,150.106,150.486,150.854,151.205 ,151.538,151.861,152.168,152.466, 152.887,153.158,153.415,153.665,153.905 ,154.138,154.361,154.578,154.786, 154.989,155.184,155.374,155.557,155.736 ,155.993,156.238,156.473,156.697, 156.912,157.116,157.248,157.376,157.503 ,156.627,155.247,154.353,153.042,151.36 ,151.207,151.049,150.803,150.633, 150.456,150.275,150.087,149.896,149.7, 149.39,149.069,148.843,148.605,148.239, 147.981,147.714,147.421,147.138,146.698 ,146.384,145.888,145.361,144.993, 144.605,144.205,143.573,143.135,142.673 ,141.945,141.427,140.9,140.348,139.765, 139.149,138.149,137.452,136.764,135.602 ,134.769,133.925,133.019,131.569, 130.543,131.279)
ORBIT_NUMBER = 4678
ORBITAL_ECCENTRICITY = 0.57
ORBITAL_INCLINATION = 86.68
ORBITAL_SEMIMAJOR_AXIS = 8536.72
PERIAPSIS_ALTITUDE = 297.05
PERIAPSIS_ARGUMENT_ANGLE = 254.98
PERIAPSIS_TIME = 2007-08-25T13:49:59.000Z
SPACECRAFT_ORIENTATION = (0.0,-1.0,0.0)
^MEX_ORIENTATION_DESC = "MEX_ORIENTATION_DESC.TXT"
SPACECRAFT_POINTING_MODE = ACROSSTRACK
^MEX_POINTING_DESC = "MEX_POINTING_DESC.TXT"
RIGHT_ASCENSION = -1e+32
DECLINATION = -1e+32
OFFSET_ANGLE = 0.1
SPACECRAFT_SOLAR_DISTANCE = 2.13402e+08
TARGET_NAME = MARS
/* CAMERA DATA ELEMENTS */
DETECTOR_TEMPERATURE = 18.7783
FOCAL_PLANE_TEMPERATURE = 8.7872
INST_CMPRS_NAME = "DISCRETE COSINE TRANSFORMATION (DCT)"
INST_CMPRS_RATIO = 12.7637
INST_CMPRS_QUALITY = 0
INST_CMPRS_QUANTZ_TBL_ID = 0
INSTRUMENT_TEMPERATURE = 11.234
LENS_TEMPERATURE = 8.9911
MACROPIXEL_SIZE = 2
MISSING_FRAMES = 0
PIXEL_SUBSAMPLING_FLAG = N
SIGNAL_CHAIN_ID = 1
/* RADIOMETRIC DATA ELEMENTS */
BANDWIDTH = 178.0
CENTER_FILTER_WAVELENGTH = 679.0
RADIANCE_OFFSET = 4.26187
RADIANCE_SCALING_FACTOR = 0.0178527
REFLECTANCE_SCALING_FACTOR = 0.000430561
MEX:REFLECTANCE_OFFSET = 0.102785
/* IMAGE OBJECT DEFINITIONS */
OBJECT = IMAGE
  INTERCHANGE_FORMAT = BINARY
  LINES = 35097
  LINE_SAMPLES = 12614
  SAMPLE_TYPE = UNSIGNED_INTEGER
  SAMPLE_BITS = 8
  BANDS = 1
  BAND_STORAGE_TYPE = BAND_SEQUENTIAL
  MAXIMUM = 255
  MEAN = 119.151
  MINIMUM = 1
  STANDARD_DEVIATION = 51.9891
END_OBJECT = IMAGE
/* MAP OBJECT DEFINITIONS */
OBJECT = IMAGE_MAP_PROJECTION
  ^DATA_SET_MAP_PROJECTION_CATALOG= "DSMAP.CAT"
  A_AXIS_RADIUS = 3396.0
  B_AXIS_RADIUS = 3396.0
  C_AXIS_RADIUS = 3396.0
  CENTER_LATITUDE = 0.0
  CENTER_LONGITUDE = 149.0
  COORDINATE_SYSTEM_NAME = PLANETOGRAPHIC
  COORDINATE_SYSTEM_TYPE = "BODY-FIXED ROTATING"
  EASTERNMOST_LONGITUDE = 157.503
  FIRST_STANDARD_PARALLEL = "N/A"
  LINE_FIRST_PIXEL = 1
  LINE_LAST_PIXEL = 35097
  LINE_PROJECTION_OFFSET = -162946.25
  MAP_PROJECTION_ROTATION = 0.0
  MAP_PROJECTION_TYPE = SINUSOIDAL
  MAP_RESOLUTION = 2370.85521546667
  MAP_SCALE = 0.025
  MAXIMUM_LATITUDE = -68.6936
  MINIMUM_LATITUDE = -83.5149
  POSITIVE_LONGITUDE_DIRECTION = EAST
  REFERENCE_LATITUDE = "N/A"
  REFERENCE_LONGITUDE = "N/A"
  SAMPLE_FIRST_PIXEL = 1
  SAMPLE_LAST_PIXEL = 12614
  SAMPLE_PROJECTION_OFFSET = 5696.75
  SECOND_STANDARD_PARALLEL = "N/A"
  WESTERNMOST_LONGITUDE = 130.543
END_OBJECT = IMAGE_MAP_PROJECTION
/* The JPEG2000 image data file associated with this label. */
OBJECT = COMPRESSED_FILE
  FILE_NAME = "H4678_0000_S23.JP2"
  RECORD_TYPE = UNDEFINED
  FILE_RECORDS = UNK
  ENCODING_TYPE = "JP2"
  INTERCHANGE_FORMAT = BINARY
  UNCOMPRESSED_FILE_NAME = "H4678_0000_S23.IMG"
  REQUIRED_STORAGE_BYTES = "442751400"
  ^DESCRIPTION = "JP2INFO.TXT"
END_OBJECT = COMPRESSED_FILE
END
