PDS_VERSION_ID = PDS3
/* FILE DATA ELEMENTS */
RECORD_TYPE = STREAM
/* POINTERS TO DATA OBJECTS */
^COMPRESSED_FILE = "H4680_0000_BL3.JP2"
/* IDENTIFICATION DATA ELEMENTS */
DATA_SET_ID = "MEX-M-HRSC-5-REFDR-MAPPROJECTED-V3.0"
DATA_SET_NAME = "MARS EXPRESS HRSC MAP PROJECTED REFDR V3.0"
DETECTOR_ID = MEX_HRSC_BLUE
EVENT_TYPE = "MARS-REGIONAL-MAPPING-Im-Fl"
INSTRUMENT_HOST_ID = MEX
INSTRUMENT_HOST_NAME = "MARS EXPRESS"
INSTRUMENT_ID = HRSC
INSTRUMENT_NAME = "HIGH RESOLUTION STEREO CAMERA"
MISSION_NAME = "MARS EXPRESS"
MISSION_PHASE_NAME = ME_Phase_9
PROCESSING_LEVEL_ID = 3
PRODUCT_CREATION_TIME = 2016-04-26T01:56:16.000Z
PRODUCT_ID = "H4680_0000_BL3.JP2"
RELEASE_ID = 0053
REVISION_ID = 0000
/* QUALITY DATA ELEMENTS */
DATA_QUALITY_ID = 1
DATA_QUALITY_DESC = "Data calculated based on original SPICE kernels"
/* TIME DATA ELEMENTS */
SPACECRAFT_CLOCK_START_COUNT = "1/0136178667.08408"
SPACECRAFT_CLOCK_STOP_COUNT = "1/0136179129.32094"
START_TIME = 2007-08-26T03:25:30.183Z
STOP_TIME = 2007-08-26T03:30:26.714Z
/* ORBITAL DATA ELEMENTS */
ASCENDING_NODE_LONGITUDE = 130.53
MAXIMUM_RESOLUTION = 43.9
FOOTPRINT_POINT_LATITUDE = (-70.9083,-70.9766,-71.0461,-71.1235, -70.726,-70.1908,-69.6482,-69.0985, -68.821,-68.5413,-68.2603,-67.9764, -67.6917,-67.4042,-66.9699,-66.678, -66.3834,-65.9382,-65.6392,-65.3369, -65.0335,-64.7277,-64.4191,-64.109, -63.7962,-63.4809,-63.1638,-62.8446, -62.5219,-62.1971,-61.8701,-61.5415, -61.209,-60.8741,-60.5368,-60.1971, -59.8543,-59.3345,-58.9875,-58.6358, -58.2805,-57.7477,-57.388,-57.0359, -56.6892,-56.3398,-55.9895,-55.4672, -55.4515,-55.4433,-55.4258,-55.4022, -55.3634,-55.3301,-55.4715,-55.8157, -56.1612,-56.6776,-57.0291,-57.5554, -57.9077,-58.2618,-58.612,-58.9602, -59.3042,-59.6482,-59.9879,-60.3248, -60.6599,-60.9924,-61.3222,-61.6485, -61.9727,-62.2949,-62.6152,-62.9318, -63.2464,-63.5593,-63.8697,-64.1776, -64.4837,-64.7869,-65.0876,-65.5375, -65.8345,-66.1279,-66.4201,-66.7095, -67.1397,-67.4246,-67.7064,-67.9868, -68.2651,-68.5423,-68.8171,-69.3611, -69.8988,-70.4283,-70.8213,-70.9083)
FOOTPRINT_POINT_LONGITUDE = (315.87,317.12,318.596,320.132,320.293, 320.5,320.699,320.889,320.981,321.07, 321.159,321.245,321.329,321.412,321.532 ,321.611,321.688,321.8,321.872,321.944, 322.014,322.083,322.151,322.217,322.282 ,322.345,322.408,322.469,322.529, 322.588,322.646,322.704,322.759,322.814 ,322.868,322.92,322.97,323.044,323.1, 323.149,323.195,323.268,323.297,323.342 ,323.397,323.439,323.474,323.525, 322.969,322.353,321.53,320.707,319.628, 318.858,318.208,318.176,318.142,318.105 ,318.059,317.999,317.958,317.911, 317.867,317.819,317.773,317.716,317.663 ,317.609,317.551,317.493,317.433, 317.373,317.312,317.248,317.181,317.113 ,317.042,316.97,316.894,316.817,316.739 ,316.659,316.578,316.44,316.35,316.256, 316.163,316.067,315.922,315.821,315.719 ,315.617,315.509,315.397,315.282, 315.045,314.788,314.524,314.317,315.87)
ORBIT_NUMBER = 4680
ORBITAL_ECCENTRICITY = 0.57
ORBITAL_INCLINATION = 86.69
ORBITAL_SEMIMAJOR_AXIS = 8536.76
PERIAPSIS_ALTITUDE = 296.42
PERIAPSIS_ARGUMENT_ANGLE = 254.65
PERIAPSIS_TIME = 2007-08-26T03:16:26.000Z
SPACECRAFT_ORIENTATION = (0.0,-1.0,0.0)
^MEX_ORIENTATION_DESC = "MEX_ORIENTATION_DESC.TXT"
SPACECRAFT_POINTING_MODE = NADIR
^MEX_POINTING_DESC = "MEX_POINTING_DESC.TXT"
RIGHT_ASCENSION = -1e+32
DECLINATION = -1e+32
OFFSET_ANGLE = -1e+32
SPACECRAFT_SOLAR_DISTANCE = 2.13487e+08
TARGET_NAME = MARS
/* CAMERA DATA ELEMENTS */
DETECTOR_TEMPERATURE = 18.1666
FOCAL_PLANE_TEMPERATURE = 8.1755
INST_CMPRS_NAME = "DISCRETE COSINE TRANSFORMATION (DCT)"
INST_CMPRS_RATIO = 6.29419
INST_CMPRS_QUALITY = 0
INST_CMPRS_QUANTZ_TBL_ID = 0
INSTRUMENT_TEMPERATURE = 10.8262
LENS_TEMPERATURE = 8.5833
MACROPIXEL_SIZE = 2
MISSING_FRAMES = 0
PIXEL_SUBSAMPLING_FLAG = N
SIGNAL_CHAIN_ID = 2
/* RADIOMETRIC DATA ELEMENTS */
BANDWIDTH = 76.0
CENTER_FILTER_WAVELENGTH = 444.0
RADIANCE_OFFSET = 0.89764
RADIANCE_SCALING_FACTOR = 0.00145958
REFLECTANCE_SCALING_FACTOR = 6.83488e-05
MEX:REFLECTANCE_OFFSET = 0.0420345
/* IMAGE OBJECT DEFINITIONS */
OBJECT = IMAGE
  INTERCHANGE_FORMAT = BINARY
  LINES = 18767
  LINE_SAMPLES = 4529
  SAMPLE_TYPE = UNSIGNED_INTEGER
  SAMPLE_BITS = 8
  BANDS = 1
  BAND_STORAGE_TYPE = BAND_SEQUENTIAL
  MAXIMUM = 254
  MEAN = 131.11
  MINIMUM = 1
  STANDARD_DEVIATION = 37.3534
END_OBJECT = IMAGE
/* MAP OBJECT DEFINITIONS */
OBJECT = IMAGE_MAP_PROJECTION
  ^DATA_SET_MAP_PROJECTION_CATALOG= "DSMAP.CAT"
  A_AXIS_RADIUS = 3396.0
  B_AXIS_RADIUS = 3396.0
  C_AXIS_RADIUS = 3396.0
  CENTER_LATITUDE = 0.0
  CENTER_LONGITUDE = 320.0
  COORDINATE_SYSTEM_NAME = PLANETOGRAPHIC
  COORDINATE_SYSTEM_TYPE = "BODY-FIXED ROTATING"
  EASTERNMOST_LONGITUDE = 323.525
  FIRST_STANDARD_PARALLEL = "N/A"
  LINE_FIRST_PIXEL = 1
  LINE_LAST_PIXEL = 18767
  LINE_PROJECTION_OFFSET = -65538.75
  MAP_PROJECTION_ROTATION = 0.0
  MAP_PROJECTION_TYPE = SINUSOIDAL
  MAP_RESOLUTION = 1185.42760773333
  MAP_SCALE = 0.05
  MAXIMUM_LATITUDE = -55.3301
  MINIMUM_LATITUDE = -71.12350000000001
  POSITIVE_LONGITUDE_DIRECTION = EAST
  REFERENCE_LATITUDE = "N/A"
  REFERENCE_LONGITUDE = "N/A"
  SAMPLE_FIRST_PIXEL = 1
  SAMPLE_LAST_PIXEL = 4529
  SAMPLE_PROJECTION_OFFSET = 2176.25
  SECOND_STANDARD_PARALLEL = "N/A"
  WESTERNMOST_LONGITUDE = 314.317
END_OBJECT = IMAGE_MAP_PROJECTION
/* The JPEG2000 image data file associated with this label. */
OBJECT = COMPRESSED_FILE
  FILE_NAME = "H4680_0000_BL3.JP2"
  RECORD_TYPE = UNDEFINED
  FILE_RECORDS = UNK
  ENCODING_TYPE = "JP2"
  INTERCHANGE_FORMAT = BINARY
  UNCOMPRESSED_FILE_NAME = "H4680_0000_BL3.IMG"
  REQUIRED_STORAGE_BYTES = "85022917"
  ^DESCRIPTION = "JP2INFO.TXT"
END_OBJECT = COMPRESSED_FILE
END
