PDS_VERSION_ID = PDS3
/* FILE DATA ELEMENTS */
RECORD_TYPE = STREAM
/* POINTERS TO DATA OBJECTS */
^COMPRESSED_FILE = "H4680_0000_GR3.JP2"
/* IDENTIFICATION DATA ELEMENTS */
DATA_SET_ID = "MEX-M-HRSC-5-REFDR-MAPPROJECTED-V3.0"
DATA_SET_NAME = "MARS EXPRESS HRSC MAP PROJECTED REFDR V3.0"
DETECTOR_ID = MEX_HRSC_GREEN
EVENT_TYPE = "MARS-REGIONAL-MAPPING-Im-Fl"
INSTRUMENT_HOST_ID = MEX
INSTRUMENT_HOST_NAME = "MARS EXPRESS"
INSTRUMENT_ID = HRSC
INSTRUMENT_NAME = "HIGH RESOLUTION STEREO CAMERA"
MISSION_NAME = "MARS EXPRESS"
MISSION_PHASE_NAME = ME_Phase_9
PROCESSING_LEVEL_ID = 3
PRODUCT_CREATION_TIME = 2016-04-26T01:56:16.000Z
PRODUCT_ID = "H4680_0000_GR3.JP2"
RELEASE_ID = 0053
REVISION_ID = 0000
/* QUALITY DATA ELEMENTS */
DATA_QUALITY_ID = 1
DATA_QUALITY_DESC = "Data calculated based on original SPICE kernels"
/* TIME DATA ELEMENTS */
SPACECRAFT_CLOCK_START_COUNT = "1/0136178667.08408"
SPACECRAFT_CLOCK_STOP_COUNT = "1/0136179129.32094"
START_TIME = 2007-08-26T03:25:11.748Z
STOP_TIME = 2007-08-26T03:29:53.673Z
/* ORBITAL DATA ELEMENTS */
ASCENDING_NODE_LONGITUDE = 130.53
MAXIMUM_RESOLUTION = 42.6
FOOTPRINT_POINT_LATITUDE = (-70.8682,-70.9567,-71.0124,-71.0771, -71.1343,-70.6037,-70.2047,-69.6679, -69.3972,-68.9865,-68.7119,-68.433, -68.1543,-67.8719,-67.5893,-67.3031, -67.0166,-66.7262,-66.289,-65.9947, -65.6979,-65.4,-65.0985,-64.6433, -64.183,-63.8739,-63.5613,-63.2474, -62.9308,-62.6111,-62.2901,-61.9664, -61.6393,-61.3104,-60.9792,-60.6448, -60.3078,-59.9686,-59.6271,-59.2829, -58.9332,-58.5832,-58.2305,-57.8734, -57.3373,-56.7881,-56.4189,-56.0536, -55.6906,-55.4489,-55.4366,-55.4166, -55.3905,-55.3723,-55.35,-55.3276, -55.2846,-55.646,-56.0088,-56.3741, -56.7437,-57.1015,-57.6375,-58.168, -58.5179,-58.8648,-59.2098,-59.5504, -59.8892,-60.2251,-60.5582,-60.8893, -61.2179,-61.5433,-62.0279,-62.5064, -62.9798,-63.4473,-63.9093,-64.2151, -64.5184,-64.8193,-65.1193,-65.413, -65.7075,-65.9987,-66.2888,-66.5769, -67.0054,-67.2901,-67.5707,-67.9908, -68.2673,-68.5421,-68.8143,-69.0856, -69.622,-70.017,-70.5401,-70.8682)
FOOTPRINT_POINT_LONGITUDE = (314.634,316.05,317.054,318.381,319.773 ,320.257,320.411,320.607,320.702, 320.841,320.93,321.018,321.105,321.189, 321.271,321.352,321.431,321.509,321.622 ,321.696,321.767,321.838,321.907, 322.009,322.107,322.171,322.234,322.295 ,322.356,322.415,322.473,322.53,322.587 ,322.642,322.696,322.749,322.8,322.85, 322.898,322.946,323.001,323.046,323.09, 323.139,323.192,323.269,323.316,323.353 ,323.385,322.873,322.337,321.553, 320.719,320.228,319.689,319.2,318.35, 318.316,318.28,318.245,318.221,318.17, 318.105,318.038,317.993,317.945,317.897 ,317.842,317.788,317.734,317.677, 317.618,317.559,317.498,317.405,317.307 ,317.204,317.096,316.984,316.907, 316.828,316.748,316.666,316.575,316.485 ,316.394,316.301,316.207,316.062, 315.962,315.862,315.708,315.601,315.489 ,315.374,315.257,315.014,314.821, 314.556,314.634)
ORBIT_NUMBER = 4680
ORBITAL_ECCENTRICITY = 0.57
ORBITAL_INCLINATION = 86.69
ORBITAL_SEMIMAJOR_AXIS = 8536.76
PERIAPSIS_ALTITUDE = 296.42
PERIAPSIS_ARGUMENT_ANGLE = 254.65
PERIAPSIS_TIME = 2007-08-26T03:16:26.000Z
SPACECRAFT_ORIENTATION = (0.0,-1.0,0.0)
^MEX_ORIENTATION_DESC = "MEX_ORIENTATION_DESC.TXT"
SPACECRAFT_POINTING_MODE = NADIR
^MEX_POINTING_DESC = "MEX_POINTING_DESC.TXT"
RIGHT_ASCENSION = -1e+32
DECLINATION = -1e+32
OFFSET_ANGLE = -1e+32
SPACECRAFT_SOLAR_DISTANCE = 2.13487e+08
TARGET_NAME = MARS
/* CAMERA DATA ELEMENTS */
DETECTOR_TEMPERATURE = 18.1666
FOCAL_PLANE_TEMPERATURE = 8.1755
INST_CMPRS_NAME = "DISCRETE COSINE TRANSFORMATION (DCT)"
INST_CMPRS_RATIO = 10.7834
INST_CMPRS_QUALITY = 0
INST_CMPRS_QUANTZ_TBL_ID = 0
INSTRUMENT_TEMPERATURE = 10.8262
LENS_TEMPERATURE = 8.5833
MACROPIXEL_SIZE = 2
MISSING_FRAMES = 0
PIXEL_SUBSAMPLING_FLAG = N
SIGNAL_CHAIN_ID = 2
/* RADIOMETRIC DATA ELEMENTS */
BANDWIDTH = 88.0
CENTER_FILTER_WAVELENGTH = 538.0
RADIANCE_OFFSET = 2.32259
RADIANCE_SCALING_FACTOR = 0.00392159
REFLECTANCE_SCALING_FACTOR = 0.000153886
MEX:REFLECTANCE_OFFSET = 0.09114
/* IMAGE OBJECT DEFINITIONS */
OBJECT = IMAGE
  INTERCHANGE_FORMAT = BINARY
  LINES = 18767
  LINE_SAMPLES = 4529
  SAMPLE_TYPE = UNSIGNED_INTEGER
  SAMPLE_BITS = 8
  BANDS = 1
  BAND_STORAGE_TYPE = BAND_SEQUENTIAL
  MAXIMUM = 255
  MEAN = 127.05
  MINIMUM = 1
  STANDARD_DEVIATION = 42.6168
END_OBJECT = IMAGE
/* MAP OBJECT DEFINITIONS */
OBJECT = IMAGE_MAP_PROJECTION
  ^DATA_SET_MAP_PROJECTION_CATALOG= "DSMAP.CAT"
  A_AXIS_RADIUS = 3396.0
  B_AXIS_RADIUS = 3396.0
  C_AXIS_RADIUS = 3396.0
  CENTER_LATITUDE = 0.0
  CENTER_LONGITUDE = 320.0
  COORDINATE_SYSTEM_NAME = PLANETOGRAPHIC
  COORDINATE_SYSTEM_TYPE = "BODY-FIXED ROTATING"
  EASTERNMOST_LONGITUDE = 323.385
  FIRST_STANDARD_PARALLEL = "N/A"
  LINE_FIRST_PIXEL = 1
  LINE_LAST_PIXEL = 18767
  LINE_PROJECTION_OFFSET = -65538.75
  MAP_PROJECTION_ROTATION = 0.0
  MAP_PROJECTION_TYPE = SINUSOIDAL
  MAP_RESOLUTION = 1185.42760773333
  MAP_SCALE = 0.05
  MAXIMUM_LATITUDE = -55.2846
  MINIMUM_LATITUDE = -71.1343
  POSITIVE_LONGITUDE_DIRECTION = EAST
  REFERENCE_LATITUDE = "N/A"
  REFERENCE_LONGITUDE = "N/A"
  SAMPLE_FIRST_PIXEL = 1
  SAMPLE_LAST_PIXEL = 4529
  SAMPLE_PROJECTION_OFFSET = 2176.25
  SECOND_STANDARD_PARALLEL = "N/A"
  WESTERNMOST_LONGITUDE = 314.556
END_OBJECT = IMAGE_MAP_PROJECTION
/* The JPEG2000 image data file associated with this label. */
OBJECT = COMPRESSED_FILE
  FILE_NAME = "H4680_0000_GR3.JP2"
  RECORD_TYPE = UNDEFINED
  FILE_RECORDS = UNK
  ENCODING_TYPE = "JP2"
  INTERCHANGE_FORMAT = BINARY
  UNCOMPRESSED_FILE_NAME = "H4680_0000_GR3.IMG"
  REQUIRED_STORAGE_BYTES = "85022917"
  ^DESCRIPTION = "JP2INFO.TXT"
END_OBJECT = COMPRESSED_FILE
END
