PDS_VERSION_ID = PDS3
/* FILE DATA ELEMENTS */
RECORD_TYPE = STREAM
/* POINTERS TO DATA OBJECTS */
^COMPRESSED_FILE = "H4680_0000_ND3.JP2"
/* IDENTIFICATION DATA ELEMENTS */
DATA_SET_ID = "MEX-M-HRSC-5-REFDR-MAPPROJECTED-V3.0"
DATA_SET_NAME = "MARS EXPRESS HRSC MAP PROJECTED REFDR V3.0"
DETECTOR_ID = MEX_HRSC_NADIR
EVENT_TYPE = "MARS-REGIONAL-MAPPING-Im-Fl"
INSTRUMENT_HOST_ID = MEX
INSTRUMENT_HOST_NAME = "MARS EXPRESS"
INSTRUMENT_ID = HRSC
INSTRUMENT_NAME = "HIGH RESOLUTION STEREO CAMERA"
MISSION_NAME = "MARS EXPRESS"
MISSION_PHASE_NAME = ME_Phase_9
PROCESSING_LEVEL_ID = 3
PRODUCT_CREATION_TIME = 2016-04-26T01:56:16.000Z
PRODUCT_ID = "H4680_0000_ND3.JP2"
RELEASE_ID = 0053
REVISION_ID = 0000
/* QUALITY DATA ELEMENTS */
DATA_QUALITY_ID = 1
DATA_QUALITY_DESC = "Data calculated based on original SPICE kernels"
/* TIME DATA ELEMENTS */
SPACECRAFT_CLOCK_START_COUNT = "1/0136178667.08408"
SPACECRAFT_CLOCK_STOP_COUNT = "1/0136179129.32094"
START_TIME = 2007-08-26T03:25:20.890Z
STOP_TIME = 2007-08-26T03:30:09.865Z
/* ORBITAL DATA ELEMENTS */
ASCENDING_NODE_LONGITUDE = 130.53
MAXIMUM_RESOLUTION = 21.6
FOOTPRINT_POINT_LATITUDE = (-70.869,-70.9441,-71.0395,-71.0891, -70.9904,-70.4613,-69.9245,-69.6531, -69.3808,-68.9677,-68.6917,-68.4112, -68.1313,-67.8471,-67.4191,-67.1315, -66.8415,-66.5502,-66.2555,-65.8109, -65.5123,-65.2103,-64.7542,-64.2932, -63.8271,-63.3555,-63.0392,-62.7191, -62.397,-62.073,-61.7463,-61.4163, -61.0841,-60.7498,-60.413,-60.0728, -59.73,-59.3847,-59.0372,-58.6866, -58.3331,-57.9769,-57.6176,-57.2548, -56.8941,-56.5349,-56.1765,-55.8192, -55.4636,-55.4355,-55.4097,-55.3929, -55.3598,-55.3246,-55.2857,-55.6384, -55.9924,-56.3479,-56.7052,-57.0631, -57.4229,-57.7793,-58.133,-58.4839, -58.8322,-59.1776,-59.5202,-59.8605, -60.1982,-60.5326,-60.8646,-61.1945, -61.5222,-61.8465,-62.1683,-62.4882, -62.8059,-63.1199,-63.4327,-63.7435, -64.0506,-64.3565,-64.6601,-64.961, -65.2605,-65.5564,-65.9974,-66.2897, -66.5785,-66.8662,-67.1514,-67.4352, -67.7167,-68.1353,-68.4131,-68.6867, -69.3657,-69.8998,-70.427,-70.869)
FOOTPRINT_POINT_LONGITUDE = (314.991,316.241,318.105,319.265, 320.157,320.367,320.569,320.666,320.762 ,320.901,320.991,321.08,321.166,321.251 ,321.375,321.455,321.534,321.611, 321.686,321.796,321.868,321.938,322.041 ,322.141,322.238,322.332,322.393, 322.454,322.513,322.57,322.628,322.685, 322.738,322.793,322.845,322.898,322.946 ,322.993,323.047,323.098,323.141,323.19 ,323.233,323.265,323.317,323.369, 323.407,323.438,323.475,322.511,321.385 ,320.821,319.9,319.082,318.29,318.257, 318.222,318.188,318.168,318.117,318.079 ,318.033,317.987,317.943,317.895, 317.848,317.794,317.74,317.687,317.629, 317.571,317.512,317.452,317.39,317.327, 317.261,317.193,317.124,317.052,316.978 ,316.9,316.823,316.743,316.666,316.576, 316.484,316.347,316.255,316.16,316.064, 315.967,315.866,315.764,315.609,315.498 ,315.384,315.09,314.835,314.572, 314.991)
ORBIT_NUMBER = 4680
ORBITAL_ECCENTRICITY = 0.57
ORBITAL_INCLINATION = 86.69
ORBITAL_SEMIMAJOR_AXIS = 8536.76
PERIAPSIS_ALTITUDE = 296.42
PERIAPSIS_ARGUMENT_ANGLE = 254.65
PERIAPSIS_TIME = 2007-08-26T03:16:26.000Z
SPACECRAFT_ORIENTATION = (0.0,-1.0,0.0)
^MEX_ORIENTATION_DESC = "MEX_ORIENTATION_DESC.TXT"
SPACECRAFT_POINTING_MODE = NADIR
^MEX_POINTING_DESC = "MEX_POINTING_DESC.TXT"
RIGHT_ASCENSION = -1e+32
DECLINATION = -1e+32
OFFSET_ANGLE = -1e+32
SPACECRAFT_SOLAR_DISTANCE = 2.13487e+08
TARGET_NAME = MARS
/* CAMERA DATA ELEMENTS */
DETECTOR_TEMPERATURE = 18.1666
FOCAL_PLANE_TEMPERATURE = 8.1755
INST_CMPRS_NAME = "DISCRETE COSINE TRANSFORMATION (DCT)"
INST_CMPRS_RATIO = 6.81071
INST_CMPRS_QUALITY = 0
INST_CMPRS_QUANTZ_TBL_ID = 0
INSTRUMENT_TEMPERATURE = 10.8262
LENS_TEMPERATURE = 8.5833
MACROPIXEL_SIZE = 1
MISSING_FRAMES = 0
PIXEL_SUBSAMPLING_FLAG = N
SIGNAL_CHAIN_ID = 0
/* RADIOMETRIC DATA ELEMENTS */
BANDWIDTH = 177.0
CENTER_FILTER_WAVELENGTH = 677.5
RADIANCE_OFFSET = 5.76672
RADIANCE_SCALING_FACTOR = 0.0175647
REFLECTANCE_SCALING_FACTOR = 0.00042528
MEX:REFLECTANCE_OFFSET = 0.139625
/* IMAGE OBJECT DEFINITIONS */
OBJECT = IMAGE
  INTERCHANGE_FORMAT = BINARY
  LINES = 37533
  LINE_SAMPLES = 9058
  SAMPLE_TYPE = UNSIGNED_INTEGER
  SAMPLE_BITS = 8
  BANDS = 1
  BAND_STORAGE_TYPE = BAND_SEQUENTIAL
  MAXIMUM = 255
  MEAN = 136.518
  MINIMUM = 1
  STANDARD_DEVIATION = 39.2467
END_OBJECT = IMAGE
/* MAP OBJECT DEFINITIONS */
OBJECT = IMAGE_MAP_PROJECTION
  ^DATA_SET_MAP_PROJECTION_CATALOG= "DSMAP.CAT"
  A_AXIS_RADIUS = 3396.0
  B_AXIS_RADIUS = 3396.0
  C_AXIS_RADIUS = 3396.0
  CENTER_LATITUDE = 0.0
  CENTER_LONGITUDE = 320.0
  COORDINATE_SYSTEM_NAME = PLANETOGRAPHIC
  COORDINATE_SYSTEM_TYPE = "BODY-FIXED ROTATING"
  EASTERNMOST_LONGITUDE = 323.475
  FIRST_STANDARD_PARALLEL = "N/A"
  LINE_FIRST_PIXEL = 1
  LINE_LAST_PIXEL = 37533
  LINE_PROJECTION_OFFSET = -131077.0
  MAP_PROJECTION_ROTATION = 0.0
  MAP_PROJECTION_TYPE = SINUSOIDAL
  MAP_RESOLUTION = 2370.85521546667
  MAP_SCALE = 0.025
  MAXIMUM_LATITUDE = -55.2857
  MINIMUM_LATITUDE = -71.0891
  POSITIVE_LONGITUDE_DIRECTION = EAST
  REFERENCE_LATITUDE = "N/A"
  REFERENCE_LONGITUDE = "N/A"
  SAMPLE_FIRST_PIXEL = 1
  SAMPLE_LAST_PIXEL = 9058
  SAMPLE_PROJECTION_OFFSET = 4353.0
  SECOND_STANDARD_PARALLEL = "N/A"
  WESTERNMOST_LONGITUDE = 314.572
END_OBJECT = IMAGE_MAP_PROJECTION
/* The JPEG2000 image data file associated with this label. */
OBJECT = COMPRESSED_FILE
  FILE_NAME = "H4680_0000_ND3.JP2"
  RECORD_TYPE = UNDEFINED
  FILE_RECORDS = UNK
  ENCODING_TYPE = "JP2"
  INTERCHANGE_FORMAT = BINARY
  UNCOMPRESSED_FILE_NAME = "H4680_0000_ND3.IMG"
  REQUIRED_STORAGE_BYTES = "340010146"
  ^DESCRIPTION = "JP2INFO.TXT"
END_OBJECT = COMPRESSED_FILE
END
