PDS_VERSION_ID = PDS3
/* FILE DATA ELEMENTS */
RECORD_TYPE = STREAM
/* POINTERS TO DATA OBJECTS */
^COMPRESSED_FILE = "H4680_0000_S23.JP2"
/* IDENTIFICATION DATA ELEMENTS */
DATA_SET_ID = "MEX-M-HRSC-5-REFDR-MAPPROJECTED-V3.0"
DATA_SET_NAME = "MARS EXPRESS HRSC MAP PROJECTED REFDR V3.0"
DETECTOR_ID = MEX_HRSC_S2
EVENT_TYPE = "MARS-REGIONAL-MAPPING-Im-Fl"
INSTRUMENT_HOST_ID = MEX
INSTRUMENT_HOST_NAME = "MARS EXPRESS"
INSTRUMENT_ID = HRSC
INSTRUMENT_NAME = "HIGH RESOLUTION STEREO CAMERA"
MISSION_NAME = "MARS EXPRESS"
MISSION_PHASE_NAME = ME_Phase_9
PROCESSING_LEVEL_ID = 3
PRODUCT_CREATION_TIME = 2016-04-26T01:56:16.000Z
PRODUCT_ID = "H4680_0000_S23.JP2"
RELEASE_ID = 0053
REVISION_ID = 0000
/* QUALITY DATA ELEMENTS */
DATA_QUALITY_ID = 1
DATA_QUALITY_DESC = "Data calculated based on original SPICE kernels"
/* TIME DATA ELEMENTS */
SPACECRAFT_CLOCK_START_COUNT = "1/0136178667.08408"
SPACECRAFT_CLOCK_STOP_COUNT = "1/0136179129.32094"
START_TIME = 2007-08-26T03:26:22.433Z
STOP_TIME = 2007-08-26T03:32:11.569Z
/* ORBITAL DATA ELEMENTS */
ASCENDING_NODE_LONGITUDE = 130.53
MAXIMUM_RESOLUTION = 51.1
FOOTPRINT_POINT_LATITUDE = (-70.7601,-70.8263,-70.8745,-70.9185, -70.9582,-71.107,-70.4043,-69.8357, -69.5495,-69.2593,-68.9676,-68.6751, -68.2323,-67.7843,-67.3322,-67.0285, -66.7225,-66.4137,-66.1028,-65.7938, -65.475,-65.1576,-64.8388,-64.5172, -64.192,-63.8666,-63.5373,-63.2068, -62.8736,-62.5384,-62.1993,-61.6926, -61.3572,-60.8564,-60.5241,-60.1931, -59.8668,-59.5417,-59.2143,-58.9074, -58.5933,-58.2702,-57.9501,-57.621, -57.307,-56.8375,-56.3911,-56.0872, -55.7699,-55.4661,-55.4279,-55.4301, -55.4136,-55.3942,-55.3794,-55.3555, -55.3348,-55.616,-56.0642,-56.3638, -56.8118,-57.1165,-57.5771,-57.8845, -58.3441,-58.6635,-59.1386,-59.4625, -59.7851,-60.1104,-60.602,-60.9321, -61.2632,-61.5933,-61.9274,-62.2601, -62.7583,-63.0874,-63.414,-63.739, -64.0614,-64.3809,-64.6972,-65.173, -65.492,-65.9621,-66.2685,-66.5734, -66.8761,-67.1746,-67.4707,-67.7633, -68.1966,-68.4889,-68.7774,-69.2067, -69.6314,-69.9176,-70.4742,-70.7601)
FOOTPRINT_POINT_LONGITUDE = (315.128,316.322,317.281,318.243, 319.211,320.511,320.795,321.011,321.116 ,321.217,321.317,321.414,321.557, 321.696,321.83,321.917,322.003,322.086, 322.168,322.251,322.327,322.405,322.481 ,322.556,322.629,322.701,322.771, 322.841,322.909,322.977,323.042,323.139 ,323.202,323.291,323.349,323.404, 323.459,323.513,323.563,323.622,323.674 ,323.72,323.764,323.802,323.846,323.909 ,323.98,324.022,324.054,324.092,323.324 ,322.357,321.085,320.237,319.691, 318.904,318.298,317.828,317.791,317.765 ,317.728,317.699,317.652,317.62,317.573 ,317.531,317.471,317.425,317.379,317.33 ,317.252,317.197,317.141,317.084, 317.023,316.961,316.86,316.79,316.718, 316.643,316.566,316.488,316.408,316.277 ,316.182,316.039,315.945,315.848, 315.748,315.648,315.545,315.441,315.282 ,315.166,315.047,314.863,314.672, 314.533,314.256,315.128)
ORBIT_NUMBER = 4680
ORBITAL_ECCENTRICITY = 0.57
ORBITAL_INCLINATION = 86.69
ORBITAL_SEMIMAJOR_AXIS = 8536.76
PERIAPSIS_ALTITUDE = 296.42
PERIAPSIS_ARGUMENT_ANGLE = 254.65
PERIAPSIS_TIME = 2007-08-26T03:16:26.000Z
SPACECRAFT_ORIENTATION = (0.0,-1.0,0.0)
^MEX_ORIENTATION_DESC = "MEX_ORIENTATION_DESC.TXT"
SPACECRAFT_POINTING_MODE = NADIR
^MEX_POINTING_DESC = "MEX_POINTING_DESC.TXT"
RIGHT_ASCENSION = -1e+32
DECLINATION = -1e+32
OFFSET_ANGLE = -1e+32
SPACECRAFT_SOLAR_DISTANCE = 2.13487e+08
TARGET_NAME = MARS
/* CAMERA DATA ELEMENTS */
DETECTOR_TEMPERATURE = 18.5744
FOCAL_PLANE_TEMPERATURE = 8.1755
INST_CMPRS_NAME = "DISCRETE COSINE TRANSFORMATION (DCT)"
INST_CMPRS_RATIO = 11.868
INST_CMPRS_QUALITY = 0
INST_CMPRS_QUANTZ_TBL_ID = 0
INSTRUMENT_TEMPERATURE = 10.8262
LENS_TEMPERATURE = 8.5833
MACROPIXEL_SIZE = 2
MISSING_FRAMES = 0
PIXEL_SUBSAMPLING_FLAG = N
SIGNAL_CHAIN_ID = 1
/* RADIOMETRIC DATA ELEMENTS */
BANDWIDTH = 178.0
CENTER_FILTER_WAVELENGTH = 679.0
RADIANCE_OFFSET = 6.57143
RADIANCE_SCALING_FACTOR = 0.0171802
REFLECTANCE_SCALING_FACTOR = 0.000414672
MEX:REFLECTANCE_OFFSET = 0.158612
/* IMAGE OBJECT DEFINITIONS */
OBJECT = IMAGE
  INTERCHANGE_FORMAT = BINARY
  LINES = 18767
  LINE_SAMPLES = 4529
  SAMPLE_TYPE = UNSIGNED_INTEGER
  SAMPLE_BITS = 8
  BANDS = 1
  BAND_STORAGE_TYPE = BAND_SEQUENTIAL
  MAXIMUM = 250
  MEAN = 130.178
  MINIMUM = 1
  STANDARD_DEVIATION = 37.0784
END_OBJECT = IMAGE
/* MAP OBJECT DEFINITIONS */
OBJECT = IMAGE_MAP_PROJECTION
  ^DATA_SET_MAP_PROJECTION_CATALOG= "DSMAP.CAT"
  A_AXIS_RADIUS = 3396.0
  B_AXIS_RADIUS = 3396.0
  C_AXIS_RADIUS = 3396.0
  CENTER_LATITUDE = 0.0
  CENTER_LONGITUDE = 320.0
  COORDINATE_SYSTEM_NAME = PLANETOGRAPHIC
  COORDINATE_SYSTEM_TYPE = "BODY-FIXED ROTATING"
  EASTERNMOST_LONGITUDE = 324.092
  FIRST_STANDARD_PARALLEL = "N/A"
  LINE_FIRST_PIXEL = 1
  LINE_LAST_PIXEL = 18767
  LINE_PROJECTION_OFFSET = -65538.75
  MAP_PROJECTION_ROTATION = 0.0
  MAP_PROJECTION_TYPE = SINUSOIDAL
  MAP_RESOLUTION = 1185.42760773333
  MAP_SCALE = 0.05
  MAXIMUM_LATITUDE = -55.3348
  MINIMUM_LATITUDE = -71.107
  POSITIVE_LONGITUDE_DIRECTION = EAST
  REFERENCE_LATITUDE = "N/A"
  REFERENCE_LONGITUDE = "N/A"
  SAMPLE_FIRST_PIXEL = 1
  SAMPLE_LAST_PIXEL = 4529
  SAMPLE_PROJECTION_OFFSET = 2176.25
  SECOND_STANDARD_PARALLEL = "N/A"
  WESTERNMOST_LONGITUDE = 314.256
END_OBJECT = IMAGE_MAP_PROJECTION
/* The JPEG2000 image data file associated with this label. */
OBJECT = COMPRESSED_FILE
  FILE_NAME = "H4680_0000_S23.JP2"
  RECORD_TYPE = UNDEFINED
  FILE_RECORDS = UNK
  ENCODING_TYPE = "JP2"
  INTERCHANGE_FORMAT = BINARY
  UNCOMPRESSED_FILE_NAME = "H4680_0000_S23.IMG"
  REQUIRED_STORAGE_BYTES = "85022917"
  ^DESCRIPTION = "JP2INFO.TXT"
END_OBJECT = COMPRESSED_FILE
END
