PDS_VERSION_ID = PDS3
/* FILE DATA ELEMENTS */
RECORD_TYPE = STREAM
/* POINTERS TO DATA OBJECTS */
^COMPRESSED_FILE = "H4681_0000_IR3.JP2"
/* IDENTIFICATION DATA ELEMENTS */
DATA_SET_ID = "MEX-M-HRSC-5-REFDR-MAPPROJECTED-V3.0"
DATA_SET_NAME = "MARS EXPRESS HRSC MAP PROJECTED REFDR V3.0"
DETECTOR_ID = MEX_HRSC_IR
EVENT_TYPE = "MARS-REGIONAL-MAPPING-Gl-Pf-La"
INSTRUMENT_HOST_ID = MEX
INSTRUMENT_HOST_NAME = "MARS EXPRESS"
INSTRUMENT_ID = HRSC
INSTRUMENT_NAME = "HIGH RESOLUTION STEREO CAMERA"
MISSION_NAME = "MARS EXPRESS"
MISSION_PHASE_NAME = ME_Phase_9
PROCESSING_LEVEL_ID = 3
PRODUCT_CREATION_TIME = 2016-04-26T01:56:16.000Z
PRODUCT_ID = "H4681_0000_IR3.JP2"
RELEASE_ID = 0053
REVISION_ID = 0000
/* QUALITY DATA ELEMENTS */
DATA_QUALITY_ID = 1
DATA_QUALITY_DESC = "Data calculated based on original SPICE kernels"
/* TIME DATA ELEMENTS */
SPACECRAFT_CLOCK_START_COUNT = "1/0136202696.08260"
SPACECRAFT_CLOCK_STOP_COUNT = "1/0136202991.49583"
START_TIME = 2007-08-26T10:05:05.997Z
STOP_TIME = 2007-08-26T10:08:06.166Z
/* ORBITAL DATA ELEMENTS */
ASCENDING_NODE_LONGITUDE = 130.51
MAXIMUM_RESOLUTION = 32.5
FOOTPRINT_POINT_LATITUDE = (-81.1386,-81.3081,-81.4333,-81.5848, -81.5936,-81.396,-81.1979,-80.9994, -80.8005,-80.6012,-80.2017,-79.8965, -79.6904,-79.4858,-79.2798,-79.0726, -78.8618,-78.6498,-78.4358,-78.2212, -78.0128,-77.6838,-77.3568,-77.1384, -76.9145,-76.691,-76.4679,-76.2453, -76.0172,-75.7881,-75.4449,-75.0961, -74.8628,-74.6283,-74.3911,-74.1524, -73.9141,-73.6741,-73.4306,-73.1871, -72.9432,-72.6948,-72.4463,-72.1975, -71.9448,-71.5653,-71.3099,-70.9203, -70.5297,-70.19,-70.1531,-70.1151, -70.0706,-70.0181,-69.9619,-70.1805, -70.4447,-70.6931,-70.9465,-71.2036, -71.5825,-71.9553,-72.2004,-72.4461, -72.6899,-72.9304,-73.171,-73.5288, -73.7638,-73.9991,-74.2334,-74.4637, -74.6936,-75.0385,-75.2635,-75.4866, -75.7111,-75.9345,-76.1527,-76.3715, -76.5906,-76.8084,-77.0217,-77.235, -77.4472,-77.6599,-77.8663,-78.0729, -78.2782,-78.4835,-78.6897,-78.8896, -79.0889,-79.2881,-79.5857,-79.9705, -80.3528,-80.7327,-80.9218,-81.1386)
FOOTPRINT_POINT_LONGITUDE = (202.207,204.452,206.308,208.858, 210.606,211.07,211.512,211.934,212.337, 212.723,213.447,213.961,214.289,214.598 ,214.899,215.192,215.475,215.75,216.019 ,216.28,216.511,216.877,217.217,217.435 ,217.65,217.857,218.056,218.247,218.436 ,218.621,218.885,219.14,219.304,219.464 ,219.621,219.773,219.92,220.064,220.205 ,220.341,220.474,220.606,220.733, 220.857,220.978,221.154,221.268,221.439 ,221.601,221.16,220.334,219.564,218.745 ,217.827,216.965,216.305,216.172, 216.029,215.884,215.739,215.515,215.279 ,215.117,214.951,214.78,214.607,214.428 ,214.15,213.96,213.764,213.561,213.356, 213.144,212.813,212.588,212.354,212.113 ,211.866,211.613,211.352,211.082, 210.805,210.522,210.229,209.925,209.61, 209.291,208.96,208.617,208.261,207.895, 207.521,207.132,206.728,206.092,205.206 ,204.246,203.204,202.649,202.207)
ORBIT_NUMBER = 4681
ORBITAL_ECCENTRICITY = 0.57
ORBITAL_INCLINATION = 86.7
ORBITAL_SEMIMAJOR_AXIS = 8537.54
PERIAPSIS_ALTITUDE = 295.57
PERIAPSIS_ARGUMENT_ANGLE = 254.47
PERIAPSIS_TIME = 2007-08-26T09:59:36.000Z
SPACECRAFT_ORIENTATION = (0.0,-1.0,0.0)
^MEX_ORIENTATION_DESC = "MEX_ORIENTATION_DESC.TXT"
SPACECRAFT_POINTING_MODE = ACROSSTRACK
^MEX_POINTING_DESC = "MEX_POINTING_DESC.TXT"
RIGHT_ASCENSION = -1e+32
DECLINATION = -1e+32
OFFSET_ANGLE = 0.1
SPACECRAFT_SOLAR_DISTANCE = 2.1353e+08
TARGET_NAME = MARS
/* CAMERA DATA ELEMENTS */
DETECTOR_TEMPERATURE = 17.7588
FOCAL_PLANE_TEMPERATURE = 9.3989
INST_CMPRS_NAME = "DISCRETE COSINE TRANSFORMATION (DCT)"
INST_CMPRS_RATIO = 6.69718
INST_CMPRS_QUALITY = 0
INST_CMPRS_QUANTZ_TBL_ID = 0
INSTRUMENT_TEMPERATURE = 11.0301
LENS_TEMPERATURE = 9.195
MACROPIXEL_SIZE = 2
MISSING_FRAMES = 0
PIXEL_SUBSAMPLING_FLAG = N
SIGNAL_CHAIN_ID = 3
/* RADIOMETRIC DATA ELEMENTS */
BANDWIDTH = 81.0
CENTER_FILTER_WAVELENGTH = 955.5
RADIANCE_OFFSET = 0.991406
RADIANCE_SCALING_FACTOR = 0.00338473
REFLECTANCE_SCALING_FACTOR = 0.000332945
MEX:REFLECTANCE_OFFSET = 0.0975213
/* IMAGE OBJECT DEFINITIONS */
OBJECT = IMAGE
  INTERCHANGE_FORMAT = BINARY
  LINES = 27632
  LINE_SAMPLES = 10266
  SAMPLE_TYPE = UNSIGNED_INTEGER
  SAMPLE_BITS = 8
  BANDS = 1
  BAND_STORAGE_TYPE = BAND_SEQUENTIAL
  MAXIMUM = 254
  MEAN = 136.778
  MINIMUM = 1
  STANDARD_DEVIATION = 51.8917
END_OBJECT = IMAGE
/* MAP OBJECT DEFINITIONS */
OBJECT = IMAGE_MAP_PROJECTION
  ^DATA_SET_MAP_PROJECTION_CATALOG= "DSMAP.CAT"
  A_AXIS_RADIUS = 3396.0
  B_AXIS_RADIUS = 3396.0
  C_AXIS_RADIUS = 3396.0
  CENTER_LATITUDE = 0.0
  CENTER_LONGITUDE = 215.0
  COORDINATE_SYSTEM_NAME = PLANETOGRAPHIC
  COORDINATE_SYSTEM_TYPE = "BODY-FIXED ROTATING"
  EASTERNMOST_LONGITUDE = 221.601
  FIRST_STANDARD_PARALLEL = "N/A"
  LINE_FIRST_PIXEL = 1
  LINE_LAST_PIXEL = 27632
  LINE_PROJECTION_OFFSET = -165744.25
  MAP_PROJECTION_ROTATION = 0.0
  MAP_PROJECTION_TYPE = SINUSOIDAL
  MAP_RESOLUTION = 2370.85521546667
  MAP_SCALE = 0.025
  MAXIMUM_LATITUDE = -69.9619
  MINIMUM_LATITUDE = -81.5936
  POSITIVE_LONGITUDE_DIRECTION = EAST
  REFERENCE_LATITUDE = "N/A"
  REFERENCE_LONGITUDE = "N/A"
  SAMPLE_FIRST_PIXEL = 1
  SAMPLE_LAST_PIXEL = 10266
  SAMPLE_PROJECTION_OFFSET = 4784.25
  SECOND_STANDARD_PARALLEL = "N/A"
  WESTERNMOST_LONGITUDE = 202.207
END_OBJECT = IMAGE_MAP_PROJECTION
/* The JPEG2000 image data file associated with this label. */
OBJECT = COMPRESSED_FILE
  FILE_NAME = "H4681_0000_IR3.JP2"
  RECORD_TYPE = UNDEFINED
  FILE_RECORDS = UNK
  ENCODING_TYPE = "JP2"
  INTERCHANGE_FORMAT = BINARY
  UNCOMPRESSED_FILE_NAME = "H4681_0000_IR3.IMG"
  REQUIRED_STORAGE_BYTES = "283700910"
  ^DESCRIPTION = "JP2INFO.TXT"
END_OBJECT = COMPRESSED_FILE
END
