PDS_VERSION_ID = PDS3
/* FILE DATA ELEMENTS */
RECORD_TYPE = STREAM
/* POINTERS TO DATA OBJECTS */
^COMPRESSED_FILE = "H4689_0000_ND3.JP2"
/* IDENTIFICATION DATA ELEMENTS */
DATA_SET_ID = "MEX-M-HRSC-5-REFDR-MAPPROJECTED-V3.0"
DATA_SET_NAME = "MARS EXPRESS HRSC MAP PROJECTED REFDR V3.0"
DETECTOR_ID = MEX_HRSC_NADIR
EVENT_TYPE = "MARS-REGIONAL-MAPPING-Gl-La"
INSTRUMENT_HOST_ID = MEX
INSTRUMENT_HOST_NAME = "MARS EXPRESS"
INSTRUMENT_ID = HRSC
INSTRUMENT_NAME = "HIGH RESOLUTION STEREO CAMERA"
MISSION_NAME = "MARS EXPRESS"
MISSION_PHASE_NAME = ME_Phase_9
PROCESSING_LEVEL_ID = 3
PRODUCT_CREATION_TIME = 2016-04-26T01:56:16.000Z
PRODUCT_ID = "H4689_0000_ND3.JP2"
RELEASE_ID = 0053
REVISION_ID = 0000
/* QUALITY DATA ELEMENTS */
DATA_QUALITY_ID = 1
DATA_QUALITY_DESC = "Data calculated based on original SPICE kernels"
/* TIME DATA ELEMENTS */
SPACECRAFT_CLOCK_START_COUNT = "1/0136396290.09076"
SPACECRAFT_CLOCK_STOP_COUNT = "1/0136396546.28739"
START_TIME = 2007-08-28T15:52:14.630Z
STOP_TIME = 2007-08-28T15:54:42.636Z
/* ORBITAL DATA ELEMENTS */
ASCENDING_NODE_LONGITUDE = 130.35
MAXIMUM_RESOLUTION = 17.8
FOOTPRINT_POINT_LATITUDE = (-79.6916,-79.7531,-79.8101,-79.8622, -79.9093,-79.9677,-79.822,-79.5038, -79.1816,-78.8601,-78.6968,-78.5325, -78.3683,-78.2042,-78.0404,-77.7899, -77.6226,-77.4555,-77.2885,-77.0339, -76.8635,-76.6934,-76.5234,-76.3507, -76.1774,-76.0042,-75.8312,-75.6562, -75.48,-75.3038,-75.1279,-74.9499, -74.7708,-74.5918,-74.4131,-74.1409, -73.959,-73.7773,-73.5015,-73.3167, -73.1323,-72.8518,-72.6644,-72.4772, -72.2876,-72.0972,-71.9073,-71.619, -71.4261,-71.2334,-71.1892,-71.1569, -71.1348,-71.0962,-71.0596,-70.9976, -71.1885,-71.3796,-71.6656,-71.8537, -72.0421,-72.2303,-72.4155,-72.6009, -72.8789,-73.0614,-73.244,-73.5173, -73.6968,-73.8765,-74.146,-74.3226, -74.4992,-74.676,-74.8522,-75.0259, -75.1996,-75.3733,-75.5461,-75.7166, -75.8874,-76.058,-76.2283,-76.3956, -76.563,-76.7305,-76.9813,-77.1454, -77.3095,-77.5559,-77.72,-77.8807, -78.0414,-78.2022,-78.3629,-78.523, -78.8373,-79.1516,-79.6158,-79.6916)
FOOTPRINT_POINT_LONGITUDE = (146.987,148.275,149.593,150.938, 152.311,154.336,154.897,155.17,155.426, 155.675,155.791,155.904,156.015,156.122 ,156.228,156.386,156.486,156.583, 156.676,156.815,156.904,156.99,157.075, 157.159,157.241,157.32,157.398,157.471, 157.55,157.62,157.69,157.76,157.83, 157.896,157.966,158.062,158.123,158.185 ,158.28,158.336,158.396,158.48,158.537, 158.591,158.644,158.694,158.747,158.825 ,158.87,158.919,158.101,156.795,156.061 ,154.967,154.066,152.736,152.661, 152.584,152.466,152.385,152.303,152.218 ,152.132,152.045,151.909,151.817, 151.723,151.576,151.477,151.376,151.219 ,151.112,151.003,150.89,150.776,150.661 ,150.541,150.418,150.291,150.164, 150.035,149.9,149.762,149.623,149.48, 149.333,149.106,148.952,148.793,148.546 ,148.375,148.203,148.026,147.843, 147.654,147.46,147.062,146.64,145.965, 146.987)
ORBIT_NUMBER = 4689
ORBITAL_ECCENTRICITY = 0.57
ORBITAL_INCLINATION = 86.68
ORBITAL_SEMIMAJOR_AXIS = 8538.3
PERIAPSIS_ALTITUDE = 297.29
PERIAPSIS_ARGUMENT_ANGLE = 253.07
PERIAPSIS_TIME = 2007-08-28T15:45:20.000Z
SPACECRAFT_ORIENTATION = (0.0,-1.0,0.0)
^MEX_ORIENTATION_DESC = "MEX_ORIENTATION_DESC.TXT"
SPACECRAFT_POINTING_MODE = ACROSSTRACK
^MEX_POINTING_DESC = "MEX_POINTING_DESC.TXT"
RIGHT_ASCENSION = -1e+32
DECLINATION = -1e+32
OFFSET_ANGLE = -1.0
SPACECRAFT_SOLAR_DISTANCE = 2.13875e+08
TARGET_NAME = MARS
/* CAMERA DATA ELEMENTS */
DETECTOR_TEMPERATURE = 18.5744
FOCAL_PLANE_TEMPERATURE = 9.8067
INST_CMPRS_NAME = "DISCRETE COSINE TRANSFORMATION (DCT)"
INST_CMPRS_RATIO = 6.45586
INST_CMPRS_QUALITY = 0
INST_CMPRS_QUANTZ_TBL_ID = 0
INSTRUMENT_TEMPERATURE = 11.4379
LENS_TEMPERATURE = 9.8067
MACROPIXEL_SIZE = 1
MISSING_FRAMES = 0
PIXEL_SUBSAMPLING_FLAG = N
SIGNAL_CHAIN_ID = 0
/* RADIOMETRIC DATA ELEMENTS */
BANDWIDTH = 177.0
CENTER_FILTER_WAVELENGTH = 677.5
RADIANCE_OFFSET = 4.49686
RADIANCE_SCALING_FACTOR = 0.0146331
REFLECTANCE_SCALING_FACTOR = 0.000355586
MEX:REFLECTANCE_OFFSET = 0.109274
/* IMAGE OBJECT DEFINITIONS */
OBJECT = IMAGE
  INTERCHANGE_FORMAT = BINARY
  LINES = 42579
  LINE_SAMPLES = 14312
  SAMPLE_TYPE = UNSIGNED_INTEGER
  SAMPLE_BITS = 8
  BANDS = 1
  BAND_STORAGE_TYPE = BAND_SEQUENTIAL
  MAXIMUM = 254
  MEAN = 117.663
  MINIMUM = 1
  STANDARD_DEVIATION = 51.6962
END_OBJECT = IMAGE
/* MAP OBJECT DEFINITIONS */
OBJECT = IMAGE_MAP_PROJECTION
  ^DATA_SET_MAP_PROJECTION_CATALOG= "DSMAP.CAT"
  A_AXIS_RADIUS = 3396.0
  B_AXIS_RADIUS = 3396.0
  C_AXIS_RADIUS = 3396.0
  CENTER_LATITUDE = 0.0
  CENTER_LONGITUDE = 154.0
  COORDINATE_SYSTEM_NAME = PLANETOGRAPHIC
  COORDINATE_SYSTEM_TYPE = "BODY-FIXED ROTATING"
  EASTERNMOST_LONGITUDE = 158.919
  FIRST_STANDARD_PARALLEL = "N/A"
  LINE_FIRST_PIXEL = 1
  LINE_LAST_PIXEL = 42579
  LINE_PROJECTION_OFFSET = -336654.0
  MAP_PROJECTION_ROTATION = 0.0
  MAP_PROJECTION_TYPE = SINUSOIDAL
  MAP_RESOLUTION = 4741.71043093333
  MAP_SCALE = 0.0125
  MAXIMUM_LATITUDE = -70.99760000000001
  MINIMUM_LATITUDE = -79.96769999999999
  POSITIVE_LONGITUDE_DIRECTION = EAST
  REFERENCE_LATITUDE = "N/A"
  REFERENCE_LONGITUDE = "N/A"
  SAMPLE_FIRST_PIXEL = 1
  SAMPLE_LAST_PIXEL = 14312
  SAMPLE_PROJECTION_OFFSET = 6925.0
  SECOND_STANDARD_PARALLEL = "N/A"
  WESTERNMOST_LONGITUDE = 145.965
END_OBJECT = IMAGE_MAP_PROJECTION
/* The JPEG2000 image data file associated with this label. */
OBJECT = COMPRESSED_FILE
  FILE_NAME = "H4689_0000_ND3.JP2"
  RECORD_TYPE = UNDEFINED
  FILE_RECORDS = UNK
  ENCODING_TYPE = "JP2"
  INTERCHANGE_FORMAT = BINARY
  UNCOMPRESSED_FILE_NAME = "H4689_0000_ND3.IMG"
  REQUIRED_STORAGE_BYTES = "609433584"
  ^DESCRIPTION = "JP2INFO.TXT"
END_OBJECT = COMPRESSED_FILE
END
