PDS_VERSION_ID = PDS3
/* FILE DATA ELEMENTS */
RECORD_TYPE = STREAM
/* POINTERS TO DATA OBJECTS */
^COMPRESSED_FILE = "H4689_0000_RE3.JP2"
/* IDENTIFICATION DATA ELEMENTS */
DATA_SET_ID = "MEX-M-HRSC-5-REFDR-MAPPROJECTED-V3.0"
DATA_SET_NAME = "MARS EXPRESS HRSC MAP PROJECTED REFDR V3.0"
DETECTOR_ID = MEX_HRSC_RED
EVENT_TYPE = "MARS-REGIONAL-MAPPING-Gl-La"
INSTRUMENT_HOST_ID = MEX
INSTRUMENT_HOST_NAME = "MARS EXPRESS"
INSTRUMENT_ID = HRSC
INSTRUMENT_NAME = "HIGH RESOLUTION STEREO CAMERA"
MISSION_NAME = "MARS EXPRESS"
MISSION_PHASE_NAME = ME_Phase_9
PROCESSING_LEVEL_ID = 3
PRODUCT_CREATION_TIME = 2016-04-26T01:56:16.000Z
PRODUCT_ID = "H4689_0000_RE3.JP2"
RELEASE_ID = 0053
REVISION_ID = 0000
/* QUALITY DATA ELEMENTS */
DATA_QUALITY_ID = 1
DATA_QUALITY_DESC = "Data calculated based on original SPICE kernels"
/* TIME DATA ELEMENTS */
SPACECRAFT_CLOCK_START_COUNT = "1/0136396290.09076"
SPACECRAFT_CLOCK_STOP_COUNT = "1/0136396546.28739"
START_TIME = 2007-08-28T15:52:53.219Z
STOP_TIME = 2007-08-28T15:55:35.862Z
/* ORBITAL DATA ELEMENTS */
ASCENDING_NODE_LONGITUDE = 130.35
MAXIMUM_RESOLUTION = 79.4
FOOTPRINT_POINT_LATITUDE = (-79.5668,-79.6365,-79.702,-79.7631, -79.8196,-79.8713,-79.9039,-79.7582, -79.5209,-79.2003,-78.9611,-78.7179, -78.3929,-78.1477,-77.9822,-77.7359, -77.4872,-77.3192,-77.1517,-76.9844, -76.7298,-76.5598,-76.39,-76.2186, -76.046,-75.8738,-75.6124,-75.3504, -75.1757,-74.999,-74.8224,-74.559, -74.3787,-74.1993,-74.0204,-73.8386, -73.6597,-73.4779,-73.1999,-72.9279, -72.6498,-72.4641,-72.2763,-72.0882, -71.8063,-71.617,-71.4257,-71.2334, -71.2185,-71.196,-71.1734,-71.1527, -71.1219,-71.1004,-71.0519,-71.0019, -70.9503,-71.1412,-71.3291,-71.5174, -71.7977,-71.9833,-72.1684,-72.3512, -72.6225,-72.895,-73.0774,-73.2571, -73.4339,-73.6127,-73.7905,-73.9664, -74.1463,-74.3226,-74.4951,-74.6689, -74.8462,-75.1106,-75.279,-75.4484, -75.6152,-75.7882,-75.9609,-76.1243, -76.2893,-76.4569,-76.6242,-76.7888, -76.9538,-77.1218,-77.3653,-77.528, -77.7717,-77.9327,-78.2507,-78.4102, -78.7193,-79.0321,-79.495,-79.5668)
FOOTPRINT_POINT_LONGITUDE = (147.136,148.412,149.719,151.052, 152.413,153.805,154.779,155.321,155.521 ,155.774,155.957,156.132,156.355, 156.513,156.616,156.77,156.915,157.009, 157.1,157.189,157.32,157.404,157.486, 157.567,157.647,157.724,157.834,157.945 ,158.015,158.085,158.155,158.259, 158.323,158.386,158.448,158.51,158.576, 158.633,158.715,158.807,158.891,158.944 ,158.996,159.048,159.126,159.177, 159.223,159.271,158.753,158.099,157.393 ,156.82,155.999,155.497,154.439,153.456 ,152.523,152.449,152.375,152.299, 152.181,152.101,152.019,151.936,151.809 ,151.676,151.585,151.492,151.399, 151.302,151.202,151.102,150.996,150.89, 150.784,150.674,150.558,150.381,150.263 ,150.142,150.02,149.89,149.756,149.626, 149.491,149.35,149.206,149.06,148.909, 148.752,148.515,148.351,148.096,147.921 ,147.561,147.372,146.987,146.575, 145.916,147.136)
ORBIT_NUMBER = 4689
ORBITAL_ECCENTRICITY = 0.57
ORBITAL_INCLINATION = 86.68
ORBITAL_SEMIMAJOR_AXIS = 8538.3
PERIAPSIS_ALTITUDE = 297.29
PERIAPSIS_ARGUMENT_ANGLE = 253.07
PERIAPSIS_TIME = 2007-08-28T15:45:20.000Z
SPACECRAFT_ORIENTATION = (0.0,-1.0,0.0)
^MEX_ORIENTATION_DESC = "MEX_ORIENTATION_DESC.TXT"
SPACECRAFT_POINTING_MODE = ACROSSTRACK
^MEX_POINTING_DESC = "MEX_POINTING_DESC.TXT"
RIGHT_ASCENSION = -1e+32
DECLINATION = -1e+32
OFFSET_ANGLE = -1.0
SPACECRAFT_SOLAR_DISTANCE = 2.13875e+08
TARGET_NAME = MARS
/* CAMERA DATA ELEMENTS */
DETECTOR_TEMPERATURE = 18.7783
FOCAL_PLANE_TEMPERATURE = 9.8067
INST_CMPRS_NAME = "DISCRETE COSINE TRANSFORMATION (DCT)"
INST_CMPRS_RATIO = 19.6706
INST_CMPRS_QUALITY = 0
INST_CMPRS_QUANTZ_TBL_ID = 0
INSTRUMENT_TEMPERATURE = 11.4379
LENS_TEMPERATURE = 9.8067
MACROPIXEL_SIZE = 4
MISSING_FRAMES = 0
PIXEL_SUBSAMPLING_FLAG = N
SIGNAL_CHAIN_ID = 2
/* RADIOMETRIC DATA ELEMENTS */
BANDWIDTH = 48.0
CENTER_FILTER_WAVELENGTH = 748.0
RADIANCE_OFFSET = 1.29812
RADIANCE_SCALING_FACTOR = 0.00382679
REFLECTANCE_SCALING_FACTOR = 0.000399471
MEX:REFLECTANCE_OFFSET = 0.135509
/* IMAGE OBJECT DEFINITIONS */
OBJECT = IMAGE
  INTERCHANGE_FORMAT = BINARY
  LINES = 10645
  LINE_SAMPLES = 3578
  SAMPLE_TYPE = UNSIGNED_INTEGER
  SAMPLE_BITS = 8
  BANDS = 1
  BAND_STORAGE_TYPE = BAND_SEQUENTIAL
  MAXIMUM = 255
  MEAN = 121.009
  MINIMUM = 1
  STANDARD_DEVIATION = 53.145
END_OBJECT = IMAGE
/* MAP OBJECT DEFINITIONS */
OBJECT = IMAGE_MAP_PROJECTION
  ^DATA_SET_MAP_PROJECTION_CATALOG= "DSMAP.CAT"
  A_AXIS_RADIUS = 3396.0
  B_AXIS_RADIUS = 3396.0
  C_AXIS_RADIUS = 3396.0
  CENTER_LATITUDE = 0.0
  CENTER_LONGITUDE = 154.0
  COORDINATE_SYSTEM_NAME = PLANETOGRAPHIC
  COORDINATE_SYSTEM_TYPE = "BODY-FIXED ROTATING"
  EASTERNMOST_LONGITUDE = 159.271
  FIRST_STANDARD_PARALLEL = "N/A"
  LINE_FIRST_PIXEL = 1
  LINE_LAST_PIXEL = 10645
  LINE_PROJECTION_OFFSET = -84163.875
  MAP_PROJECTION_ROTATION = 0.0
  MAP_PROJECTION_TYPE = SINUSOIDAL
  MAP_RESOLUTION = 1185.42760773333
  MAP_SCALE = 0.05
  MAXIMUM_LATITUDE = -70.9503
  MINIMUM_LATITUDE = -79.90389999999999
  POSITIVE_LONGITUDE_DIRECTION = EAST
  REFERENCE_LATITUDE = "N/A"
  REFERENCE_LONGITUDE = "N/A"
  SAMPLE_FIRST_PIXEL = 1
  SAMPLE_LAST_PIXEL = 3578
  SAMPLE_PROJECTION_OFFSET = 1730.875
  SECOND_STANDARD_PARALLEL = "N/A"
  WESTERNMOST_LONGITUDE = 145.916
END_OBJECT = IMAGE_MAP_PROJECTION
/* The JPEG2000 image data file associated with this label. */
OBJECT = COMPRESSED_FILE
  FILE_NAME = "H4689_0000_RE3.JP2"
  RECORD_TYPE = UNDEFINED
  FILE_RECORDS = UNK
  ENCODING_TYPE = "JP2"
  INTERCHANGE_FORMAT = BINARY
  UNCOMPRESSED_FILE_NAME = "H4689_0000_RE3.IMG"
  REQUIRED_STORAGE_BYTES = "38109278"
  ^DESCRIPTION = "JP2INFO.TXT"
END_OBJECT = COMPRESSED_FILE
END
