PDS_VERSION_ID = PDS3
/* FILE DATA ELEMENTS */
RECORD_TYPE = STREAM
/* POINTERS TO DATA OBJECTS */
^COMPRESSED_FILE = "H4691_0000_ND3.JP2"
/* IDENTIFICATION DATA ELEMENTS */
DATA_SET_ID = "MEX-M-HRSC-5-REFDR-MAPPROJECTED-V3.0"
DATA_SET_NAME = "MARS EXPRESS HRSC MAP PROJECTED REFDR V3.0"
DETECTOR_ID = MEX_HRSC_NADIR
EVENT_TYPE = "MARS-REGIONAL-MAPPING-Gl-La"
INSTRUMENT_HOST_ID = MEX
INSTRUMENT_HOST_NAME = "MARS EXPRESS"
INSTRUMENT_ID = HRSC
INSTRUMENT_NAME = "HIGH RESOLUTION STEREO CAMERA"
MISSION_NAME = "MARS EXPRESS"
MISSION_PHASE_NAME = ME_Phase_9
PROCESSING_LEVEL_ID = 3
PRODUCT_CREATION_TIME = 2016-04-26T01:56:16.000Z
PRODUCT_ID = "H4691_0000_ND3.JP2"
RELEASE_ID = 0053
REVISION_ID = 0000
/* QUALITY DATA ELEMENTS */
DATA_QUALITY_ID = 2
DATA_QUALITY_DESC = "Data calculated based on photogrammetrically improved orbit and attitude data"
/* TIME DATA ELEMENTS */
SPACECRAFT_CLOCK_START_COUNT = "1/0136444609.07288"
SPACECRAFT_CLOCK_STOP_COUNT = "1/0136444908.45789"
START_TIME = 2007-08-29T05:17:28.975Z
STOP_TIME = 2007-08-29T05:20:47.994Z
/* ORBITAL DATA ELEMENTS */
ASCENDING_NODE_LONGITUDE = 130.31
MAXIMUM_RESOLUTION = 15.9
FOOTPRINT_POINT_LATITUDE = (-84.2813,-84.4666,-84.5502,-84.6272, -84.7088,-84.2984,-84.0908,-83.8828, -83.6744,-83.3558,-83.1412,-82.9267, -82.712,-82.3844,-82.1641,-81.9437, -81.7235,-81.4984,-81.2727,-81.0471, -80.8217,-80.5914,-80.2454,-80.0151, -79.663,-79.4276,-79.1925,-78.8337, -78.5938,-78.3541,-78.1099,-77.8654, -77.6211,-77.3734,-77.1244,-76.8757, -76.6233,-76.3699,-76.1169,-75.8595, -75.4733,-75.2131,-74.9513,-74.6897, -74.4235,-74.1577,-73.7544,-73.4846, -73.0747,-72.8008,-72.7475,-72.7267, -72.6812,-72.6423,-72.5987,-72.5526, -72.8234,-73.2292,-73.496,-73.895, -74.1575,-74.5501,-74.8082,-75.1945, -75.4482,-75.7022,-76.0783,-76.3276, -76.5764,-76.8209,-77.0655,-77.3093, -77.5489,-77.7887,-78.0285,-78.2631, -78.4978,-78.8488,-79.0783,-79.3077, -79.6509,-79.8748,-80.0986,-80.3223, -80.5433,-80.7613,-81.0877,-81.3047, -81.5162,-81.7274,-81.938,-82.2513, -82.4553,-82.6585,-82.8609,-83.1609, -83.5499,-83.8384,-84.0287,-84.2813)
FOOTPRINT_POINT_LONGITUDE = (299.059,303.02,305.133,307.337,310.005 ,311.313,311.9,312.446,312.954,313.671, 314.103,314.515,314.9,315.463,315.801, 316.119,316.421,316.709,316.984,317.246 ,317.493,317.74,318.077,318.291,318.596 ,318.788,318.973,319.239,319.407, 319.568,319.725,319.876,320.02,320.161, 320.297,320.425,320.552,320.674,320.789 ,320.904,321.066,321.171,321.273, 321.373,321.471,321.566,321.702,321.788 ,321.913,321.993,320.678,319.895, 318.478,317.463,316.462,315.505,315.374 ,315.169,315.028,314.806,314.653, 314.413,314.247,313.987,313.808,313.621 ,313.331,313.128,312.917,312.702, 312.477,312.243,312.004,311.754,311.493 ,311.226,310.947,310.505,310.2,309.88, 309.373,309.022,308.653,308.267,307.865 ,307.448,306.783,306.31,305.823,305.309 ,304.768,303.902,303.296,302.654, 301.973,300.879,299.295,297.97,297.012, 299.059)
ORBIT_NUMBER = 4691
ORBITAL_ECCENTRICITY = 0.57
ORBITAL_INCLINATION = 86.69
ORBITAL_SEMIMAJOR_AXIS = 8538.52
PERIAPSIS_ALTITUDE = 296.66
PERIAPSIS_ARGUMENT_ANGLE = 252.74
PERIAPSIS_TIME = 2007-08-29T05:11:47.000Z
SPACECRAFT_ORIENTATION = (0.0,-1.0,0.0)
^MEX_ORIENTATION_DESC = "MEX_ORIENTATION_DESC.TXT"
SPACECRAFT_POINTING_MODE = ACROSSTRACK
^MEX_POINTING_DESC = "MEX_POINTING_DESC.TXT"
RIGHT_ASCENSION = -1e+32
DECLINATION = -1e+32
OFFSET_ANGLE = -1.0
SPACECRAFT_SOLAR_DISTANCE = 2.13963e+08
TARGET_NAME = MARS
/* CAMERA DATA ELEMENTS */
DETECTOR_TEMPERATURE = 17.7588
FOCAL_PLANE_TEMPERATURE = 8.9911
INST_CMPRS_NAME = "DISCRETE COSINE TRANSFORMATION (DCT)"
INST_CMPRS_RATIO = 6.58381
INST_CMPRS_QUALITY = 0
INST_CMPRS_QUANTZ_TBL_ID = 0
INSTRUMENT_TEMPERATURE = 11.234
LENS_TEMPERATURE = 9.3989
MACROPIXEL_SIZE = 1
MISSING_FRAMES = 0
PIXEL_SUBSAMPLING_FLAG = N
SIGNAL_CHAIN_ID = 0
/* RADIOMETRIC DATA ELEMENTS */
BANDWIDTH = 177.0
CENTER_FILTER_WAVELENGTH = 677.5
RADIANCE_OFFSET = 4.7353
RADIANCE_SCALING_FACTOR = 0.0228449
REFLECTANCE_SCALING_FACTOR = 0.000555587
MEX:REFLECTANCE_OFFSET = 0.115162
/* IMAGE OBJECT DEFINITIONS */
OBJECT = IMAGE
  INTERCHANGE_FORMAT = BINARY
  LINES = 57542
  LINE_SAMPLES = 18780
  SAMPLE_TYPE = UNSIGNED_INTEGER
  SAMPLE_BITS = 8
  BANDS = 1
  BAND_STORAGE_TYPE = BAND_SEQUENTIAL
  MAXIMUM = 255
  MEAN = 72.8476
  MINIMUM = 1
  STANDARD_DEVIATION = 38.6338
END_OBJECT = IMAGE
/* MAP OBJECT DEFINITIONS */
OBJECT = IMAGE_MAP_PROJECTION
  ^DATA_SET_MAP_PROJECTION_CATALOG= "DSMAP.CAT"
  A_AXIS_RADIUS = 3396.0
  B_AXIS_RADIUS = 3396.0
  C_AXIS_RADIUS = 3396.0
  CENTER_LATITUDE = 0.0
  CENTER_LONGITUDE = 315.0
  COORDINATE_SYSTEM_NAME = PLANETOGRAPHIC
  COORDINATE_SYSTEM_TYPE = "BODY-FIXED ROTATING"
  EASTERNMOST_LONGITUDE = 321.993
  FIRST_STANDARD_PARALLEL = "N/A"
  LINE_FIRST_PIXEL = 1
  LINE_LAST_PIXEL = 57542
  LINE_PROJECTION_OFFSET = -344026.0
  MAP_PROJECTION_ROTATION = 0.0
  MAP_PROJECTION_TYPE = SINUSOIDAL
  MAP_RESOLUTION = 4741.71043093333
  MAP_SCALE = 0.0125
  MAXIMUM_LATITUDE = -72.5526
  MINIMUM_LATITUDE = -84.7088
  POSITIVE_LONGITUDE_DIRECTION = EAST
  REFERENCE_LATITUDE = "N/A"
  REFERENCE_LONGITUDE = "N/A"
  SAMPLE_FIRST_PIXEL = 1
  SAMPLE_LAST_PIXEL = 18780
  SAMPLE_PROJECTION_OFFSET = 9062.0
  SECOND_STANDARD_PARALLEL = "N/A"
  WESTERNMOST_LONGITUDE = 297.012
END_OBJECT = IMAGE_MAP_PROJECTION
/* The JPEG2000 image data file associated with this label. */
OBJECT = COMPRESSED_FILE
  FILE_NAME = "H4691_0000_ND3.JP2"
  RECORD_TYPE = UNDEFINED
  FILE_RECORDS = UNK
  ENCODING_TYPE = "JP2"
  INTERCHANGE_FORMAT = BINARY
  UNCOMPRESSED_FILE_NAME = "H4691_0000_ND3.IMG"
  REQUIRED_STORAGE_BYTES = "1080695100"
  ^DESCRIPTION = "JP2INFO.TXT"
END_OBJECT = COMPRESSED_FILE
END
