PDS_VERSION_ID = PDS3
/* FILE DATA ELEMENTS */
RECORD_TYPE = STREAM
/* POINTERS TO DATA OBJECTS */
^COMPRESSED_FILE = "H4696_0000_BL3.JP2"
/* IDENTIFICATION DATA ELEMENTS */
DATA_SET_ID = "MEX-M-HRSC-5-REFDR-MAPPROJECTED-V3.0"
DATA_SET_NAME = "MARS EXPRESS HRSC MAP PROJECTED REFDR V3.0"
DETECTOR_ID = MEX_HRSC_BLUE
EVENT_TYPE = "MARS-REGIONAL-MAPPING-Gl-La"
INSTRUMENT_HOST_ID = MEX
INSTRUMENT_HOST_NAME = "MARS EXPRESS"
INSTRUMENT_ID = HRSC
INSTRUMENT_NAME = "HIGH RESOLUTION STEREO CAMERA"
MISSION_NAME = "MARS EXPRESS"
MISSION_PHASE_NAME = ME_Phase_9
PROCESSING_LEVEL_ID = 3
PRODUCT_CREATION_TIME = 2016-04-26T01:56:16.000Z
PRODUCT_ID = "H4696_0000_BL3.JP2"
RELEASE_ID = 0053
REVISION_ID = 0000
/* QUALITY DATA ELEMENTS */
DATA_QUALITY_ID = 2
DATA_QUALITY_DESC = "Data calculated based on photogrammetrically improved orbit and attitude data"
/* TIME DATA ELEMENTS */
SPACECRAFT_CLOCK_START_COUNT = "1/0136565529.07281"
SPACECRAFT_CLOCK_STOP_COUNT = "1/0136565801.14074"
START_TIME = 2007-08-30T14:52:52.164Z
STOP_TIME = 2007-08-30T14:55:57.711Z
/* ORBITAL DATA ELEMENTS */
ASCENDING_NODE_LONGITUDE = 130.21
MAXIMUM_RESOLUTION = 60
FOOTPRINT_POINT_LATITUDE = (-86.0831,-86.324,-86.6496,-86.9598, -87.0974,-86.9935,-86.8171,-86.6879, -86.5507,-86.4065,-86.1775,-86.0177, -85.8541,-85.6869,-85.516,-85.342, -84.986,-84.7071,-84.518,-84.3272, -84.1349,-83.8389,-83.6387,-83.4375, -83.2354,-83.0288,-82.8201,-82.6108, -82.401,-82.1871,-81.9711,-81.7549, -81.5383,-81.2057,-80.9833,-80.7608, -80.4196,-80.1916,-79.9633,-79.7303, -79.4969,-79.2637,-79.0274,-78.7886, -78.5503,-78.3087,-78.0656,-77.8225, -77.5758,-77.2052,-77.0958,-77.0089, -76.9349,-76.8634,-76.8789,-77.1207, -77.3619,-77.5986,-77.8352,-78.0707, -78.302,-78.5332,-78.7635,-78.9892, -79.2146,-79.55,-79.7695,-79.9886, -80.2072,-80.4203,-80.6327,-80.8448, -81.1561,-81.3608,-81.5648,-81.767, -81.964,-82.1599,-82.3545,-82.6408, -82.8268,-83.0112,-83.1937,-83.373, -83.5468,-83.7182,-83.8871,-84.0531, -84.2131,-84.4452,-84.7419,-85.0207, -85.1524,-85.2785,-85.3985,-85.5118, -85.6178,-85.716,-85.8472,-86.0831)
FOOTPRINT_POINT_LONGITUDE = (124.614,125.929,128.027,130.482, 133.772,137.375,142.299,145.273,148.013 ,150.536,153.942,155.984,157.867, 159.606,161.211,162.695,165.342,167.12, 168.209,169.223,170.168,171.499,172.32, 173.09,173.813,174.505,175.161,175.778, 176.36,176.919,177.452,177.955,178.432, 179.116,179.544,179.95,180.535,180.901, 181.249,181.589,181.913,182.223,182.528 ,182.814,183.09,183.357,183.616,183.863 ,184.103,184.453,182.833,181.058, 179.727,178.549,176.802,176.492,176.17, 175.839,175.494,175.136,174.769,174.385 ,173.985,173.575,173.146,172.469,172.0, 171.508,170.993,170.464,169.911,169.32, 168.413,167.775,167.102,166.395,165.666 ,164.898,164.085,162.799,161.909, 160.962,159.962,158.91,157.818,156.662, 155.435,154.137,152.772,150.641,147.505 ,143.973,142.049,140.021,137.883, 135.632,133.264,130.781,126.84,124.614)
ORBIT_NUMBER = 4696
ORBITAL_ECCENTRICITY = 0.57
ORBITAL_INCLINATION = 86.68
ORBITAL_SEMIMAJOR_AXIS = 8540.18
PERIAPSIS_ALTITUDE = 296.71
PERIAPSIS_ARGUMENT_ANGLE = 251.86
PERIAPSIS_TIME = 2007-08-30T14:47:51.000Z
SPACECRAFT_ORIENTATION = (0.0,-1.0,0.0)
^MEX_ORIENTATION_DESC = "MEX_ORIENTATION_DESC.TXT"
SPACECRAFT_POINTING_MODE = ACROSSTRACK
^MEX_POINTING_DESC = "MEX_POINTING_DESC.TXT"
RIGHT_ASCENSION = -1e+32
DECLINATION = -1e+32
OFFSET_ANGLE = -0.1
SPACECRAFT_SOLAR_DISTANCE = 2.14183e+08
TARGET_NAME = MARS
/* CAMERA DATA ELEMENTS */
DETECTOR_TEMPERATURE = 18.5744
FOCAL_PLANE_TEMPERATURE = 8.3794
INST_CMPRS_NAME = "DISCRETE COSINE TRANSFORMATION (DCT)"
INST_CMPRS_RATIO = 5.86079
INST_CMPRS_QUALITY = 0
INST_CMPRS_QUANTZ_TBL_ID = 0
INSTRUMENT_TEMPERATURE = 11.8457
LENS_TEMPERATURE = 10.2145
MACROPIXEL_SIZE = 4
MISSING_FRAMES = 0
PIXEL_SUBSAMPLING_FLAG = N
SIGNAL_CHAIN_ID = 2
/* RADIOMETRIC DATA ELEMENTS */
BANDWIDTH = 76.0
CENTER_FILTER_WAVELENGTH = 444.0
RADIANCE_OFFSET = 0.585184
RADIANCE_SCALING_FACTOR = 0.00140155
REFLECTANCE_SCALING_FACTOR = 6.60592e-05
MEX:REFLECTANCE_OFFSET = 0.0275815
/* IMAGE OBJECT DEFINITIONS */
OBJECT = IMAGE
  INTERCHANGE_FORMAT = BINARY
  LINES = 12260
  LINE_SAMPLES = 7830
  SAMPLE_TYPE = UNSIGNED_INTEGER
  SAMPLE_BITS = 8
  BANDS = 1
  BAND_STORAGE_TYPE = BAND_SEQUENTIAL
  MAXIMUM = 254
  MEAN = 127.004
  MINIMUM = 1
  STANDARD_DEVIATION = 39.0805
END_OBJECT = IMAGE
/* MAP OBJECT DEFINITIONS */
OBJECT = IMAGE_MAP_PROJECTION
  ^DATA_SET_MAP_PROJECTION_CATALOG= "DSMAP.CAT"
  A_AXIS_RADIUS = 3396.0
  B_AXIS_RADIUS = 3396.0
  C_AXIS_RADIUS = 3396.0
  CENTER_LATITUDE = 0.0
  CENTER_LONGITUDE = 169.0
  COORDINATE_SYSTEM_NAME = PLANETOGRAPHIC
  COORDINATE_SYSTEM_TYPE = "BODY-FIXED ROTATING"
  EASTERNMOST_LONGITUDE = 184.453
  FIRST_STANDARD_PARALLEL = "N/A"
  LINE_FIRST_PIXEL = 1
  LINE_LAST_PIXEL = 12260
  LINE_PROJECTION_OFFSET = -91023.375
  MAP_PROJECTION_ROTATION = 0.0
  MAP_PROJECTION_TYPE = SINUSOIDAL
  MAP_RESOLUTION = 1185.42760773333
  MAP_SCALE = 0.05
  MAXIMUM_LATITUDE = -76.8634
  MINIMUM_LATITUDE = -87.09739999999999
  POSITIVE_LONGITUDE_DIRECTION = EAST
  REFERENCE_LATITUDE = "N/A"
  REFERENCE_LONGITUDE = "N/A"
  SAMPLE_FIRST_PIXEL = 1
  SAMPLE_LAST_PIXEL = 7830
  SAMPLE_PROJECTION_OFFSET = 3797.625
  SECOND_STANDARD_PARALLEL = "N/A"
  WESTERNMOST_LONGITUDE = 124.614
END_OBJECT = IMAGE_MAP_PROJECTION
/* The JPEG2000 image data file associated with this label. */
OBJECT = COMPRESSED_FILE
  FILE_NAME = "H4696_0000_BL3.JP2"
  RECORD_TYPE = UNDEFINED
  FILE_RECORDS = UNK
  ENCODING_TYPE = "JP2"
  INTERCHANGE_FORMAT = BINARY
  UNCOMPRESSED_FILE_NAME = "H4696_0000_BL3.IMG"
  REQUIRED_STORAGE_BYTES = "96027120"
  ^DESCRIPTION = "JP2INFO.TXT"
END_OBJECT = COMPRESSED_FILE
END
