PDS_VERSION_ID = PDS3
/* FILE DATA ELEMENTS */
RECORD_TYPE = STREAM
/* POINTERS TO DATA OBJECTS */
^COMPRESSED_FILE = "H4698_0000_S13.JP2"
/* IDENTIFICATION DATA ELEMENTS */
DATA_SET_ID = "MEX-M-HRSC-5-REFDR-MAPPROJECTED-V3.0"
DATA_SET_NAME = "MARS EXPRESS HRSC MAP PROJECTED REFDR V3.0"
DETECTOR_ID = MEX_HRSC_S1
EVENT_TYPE = "MARS-REGIONAL-STEREO-Gl-La"
INSTRUMENT_HOST_ID = MEX
INSTRUMENT_HOST_NAME = "MARS EXPRESS"
INSTRUMENT_ID = HRSC
INSTRUMENT_NAME = "HIGH RESOLUTION STEREO CAMERA"
MISSION_NAME = "MARS EXPRESS"
MISSION_PHASE_NAME = ME_Phase_9
PROCESSING_LEVEL_ID = 3
PRODUCT_CREATION_TIME = 2016-04-26T01:56:16.000Z
PRODUCT_ID = "H4698_0000_S13.JP2"
RELEASE_ID = 0053
REVISION_ID = 0000
/* QUALITY DATA ELEMENTS */
DATA_QUALITY_ID = 1
DATA_QUALITY_DESC = "Data calculated based on original SPICE kernels"
/* TIME DATA ELEMENTS */
SPACECRAFT_CLOCK_START_COUNT = "1/0136614075.08438"
SPACECRAFT_CLOCK_STOP_COUNT = "1/0136614381.48200"
START_TIME = 2007-08-31T04:21:19.123Z
STOP_TIME = 2007-08-31T04:24:00.750Z
/* ORBITAL DATA ELEMENTS */
ASCENDING_NODE_LONGITUDE = 130.17
MAXIMUM_RESOLUTION = 19.3
FOOTPRINT_POINT_LATITUDE = (-78.2635,-78.3018,-78.3354,-78.364, -78.3872,-78.4049,-78.4191,-78.1396, -77.864,-77.4898,-77.118,-76.8327, -76.5476,-76.3571,-76.1644,-75.971, -75.7762,-75.4866,-75.19,-74.9919, -74.6951,-74.4939,-74.1937,-73.9902, -73.6858,-73.4822,-73.2768,-72.9633, -72.7543,-72.5461,-72.3369,-72.1306, -71.9169,-71.7038,-71.488,-71.2723, -71.0569,-70.8382,-70.5113,-70.2924, -70.0702,-69.8485,-69.6257,-69.3997, -69.1745,-68.9472,-68.7171,-68.4881, -68.256,-68.0222,-67.9937,-67.9958, -67.9928,-67.9785,-67.9607,-67.9439, -68.2914,-68.5197,-68.7481,-68.9757, -69.1997,-69.4239,-69.6473,-69.8677, -70.0884,-70.3074,-70.5252,-70.7427, -70.9594,-71.1722,-71.3857,-71.6002, -71.9155,-72.1269,-72.3353,-72.5437, -72.8525,-73.0598,-73.2627,-73.466, -73.7705,-73.9696,-74.1685,-74.3683, -74.5671,-74.7629,-74.9573,-75.1532, -75.3477,-75.5377,-75.731,-75.9233, -76.1154,-76.3025,-76.6774,-77.0508, -77.3266,-77.6002,-77.9626,-78.2635)
FOOTPRINT_POINT_LONGITUDE = (344.857,346.037,347.241,348.47,349.72, 350.994,352.701,353.305,353.434,353.605 ,353.757,353.872,353.979,354.05,354.123 ,354.186,354.254,354.343,354.439, 354.499,354.585,354.644,354.718,354.777 ,354.852,354.897,354.946,355.027, 355.074,355.117,355.161,355.188,355.234 ,355.277,355.319,355.358,355.396, 355.436,355.486,355.522,355.556,355.588 ,355.622,355.654,355.685,355.718,355.75 ,355.78,355.812,355.843,354.983,354.128 ,353.001,351.781,350.854,350.18,350.098 ,350.043,349.985,349.926,349.867, 349.806,349.743,349.68,349.615,349.548, 349.479,349.409,349.337,349.265,349.19, 349.113,348.995,348.912,348.83,348.744, 348.613,348.521,348.429,348.334,348.187 ,348.088,347.985,347.879,347.77,347.66, 347.548,347.431,347.311,347.192,347.064 ,346.934,346.8,346.667,346.387,346.088, 345.855,345.616,345.278,344.857)
ORBIT_NUMBER = 4698
ORBITAL_ECCENTRICITY = 0.57
ORBITAL_INCLINATION = 86.69
ORBITAL_SEMIMAJOR_AXIS = 8538.85
PERIAPSIS_ALTITUDE = 296.98
PERIAPSIS_ARGUMENT_ANGLE = 251.5
PERIAPSIS_TIME = 2007-08-31T04:14:16.000Z
SPACECRAFT_ORIENTATION = (0.0,-1.0,0.0)
^MEX_ORIENTATION_DESC = "MEX_ORIENTATION_DESC.TXT"
SPACECRAFT_POINTING_MODE = ACROSSTRACK
^MEX_POINTING_DESC = "MEX_POINTING_DESC.TXT"
RIGHT_ASCENSION = -1e+32
DECLINATION = -1e+32
OFFSET_ANGLE = -1.3
SPACECRAFT_SOLAR_DISTANCE = 2.14271e+08
TARGET_NAME = MARS
/* CAMERA DATA ELEMENTS */
DETECTOR_TEMPERATURE = 17.351
FOCAL_PLANE_TEMPERATURE = 9.195
INST_CMPRS_NAME = "DISCRETE COSINE TRANSFORMATION (DCT)"
INST_CMPRS_RATIO = 7.59822
INST_CMPRS_QUALITY = 0
INST_CMPRS_QUANTZ_TBL_ID = 0
INSTRUMENT_TEMPERATURE = 11.4379
LENS_TEMPERATURE = 9.195
MACROPIXEL_SIZE = 1
MISSING_FRAMES = 0
PIXEL_SUBSAMPLING_FLAG = N
SIGNAL_CHAIN_ID = 2
/* RADIOMETRIC DATA ELEMENTS */
BANDWIDTH = 180.0
CENTER_FILTER_WAVELENGTH = 677.0
RADIANCE_OFFSET = 5.49904
RADIANCE_SCALING_FACTOR = 0.0138739
REFLECTANCE_SCALING_FACTOR = 0.000332331
MEX:REFLECTANCE_OFFSET = 0.131722
/* IMAGE OBJECT DEFINITIONS */
OBJECT = IMAGE
  INTERCHANGE_FORMAT = BINARY
  LINES = 24873
  LINE_SAMPLES = 7568
  SAMPLE_TYPE = UNSIGNED_INTEGER
  SAMPLE_BITS = 8
  BANDS = 1
  BAND_STORAGE_TYPE = BAND_SEQUENTIAL
  MAXIMUM = 255
  MEAN = 144.434
  MINIMUM = 1
  STANDARD_DEVIATION = 38.4676
END_OBJECT = IMAGE
/* MAP OBJECT DEFINITIONS */
OBJECT = IMAGE_MAP_PROJECTION
  ^DATA_SET_MAP_PROJECTION_CATALOG= "DSMAP.CAT"
  A_AXIS_RADIUS = 3396.0
  B_AXIS_RADIUS = 3396.0
  C_AXIS_RADIUS = 3396.0
  CENTER_LATITUDE = 0.0
  CENTER_LONGITUDE = 351.0
  COORDINATE_SYSTEM_NAME = PLANETOGRAPHIC
  COORDINATE_SYSTEM_TYPE = "BODY-FIXED ROTATING"
  EASTERNMOST_LONGITUDE = 355.843
  FIRST_STANDARD_PARALLEL = "N/A"
  LINE_FIRST_PIXEL = 1
  LINE_LAST_PIXEL = 24873
  LINE_PROJECTION_OFFSET = -160866.0
  MAP_PROJECTION_ROTATION = 0.0
  MAP_PROJECTION_TYPE = SINUSOIDAL
  MAP_RESOLUTION = 2370.85521546667
  MAP_SCALE = 0.025
  MAXIMUM_LATITUDE = -67.9439
  MINIMUM_LATITUDE = -78.4191
  POSITIVE_LONGITUDE_DIRECTION = EAST
  REFERENCE_LATITUDE = "N/A"
  REFERENCE_LONGITUDE = "N/A"
  SAMPLE_FIRST_PIXEL = 1
  SAMPLE_LAST_PIXEL = 7568
  SAMPLE_PROJECTION_OFFSET = 3074.0
  SECOND_STANDARD_PARALLEL = "N/A"
  WESTERNMOST_LONGITUDE = 344.857
END_OBJECT = IMAGE_MAP_PROJECTION
/* The JPEG2000 image data file associated with this label. */
OBJECT = COMPRESSED_FILE
  FILE_NAME = "H4698_0000_S13.JP2"
  RECORD_TYPE = UNDEFINED
  FILE_RECORDS = UNK
  ENCODING_TYPE = "JP2"
  INTERCHANGE_FORMAT = BINARY
  UNCOMPRESSED_FILE_NAME = "H4698_0000_S13.IMG"
  REQUIRED_STORAGE_BYTES = "188269136"
  ^DESCRIPTION = "JP2INFO.TXT"
END_OBJECT = COMPRESSED_FILE
END
