PDS_VERSION_ID = PDS3
/* FILE DATA ELEMENTS */
RECORD_TYPE = STREAM
/* POINTERS TO DATA OBJECTS */
^COMPRESSED_FILE = "H4702_0000_BL3.JP2"
/* IDENTIFICATION DATA ELEMENTS */
DATA_SET_ID = "MEX-M-HRSC-5-REFDR-MAPPROJECTED-V3.0"
DATA_SET_NAME = "MARS EXPRESS HRSC MAP PROJECTED REFDR V3.0"
DETECTOR_ID = MEX_HRSC_BLUE
EVENT_TYPE = "MARS-REGIONAL-MAPPING-Gl-La"
INSTRUMENT_HOST_ID = MEX
INSTRUMENT_HOST_NAME = "MARS EXPRESS"
INSTRUMENT_ID = HRSC
INSTRUMENT_NAME = "HIGH RESOLUTION STEREO CAMERA"
MISSION_NAME = "MARS EXPRESS"
MISSION_PHASE_NAME = ME_Phase_9
PROCESSING_LEVEL_ID = 3
PRODUCT_CREATION_TIME = 2016-04-26T13:14:09.000Z
PRODUCT_ID = "H4702_0000_BL3.JP2"
RELEASE_ID = 0054
REVISION_ID = 0000
/* QUALITY DATA ELEMENTS */
DATA_QUALITY_ID = 1
DATA_QUALITY_DESC = "Data calculated based on original SPICE kernels"
/* TIME DATA ELEMENTS */
SPACECRAFT_CLOCK_START_COUNT = "1/0136710745.07302"
SPACECRAFT_CLOCK_STOP_COUNT = "1/0136711069.36669"
START_TIME = 2007-09-01T07:13:12.326Z
STOP_TIME = 2007-09-01T07:16:53.945Z
/* ORBITAL DATA ELEMENTS */
ASCENDING_NODE_LONGITUDE = 130.09
MAXIMUM_RESOLUTION = 66
FOOTPRINT_POINT_LATITUDE = (-84.6104,-84.8302,-85.0341,-85.0667, -84.7701,-84.5686,-84.2623,-84.0533, -83.8407,-83.6268,-83.4117,-83.0805, -82.8578,-82.6347,-82.2936,-82.0636, -81.833,-81.4803,-81.2436,-81.0067, -80.7644,-80.5218,-80.2791,-80.0319, -79.7837,-79.5356,-79.2825,-78.9025, -78.646,-78.3875,-77.9975,-77.7341, -77.4711,-77.2034,-76.8016,-76.529, -76.2566,-75.8423,-75.5654,-75.284, -75.0033,-74.7184,-74.4329,-74.1441, -73.8541,-73.5614,-73.2674,-72.97, -72.5911,-72.5463,-72.5114,-72.4611, -72.3697,-72.3208,-72.4116,-72.7052, -73.142,-73.4314,-73.7165,-74.0015, -74.282,-74.563,-74.839,-75.2515, -75.523,-75.7942,-76.0608,-76.4594, -76.7209,-77.1114,-77.3677,-77.7507, -78.0017,-78.3772,-78.7451,-78.9901, -79.2305,-79.4698,-79.7087,-79.9419, -80.2902,-80.5202,-80.7457,-80.9705, -81.1941,-81.412,-81.6285,-81.8442, -82.0553,-82.2632,-82.4696,-82.6742, -82.8722,-83.0682,-83.262,-83.4528, -83.8182,-83.9965,-84.1713,-84.6104)
FOOTPRINT_POINT_LONGITUDE = (286.258,289.357,292.726,295.462, 297.407,298.585,300.189,301.182,302.113 ,302.979,303.786,304.922,305.622, 306.279,307.212,307.788,308.328,309.098 ,309.577,310.029,310.467,310.882, 311.275,311.656,312.018,312.361,312.694 ,313.166,313.466,313.753,314.162, 314.423,314.673,314.916,315.26,315.483, 315.695,316.002,316.196,316.385,316.57, 316.747,316.919,317.085,317.245,317.402 ,317.553,317.7,317.626,316.418,315.597, 314.531,312.849,312.046,311.073,310.88, 310.573,310.362,310.145,309.92,309.689, 309.448,309.201,308.813,308.543,308.263 ,307.975,307.521,307.207,306.713,306.37 ,305.827,305.45,304.851,304.222,303.778 ,303.313,302.829,302.321,301.803, 300.979,300.394,299.791,299.157,298.484 ,297.788,297.071,296.298,295.495, 294.659,293.773,292.832,291.86,290.832, 289.739,288.585,286.115,284.76,283.322, 286.258)
ORBIT_NUMBER = 4702
ORBITAL_ECCENTRICITY = 0.57
ORBITAL_INCLINATION = 86.69
ORBITAL_SEMIMAJOR_AXIS = 8540.45
PERIAPSIS_ALTITUDE = 296.89
PERIAPSIS_ARGUMENT_ANGLE = 250.84
PERIAPSIS_TIME = 2007-09-01T07:07:08.000Z
SPACECRAFT_ORIENTATION = (0.0,-1.0,0.0)
^MEX_ORIENTATION_DESC = "MEX_ORIENTATION_DESC.TXT"
SPACECRAFT_POINTING_MODE = ACROSSTRACK
^MEX_POINTING_DESC = "MEX_POINTING_DESC.TXT"
RIGHT_ASCENSION = -1e+32
DECLINATION = -1e+32
OFFSET_ANGLE = -0.1
SPACECRAFT_SOLAR_DISTANCE = 2.1445e+08
TARGET_NAME = MARS
/* CAMERA DATA ELEMENTS */
DETECTOR_TEMPERATURE = 18.3705
FOCAL_PLANE_TEMPERATURE = 9.195
INST_CMPRS_NAME = "DISCRETE COSINE TRANSFORMATION (DCT)"
INST_CMPRS_RATIO = 31.8048
INST_CMPRS_QUALITY = 0
INST_CMPRS_QUANTZ_TBL_ID = 0
INSTRUMENT_TEMPERATURE = 11.4379
LENS_TEMPERATURE = 9.8067
MACROPIXEL_SIZE = 4
MISSING_FRAMES = 0
PIXEL_SUBSAMPLING_FLAG = N
SIGNAL_CHAIN_ID = 2
/* RADIOMETRIC DATA ELEMENTS */
BANDWIDTH = 76.0
CENTER_FILTER_WAVELENGTH = 444.0
RADIANCE_OFFSET = 0.631297
RADIANCE_SCALING_FACTOR = 0.00802718
REFLECTANCE_SCALING_FACTOR = 0.000379291
MEX:REFLECTANCE_OFFSET = 0.0298293
/* IMAGE OBJECT DEFINITIONS */
OBJECT = IMAGE
  INTERCHANGE_FORMAT = BINARY
  LINES = 15266
  LINE_SAMPLES = 6454
  SAMPLE_TYPE = UNSIGNED_INTEGER
  SAMPLE_BITS = 8
  BANDS = 1
  BAND_STORAGE_TYPE = BAND_SEQUENTIAL
  MAXIMUM = 254
  MEAN = 35.9556
  MINIMUM = 1
  STANDARD_DEVIATION = 40.3058
END_OBJECT = IMAGE
/* MAP OBJECT DEFINITIONS */
OBJECT = IMAGE_MAP_PROJECTION
  ^DATA_SET_MAP_PROJECTION_CATALOG= "DSMAP.CAT"
  A_AXIS_RADIUS = 3396.0
  B_AXIS_RADIUS = 3396.0
  C_AXIS_RADIUS = 3396.0
  CENTER_LATITUDE = 0.0
  CENTER_LONGITUDE = 308.0
  COORDINATE_SYSTEM_NAME = PLANETOGRAPHIC
  COORDINATE_SYSTEM_TYPE = "BODY-FIXED ROTATING"
  EASTERNMOST_LONGITUDE = 317.7
  FIRST_STANDARD_PARALLEL = "N/A"
  LINE_FIRST_PIXEL = 1
  LINE_LAST_PIXEL = 15266
  LINE_PROJECTION_OFFSET = -85681.375
  MAP_PROJECTION_ROTATION = 0.0
  MAP_PROJECTION_TYPE = SINUSOIDAL
  MAP_RESOLUTION = 1185.42760773333
  MAP_SCALE = 0.05
  MAXIMUM_LATITUDE = -72.32080000000001
  MINIMUM_LATITUDE = -85.0667
  POSITIVE_LONGITUDE_DIRECTION = EAST
  REFERENCE_LATITUDE = "N/A"
  REFERENCE_LONGITUDE = "N/A"
  SAMPLE_FIRST_PIXEL = 1
  SAMPLE_LAST_PIXEL = 6454
  SAMPLE_PROJECTION_OFFSET = 2999.625
  SECOND_STANDARD_PARALLEL = "N/A"
  WESTERNMOST_LONGITUDE = 283.322
END_OBJECT = IMAGE_MAP_PROJECTION
/* The JPEG2000 image data file associated with this label. */
OBJECT = COMPRESSED_FILE
  FILE_NAME = "H4702_0000_BL3.JP2"
  RECORD_TYPE = UNDEFINED
  FILE_RECORDS = UNK
  ENCODING_TYPE = "JP2"
  INTERCHANGE_FORMAT = BINARY
  UNCOMPRESSED_FILE_NAME = "H4702_0000_BL3.IMG"
  REQUIRED_STORAGE_BYTES = "98559034"
  ^DESCRIPTION = "JP2INFO.TXT"
END_OBJECT = COMPRESSED_FILE
END
