PDS_VERSION_ID = PDS3
/* FILE DATA ELEMENTS */
RECORD_TYPE = STREAM
/* POINTERS TO DATA OBJECTS */
^COMPRESSED_FILE = "H4702_0000_P23.JP2"
/* IDENTIFICATION DATA ELEMENTS */
DATA_SET_ID = "MEX-M-HRSC-5-REFDR-MAPPROJECTED-V3.0"
DATA_SET_NAME = "MARS EXPRESS HRSC MAP PROJECTED REFDR V3.0"
DETECTOR_ID = MEX_HRSC_P2
EVENT_TYPE = "MARS-REGIONAL-MAPPING-Gl-La"
INSTRUMENT_HOST_ID = MEX
INSTRUMENT_HOST_NAME = "MARS EXPRESS"
INSTRUMENT_ID = HRSC
INSTRUMENT_NAME = "HIGH RESOLUTION STEREO CAMERA"
MISSION_NAME = "MARS EXPRESS"
MISSION_PHASE_NAME = ME_Phase_9
PROCESSING_LEVEL_ID = 3
PRODUCT_CREATION_TIME = 2016-04-26T13:14:09.000Z
PRODUCT_ID = "H4702_0000_P23.JP2"
RELEASE_ID = 0054
REVISION_ID = 0000
/* QUALITY DATA ELEMENTS */
DATA_QUALITY_ID = 1
DATA_QUALITY_DESC = "Data calculated based on original SPICE kernels"
/* TIME DATA ELEMENTS */
SPACECRAFT_CLOCK_START_COUNT = "1/0136710745.07302"
SPACECRAFT_CLOCK_STOP_COUNT = "1/0136711069.36669"
START_TIME = 2007-09-01T07:13:32.203Z
STOP_TIME = 2007-09-01T07:17:25.973Z
/* ORBITAL DATA ELEMENTS */
ASCENDING_NODE_LONGITUDE = 130.09
MAXIMUM_RESOLUTION = 35.1
FOOTPRINT_POINT_LATITUDE = (-84.2652,-84.4751,-84.6915,-84.9483, -85.1783,-84.9824,-84.7848,-84.5837, -84.2732,-84.0635,-83.8523,-83.637, -83.4182,-83.1988,-82.9772,-82.7509, -82.5252,-82.3,-82.0681,-81.8352, -81.6022,-81.3646,-81.126,-80.8869, -80.522,-80.2782,-79.9066,-79.6579, -79.4065,-79.1531,-78.7717,-78.5131, -78.2552,-77.9925,-77.7305,-77.3317, -77.0653,-76.7947,-76.5247,-76.2503, -75.976,-75.698,-75.2778,-74.9979, -74.7136,-74.4283,-74.1397,-73.8499, -73.5573,-73.1152,-72.8187,-72.5645, -72.5198,-72.4623,-72.3714,-72.306, -72.4035,-72.6953,-72.9886,-73.2769, -73.7061,-73.9898,-74.2703,-74.5497, -74.8263,-75.2382,-75.5104,-75.7789, -76.18,-76.4439,-76.7066,-76.9659, -77.2249,-77.6064,-77.8604,-78.1102, -78.3603,-78.728,-78.9724,-79.2153, -79.4558,-79.6952,-79.929,-80.1624, -80.5058,-80.8452,-81.0694,-81.2895, -81.509,-81.7233,-81.9355,-82.2511, -82.5579,-82.7596,-82.9593,-83.153, -83.4387,-83.7178,-83.8963,-84.2652)
FOOTPRINT_POINT_LONGITUDE = (282.952,285.409,288.292,292.33,295.209 ,296.572,297.828,298.99,300.603,301.588 ,302.503,303.365,304.178,304.937, 305.647,306.327,306.965,307.566,308.141 ,308.682,309.192,309.682,310.146, 310.584,311.211,311.602,312.16,312.51, 312.845,313.168,313.627,313.917,314.195 ,314.465,314.722,315.094,315.328, 315.556,315.774,315.987,316.19,316.389, 316.671,316.856,317.032,317.203,317.368 ,317.527,317.684,317.909,318.053, 316.957,315.838,314.587,312.865,311.772 ,310.908,310.716,310.512,310.306, 309.983,309.759,309.529,309.289,309.042 ,308.654,308.385,308.108,307.671, 307.368,307.053,306.728,306.39,305.862, 305.489,305.105,304.702,304.074,303.631 ,303.16,302.674,302.165,301.644,301.096 ,300.239,299.319,298.662,297.983, 297.264,296.53,295.748,294.493,293.152, 292.194,291.18,290.127,288.426,286.573, 285.268,282.952)
ORBIT_NUMBER = 4702
ORBITAL_ECCENTRICITY = 0.57
ORBITAL_INCLINATION = 86.69
ORBITAL_SEMIMAJOR_AXIS = 8540.45
PERIAPSIS_ALTITUDE = 296.89
PERIAPSIS_ARGUMENT_ANGLE = 250.84
PERIAPSIS_TIME = 2007-09-01T07:07:08.000Z
SPACECRAFT_ORIENTATION = (0.0,-1.0,0.0)
^MEX_ORIENTATION_DESC = "MEX_ORIENTATION_DESC.TXT"
SPACECRAFT_POINTING_MODE = ACROSSTRACK
^MEX_POINTING_DESC = "MEX_POINTING_DESC.TXT"
RIGHT_ASCENSION = -1e+32
DECLINATION = -1e+32
OFFSET_ANGLE = -0.1
SPACECRAFT_SOLAR_DISTANCE = 2.1445e+08
TARGET_NAME = MARS
/* CAMERA DATA ELEMENTS */
DETECTOR_TEMPERATURE = 18.7783
FOCAL_PLANE_TEMPERATURE = 9.195
INST_CMPRS_NAME = "DISCRETE COSINE TRANSFORMATION (DCT)"
INST_CMPRS_RATIO = 8.00425
INST_CMPRS_QUALITY = 0
INST_CMPRS_QUANTZ_TBL_ID = 0
INSTRUMENT_TEMPERATURE = 11.4379
LENS_TEMPERATURE = 9.8067
MACROPIXEL_SIZE = 2
MISSING_FRAMES = 0
PIXEL_SUBSAMPLING_FLAG = N
SIGNAL_CHAIN_ID = 3
/* RADIOMETRIC DATA ELEMENTS */
BANDWIDTH = 177.0
CENTER_FILTER_WAVELENGTH = 676.5
RADIANCE_OFFSET = 4.25944
RADIANCE_SCALING_FACTOR = 0.0152656
REFLECTANCE_SCALING_FACTOR = 0.000372241
MEX:REFLECTANCE_OFFSET = 0.103863
/* IMAGE OBJECT DEFINITIONS */
OBJECT = IMAGE
  INTERCHANGE_FORMAT = BINARY
  LINES = 30532
  LINE_SAMPLES = 12908
  SAMPLE_TYPE = UNSIGNED_INTEGER
  SAMPLE_BITS = 8
  BANDS = 1
  BAND_STORAGE_TYPE = BAND_SEQUENTIAL
  MAXIMUM = 255
  MEAN = 123.587
  MINIMUM = 1
  STANDARD_DEVIATION = 52.938
END_OBJECT = IMAGE
/* MAP OBJECT DEFINITIONS */
OBJECT = IMAGE_MAP_PROJECTION
  ^DATA_SET_MAP_PROJECTION_CATALOG= "DSMAP.CAT"
  A_AXIS_RADIUS = 3396.0
  B_AXIS_RADIUS = 3396.0
  C_AXIS_RADIUS = 3396.0
  CENTER_LATITUDE = 0.0
  CENTER_LONGITUDE = 308.0
  COORDINATE_SYSTEM_NAME = PLANETOGRAPHIC
  COORDINATE_SYSTEM_TYPE = "BODY-FIXED ROTATING"
  EASTERNMOST_LONGITUDE = 318.053
  FIRST_STANDARD_PARALLEL = "N/A"
  LINE_FIRST_PIXEL = 1
  LINE_LAST_PIXEL = 30532
  LINE_PROJECTION_OFFSET = -171362.25
  MAP_PROJECTION_ROTATION = 0.0
  MAP_PROJECTION_TYPE = SINUSOIDAL
  MAP_RESOLUTION = 2370.85521546667
  MAP_SCALE = 0.025
  MAXIMUM_LATITUDE = -72.306
  MINIMUM_LATITUDE = -85.17829999999999
  POSITIVE_LONGITUDE_DIRECTION = EAST
  REFERENCE_LATITUDE = "N/A"
  REFERENCE_LONGITUDE = "N/A"
  SAMPLE_FIRST_PIXEL = 1
  SAMPLE_LAST_PIXEL = 12908
  SAMPLE_PROJECTION_OFFSET = 5999.75
  SECOND_STANDARD_PARALLEL = "N/A"
  WESTERNMOST_LONGITUDE = 282.952
END_OBJECT = IMAGE_MAP_PROJECTION
/* The JPEG2000 image data file associated with this label. */
OBJECT = COMPRESSED_FILE
  FILE_NAME = "H4702_0000_P23.JP2"
  RECORD_TYPE = UNDEFINED
  FILE_RECORDS = UNK
  ENCODING_TYPE = "JP2"
  INTERCHANGE_FORMAT = BINARY
  UNCOMPRESSED_FILE_NAME = "H4702_0000_P23.IMG"
  REQUIRED_STORAGE_BYTES = "394145780"
  ^DESCRIPTION = "JP2INFO.TXT"
END_OBJECT = COMPRESSED_FILE
END
