PDS_VERSION_ID = PDS3
/* FILE DATA ELEMENTS */
RECORD_TYPE = STREAM
/* POINTERS TO DATA OBJECTS */
^COMPRESSED_FILE = "H4703_0000_P13.JP2"
/* IDENTIFICATION DATA ELEMENTS */
DATA_SET_ID = "MEX-M-HRSC-5-REFDR-MAPPROJECTED-V3.0"
DATA_SET_NAME = "MARS EXPRESS HRSC MAP PROJECTED REFDR V3.0"
DETECTOR_ID = MEX_HRSC_P1
EVENT_TYPE = "MARS-REGIONAL-MAPPING-Gl-La"
INSTRUMENT_HOST_ID = MEX
INSTRUMENT_HOST_NAME = "MARS EXPRESS"
INSTRUMENT_ID = HRSC
INSTRUMENT_NAME = "HIGH RESOLUTION STEREO CAMERA"
MISSION_NAME = "MARS EXPRESS"
MISSION_PHASE_NAME = ME_Phase_9
PROCESSING_LEVEL_ID = 3
PRODUCT_CREATION_TIME = 2016-04-26T13:14:09.000Z
PRODUCT_ID = "H4703_0000_P13.JP2"
RELEASE_ID = 0054
REVISION_ID = 0000
/* QUALITY DATA ELEMENTS */
DATA_QUALITY_ID = 1
DATA_QUALITY_DESC = "Data calculated based on original SPICE kernels"
/* TIME DATA ELEMENTS */
SPACECRAFT_CLOCK_START_COUNT = "1/0136734978.09065"
SPACECRAFT_CLOCK_STOP_COUNT = "1/0136735249.41199"
START_TIME = 2007-09-01T13:56:35.112Z
STOP_TIME = 2007-09-01T13:59:08.915Z
/* ORBITAL DATA ELEMENTS */
ASCENDING_NODE_LONGITUDE = 130.07
MAXIMUM_RESOLUTION = 34.5
FOOTPRINT_POINT_LATITUDE = (-82.6202,-82.6989,-82.7725,-82.8406, -82.9028,-82.9588,-83.0082,-82.8091, -82.4638,-82.1181,-81.8534,-81.6762, -81.4989,-81.3217,-81.1444,-80.9631, -80.7816,-80.6,-80.3277,-80.1428, -79.865,-79.6801,-79.4946,-79.3073, -79.0232,-78.7391,-78.5497,-78.3559, -78.1625,-77.9691,-77.7755,-77.5786, -77.3813,-77.1842,-76.987,-76.7859, -76.4849,-76.284,-76.0809,-75.8763, -75.5697,-75.3626,-75.1546,-74.947, -74.6332,-74.4213,-74.1043,-73.7825, -73.5678,-73.3529,-73.3135,-73.2904, -73.2649,-73.2446,-73.2036,-73.2518, -73.5714,-73.784,-73.9942,-74.2026, -74.4118,-74.6198,-74.825,-75.0304, -75.2359,-75.4382,-75.6391,-75.8406, -76.1397,-76.3371,-76.5349,-76.7329, -76.9281,-77.2178,-77.5079,-77.7919, -77.9828,-78.172,-78.3597,-78.5449, -78.7302,-78.9154,-79.0994,-79.2803, -79.4606,-79.6409,-79.8215,-80.0887, -80.264,-80.4394,-80.6171,-80.7922, -80.9624,-81.219,-81.3893,-81.5594, -81.7285,-82.0585,-82.305,-82.6202)
FOOTPRINT_POINT_LONGITUDE = (203.211,204.805,206.449,208.146, 209.893,211.689,213.537,215.395,215.979 ,216.512,216.888,217.125,217.353, 217.571,217.779,217.984,218.18,218.37, 218.64,218.822,219.066,219.22,219.372, 219.521,219.734,219.937,220.066,220.197 ,220.32,220.44,220.559,220.673,220.784, 220.891,220.996,221.099,221.244,221.339 ,221.43,221.52,221.65,221.737,221.818, 221.896,222.011,222.087,222.195,222.3, 222.366,222.432,221.45,220.205,219.172, 218.469,217.267,215.759,215.587,215.469 ,215.348,215.225,215.097,214.966, 214.833,214.695,214.553,214.409,214.261 ,214.108,213.872,213.71,213.542,213.368 ,213.191,212.917,212.629,212.333, 212.124,211.91,211.691,211.467,211.234, 210.994,210.746,210.493,210.232,209.961 ,209.678,209.239,208.938,208.624,208.29 ,207.949,207.606,207.058,206.675, 206.275,205.86,204.994,204.293,203.211)
ORBIT_NUMBER = 4703
ORBITAL_ECCENTRICITY = 0.57
ORBITAL_INCLINATION = 86.69
ORBITAL_SEMIMAJOR_AXIS = 8541.33
PERIAPSIS_ALTITUDE = 296.05
PERIAPSIS_ARGUMENT_ANGLE = 250.66
PERIAPSIS_TIME = 2007-09-01T13:50:18.000Z
SPACECRAFT_ORIENTATION = (0.0,-1.0,0.0)
^MEX_ORIENTATION_DESC = "MEX_ORIENTATION_DESC.TXT"
SPACECRAFT_POINTING_MODE = ACROSSTRACK
^MEX_POINTING_DESC = "MEX_POINTING_DESC.TXT"
RIGHT_ASCENSION = -1e+32
DECLINATION = -1e+32
OFFSET_ANGLE = -1.0
SPACECRAFT_SOLAR_DISTANCE = 2.14494e+08
TARGET_NAME = MARS
/* CAMERA DATA ELEMENTS */
DETECTOR_TEMPERATURE = 17.5549
FOCAL_PLANE_TEMPERATURE = 9.8067
INST_CMPRS_NAME = "DISCRETE COSINE TRANSFORMATION (DCT)"
INST_CMPRS_RATIO = 9.60991
INST_CMPRS_QUALITY = 0
INST_CMPRS_QUANTZ_TBL_ID = 0
INSTRUMENT_TEMPERATURE = 11.6418
LENS_TEMPERATURE = 9.8067
MACROPIXEL_SIZE = 2
MISSING_FRAMES = 0
PIXEL_SUBSAMPLING_FLAG = N
SIGNAL_CHAIN_ID = 3
/* RADIOMETRIC DATA ELEMENTS */
BANDWIDTH = 174.0
CENTER_FILTER_WAVELENGTH = 675.0
RADIANCE_OFFSET = 4.60293
RADIANCE_SCALING_FACTOR = 0.0102393
REFLECTANCE_SCALING_FACTOR = 0.000253391
MEX:REFLECTANCE_OFFSET = 0.113908
/* IMAGE OBJECT DEFINITIONS */
OBJECT = IMAGE
  INTERCHANGE_FORMAT = BINARY
  LINES = 23432
  LINE_SAMPLES = 8355
  SAMPLE_TYPE = UNSIGNED_INTEGER
  SAMPLE_BITS = 8
  BANDS = 1
  BAND_STORAGE_TYPE = BAND_SEQUENTIAL
  MAXIMUM = 255
  MEAN = 142.374
  MINIMUM = 1
  STANDARD_DEVIATION = 57.2185
END_OBJECT = IMAGE
/* MAP OBJECT DEFINITIONS */
OBJECT = IMAGE_MAP_PROJECTION
  ^DATA_SET_MAP_PROJECTION_CATALOG= "DSMAP.CAT"
  A_AXIS_RADIUS = 3396.0
  B_AXIS_RADIUS = 3396.0
  C_AXIS_RADIUS = 3396.0
  CENTER_LATITUDE = 0.0
  CENTER_LONGITUDE = 216.0
  COORDINATE_SYSTEM_NAME = PLANETOGRAPHIC
  COORDINATE_SYSTEM_TYPE = "BODY-FIXED ROTATING"
  EASTERNMOST_LONGITUDE = 222.432
  FIRST_STANDARD_PARALLEL = "N/A"
  LINE_FIRST_PIXEL = 1
  LINE_LAST_PIXEL = 23432
  LINE_PROJECTION_OFFSET = -173319.75
  MAP_PROJECTION_ROTATION = 0.0
  MAP_PROJECTION_TYPE = SINUSOIDAL
  MAP_RESOLUTION = 2370.85521546667
  MAP_SCALE = 0.025
  MAXIMUM_LATITUDE = -73.20359999999999
  MINIMUM_LATITUDE = -83.0082
  POSITIVE_LONGITUDE_DIRECTION = EAST
  REFERENCE_LATITUDE = "N/A"
  REFERENCE_LONGITUDE = "N/A"
  SAMPLE_FIRST_PIXEL = 1
  SAMPLE_LAST_PIXEL = 8355
  SAMPLE_PROJECTION_OFFSET = 3894.25
  SECOND_STANDARD_PARALLEL = "N/A"
  WESTERNMOST_LONGITUDE = 203.211
END_OBJECT = IMAGE_MAP_PROJECTION
/* The JPEG2000 image data file associated with this label. */
OBJECT = COMPRESSED_FILE
  FILE_NAME = "H4703_0000_P13.JP2"
  RECORD_TYPE = UNDEFINED
  FILE_RECORDS = UNK
  ENCODING_TYPE = "JP2"
  INTERCHANGE_FORMAT = BINARY
  UNCOMPRESSED_FILE_NAME = "H4703_0000_P13.IMG"
  REQUIRED_STORAGE_BYTES = "195807780"
  ^DESCRIPTION = "JP2INFO.TXT"
END_OBJECT = COMPRESSED_FILE
END
