PDS_VERSION_ID = PDS3
/* FILE DATA ELEMENTS */
RECORD_TYPE = STREAM
/* POINTERS TO DATA OBJECTS */
^COMPRESSED_FILE = "H4705_0000_S13.JP2"
/* IDENTIFICATION DATA ELEMENTS */
DATA_SET_ID = "MEX-M-HRSC-5-REFDR-MAPPROJECTED-V3.0"
DATA_SET_NAME = "MARS EXPRESS HRSC MAP PROJECTED REFDR V3.0"
DETECTOR_ID = MEX_HRSC_S1
EVENT_TYPE = "MARS-LOCAL-STEREO-Te-Im-Gl"
INSTRUMENT_HOST_ID = MEX
INSTRUMENT_HOST_NAME = "MARS EXPRESS"
INSTRUMENT_ID = HRSC
INSTRUMENT_NAME = "HIGH RESOLUTION STEREO CAMERA"
MISSION_NAME = "MARS EXPRESS"
MISSION_PHASE_NAME = ME_Phase_9
PROCESSING_LEVEL_ID = 3
PRODUCT_CREATION_TIME = 2016-04-26T13:14:09.000Z
PRODUCT_ID = "H4705_0000_S13.JP2"
RELEASE_ID = 0054
REVISION_ID = 0000
/* QUALITY DATA ELEMENTS */
DATA_QUALITY_ID = 2
DATA_QUALITY_DESC = "Data calculated based on photogrammetrically improved orbit and attitude data"
/* TIME DATA ELEMENTS */
SPACECRAFT_CLOCK_START_COUNT = "1/0136783358.09067"
SPACECRAFT_CLOCK_STOP_COUNT = "1/0136783621.42811"
START_TIME = 2007-09-02T03:22:42.107Z
STOP_TIME = 2007-09-02T03:25:06.253Z
/* ORBITAL DATA ELEMENTS */
ASCENDING_NODE_LONGITUDE = 130.02
MAXIMUM_RESOLUTION = 17.4
FOOTPRINT_POINT_LATITUDE = (-82.8064,-82.9074,-83.0183,-83.1239, -83.2118,-83.3068,-83.3959,-83.2119, -82.9753,-82.8151,-82.6558,-82.4945, -82.3343,-82.0932,-81.9241,-81.7554, -81.5922,-81.3395,-81.1714,-80.9124, -80.7383,-80.4761,-80.3023,-80.1247, -79.9465,-79.6797,-79.4116,-79.229, -79.0472,-78.864,-78.6811,-78.497, -78.3107,-78.0306,-77.8466,-77.5552, -77.3601,-77.1689,-76.9789,-76.7858, -76.5901,-76.4001,-76.1068,-75.9073, -75.7073,-75.5093,-75.2069,-75.0046, -74.8013,-74.5953,-74.2498,-74.2083, -74.1702,-74.1052,-74.0584,-73.9838, -74.0246,-74.2245,-74.4304,-74.6298, -74.8296,-75.1279,-75.4214,-75.6173, -75.8122,-76.004,-76.1949,-76.3865, -76.5775,-76.7656,-76.9531,-77.14, -77.3278,-77.5123,-77.6962,-77.9624, -78.1426,-78.3195,-78.4967,-78.6739, -78.9385,-79.1104,-79.2845,-79.5391, -79.7083,-79.9603,-80.1272,-80.2906, -80.4578,-80.7036,-80.9434,-81.103, -81.3413,-81.5774,-81.7299,-81.8823, -82.0331,-82.2582,-82.5537,-82.8064)
FOOTPRINT_POINT_LONGITUDE = (357.875,359.176,360.71,362.295,363.723 ,365.402,367.133,369.334,370.115,370.61 ,371.075,371.53,371.956,372.56,372.974, 373.367,373.716,374.248,374.581,375.072 ,375.388,375.843,376.128,376.407, 376.677,377.062,377.43,377.669,377.896, 378.121,378.336,378.546,378.749,379.043 ,379.224,379.518,379.706,379.878, 380.043,380.204,380.365,380.508,380.733 ,380.88,381.025,381.161,381.363,381.493 ,381.621,381.749,381.551,380.501, 379.655,378.364,377.53,376.323,375.329, 375.16,374.989,374.815,374.635,374.357, 374.071,373.873,373.67,373.464,373.252, 373.033,372.808,372.581,372.346,372.104 ,371.854,371.6,371.34,370.936,370.655, 370.371,370.077,369.773,369.298,368.975 ,368.641,368.121,367.759,367.199, 366.812,366.413,365.996,365.347,364.676 ,364.207,363.47,362.692,362.161,361.609 ,361.036,360.134,358.852,357.875)
ORBIT_NUMBER = 4705
ORBITAL_ECCENTRICITY = 0.57
ORBITAL_INCLINATION = 86.68
ORBITAL_SEMIMAJOR_AXIS = 8540.64
PERIAPSIS_ALTITUDE = 297.0
PERIAPSIS_ARGUMENT_ANGLE = 250.29
PERIAPSIS_TIME = 2007-09-02T03:16:42.000Z
SPACECRAFT_ORIENTATION = (0.0,-1.0,0.0)
^MEX_ORIENTATION_DESC = "MEX_ORIENTATION_DESC.TXT"
SPACECRAFT_POINTING_MODE = ACROSSTRACK
^MEX_POINTING_DESC = "MEX_POINTING_DESC.TXT"
RIGHT_ASCENSION = -1e+32
DECLINATION = -1e+32
OFFSET_ANGLE = -0.1
SPACECRAFT_SOLAR_DISTANCE = 2.14584e+08
TARGET_NAME = MARS
/* CAMERA DATA ELEMENTS */
DETECTOR_TEMPERATURE = 17.9627
FOCAL_PLANE_TEMPERATURE = 9.8067
INST_CMPRS_NAME = "DISCRETE COSINE TRANSFORMATION (DCT)"
INST_CMPRS_RATIO = 7.5245
INST_CMPRS_QUALITY = 0
INST_CMPRS_QUANTZ_TBL_ID = 0
INSTRUMENT_TEMPERATURE = 11.6418
LENS_TEMPERATURE = 9.3989
MACROPIXEL_SIZE = 1
MISSING_FRAMES = 0
PIXEL_SUBSAMPLING_FLAG = N
SIGNAL_CHAIN_ID = 2
/* RADIOMETRIC DATA ELEMENTS */
BANDWIDTH = 180.0
CENTER_FILTER_WAVELENGTH = 677.0
RADIANCE_OFFSET = 5.22754
RADIANCE_SCALING_FACTOR = 0.0151054
REFLECTANCE_SCALING_FACTOR = 0.000362888
MEX:REFLECTANCE_OFFSET = 0.125585
/* IMAGE OBJECT DEFINITIONS */
OBJECT = IMAGE
  INTERCHANGE_FORMAT = BINARY
  LINES = 44790
  LINE_SAMPLES = 19981
  SAMPLE_TYPE = UNSIGNED_INTEGER
  SAMPLE_BITS = 8
  BANDS = 1
  BAND_STORAGE_TYPE = BAND_SEQUENTIAL
  MAXIMUM = 255
  MEAN = 73.2812
  MINIMUM = 1
  STANDARD_DEVIATION = 26.9396
END_OBJECT = IMAGE
/* MAP OBJECT DEFINITIONS */
OBJECT = IMAGE_MAP_PROJECTION
  ^DATA_SET_MAP_PROJECTION_CATALOG= "DSMAP.CAT"
  A_AXIS_RADIUS = 3396.0
  B_AXIS_RADIUS = 3396.0
  C_AXIS_RADIUS = 3396.0
  CENTER_LATITUDE = 0.0
  CENTER_LONGITUDE = 14.0
  COORDINATE_SYSTEM_NAME = PLANETOGRAPHIC
  COORDINATE_SYSTEM_TYPE = "BODY-FIXED ROTATING"
  EASTERNMOST_LONGITUDE = 21.749
  FIRST_STANDARD_PARALLEL = "N/A"
  LINE_FIRST_PIXEL = 1
  LINE_LAST_PIXEL = 44790
  LINE_PROJECTION_OFFSET = -350323.0
  MAP_PROJECTION_ROTATION = 0.0
  MAP_PROJECTION_TYPE = SINUSOIDAL
  MAP_RESOLUTION = 4741.71043093333
  MAP_SCALE = 0.0125
  MAXIMUM_LATITUDE = -73.9838
  MINIMUM_LATITUDE = -83.3959
  POSITIVE_LONGITUDE_DIRECTION = EAST
  REFERENCE_LATITUDE = "N/A"
  REFERENCE_LONGITUDE = "N/A"
  SAMPLE_FIRST_PIXEL = 1
  SAMPLE_LAST_PIXEL = 19981
  SAMPLE_PROJECTION_OFFSET = 9602.0
  SECOND_STANDARD_PARALLEL = "N/A"
  WESTERNMOST_LONGITUDE = -2.125
END_OBJECT = IMAGE_MAP_PROJECTION
/* The JPEG2000 image data file associated with this label. */
OBJECT = COMPRESSED_FILE
  FILE_NAME = "H4705_0000_S13.JP2"
  RECORD_TYPE = UNDEFINED
  FILE_RECORDS = UNK
  ENCODING_TYPE = "JP2"
  INTERCHANGE_FORMAT = BINARY
  UNCOMPRESSED_FILE_NAME = "H4705_0000_S13.IMG"
  REQUIRED_STORAGE_BYTES = "895008933"
  ^DESCRIPTION = "JP2INFO.TXT"
END_OBJECT = COMPRESSED_FILE
END
