PDS_VERSION_ID = PDS3
/* FILE DATA ELEMENTS */
RECORD_TYPE = STREAM
/* POINTERS TO DATA OBJECTS */
^COMPRESSED_FILE = "H4706_0000_S23.JP2"
/* IDENTIFICATION DATA ELEMENTS */
DATA_SET_ID = "MEX-M-HRSC-5-REFDR-MAPPROJECTED-V3.0"
DATA_SET_NAME = "MARS EXPRESS HRSC MAP PROJECTED REFDR V3.0"
DETECTOR_ID = MEX_HRSC_S2
EVENT_TYPE = "MARS-LOCAL-STEREO-Gl-Eo-La"
INSTRUMENT_HOST_ID = MEX
INSTRUMENT_HOST_NAME = "MARS EXPRESS"
INSTRUMENT_ID = HRSC
INSTRUMENT_NAME = "HIGH RESOLUTION STEREO CAMERA"
MISSION_NAME = "MARS EXPRESS"
MISSION_PHASE_NAME = ME_Phase_9
PROCESSING_LEVEL_ID = 3
PRODUCT_CREATION_TIME = 2016-04-26T13:14:09.000Z
PRODUCT_ID = "H4706_0000_S23.JP2"
RELEASE_ID = 0054
REVISION_ID = 0000
/* QUALITY DATA ELEMENTS */
DATA_QUALITY_ID = 2
DATA_QUALITY_DESC = "Data calculated based on photogrammetrically improved orbit and attitude data"
/* TIME DATA ELEMENTS */
SPACECRAFT_CLOCK_START_COUNT = "1/0136807428.08229"
SPACECRAFT_CLOCK_STOP_COUNT = "1/0136807585.41353"
START_TIME = 2007-09-02T10:04:57.856Z
STOP_TIME = 2007-09-02T10:06:27.622Z
/* ORBITAL DATA ELEMENTS */
ASCENDING_NODE_LONGITUDE = 130.01
MAXIMUM_RESOLUTION = 16.8
FOOTPRINT_POINT_LATITUDE = (-87.0927,-87.1539,-87.1987,-87.214, -87.2242,-87.2289,-87.2277,-87.2204, -87.2066,-87.1861,-87.1377,-87.0086, -87.1777,-87.4044,-87.5768,-87.8063, -88.0353,-88.2061,-88.4318,-88.546, -88.6591,-88.7728,-88.884,-88.993, -89.1516,-89.3446,-89.4296,-89.5001, -89.5602,-89.5614,-89.5036,-89.3944, -89.3037,-89.2028,-89.0955,-88.9275, -88.7543,-88.6369,-88.4588,-88.3371, -88.2138,-88.0281,-87.9042,-87.7802, -87.6554,-87.53,-87.4018,-87.274, -87.1459,-87.0174,-86.8204,-86.8094, -86.7924,-86.751,-86.6993,-86.6592, -86.6077,-86.5576,-86.5034,-86.3936, -86.5254,-86.6461,-86.7661,-86.8854, -87.004,-87.1191,-87.2891,-87.4008, -87.511,-87.62,-87.7267,-87.8305, -87.9305,-88.0272,-88.1211,-88.2117, -88.2976,-88.3787,-88.4536,-88.5212, -88.5806,-88.6317,-88.6895,-88.7261, -88.7332,-88.7303,-88.705,-88.6566, -88.5874,-88.5001,-88.3606,-88.2421, -88.0294,-87.8926,-87.702,-87.5038, -87.1999,-87.0462,-87.0927)
FOOTPRINT_POINT_LONGITUDE = (142.139,137.758,133.052,130.586, 128.052,125.461,122.821,120.139,117.427 ,114.693,110.243,107.221,106.724, 105.959,105.266,104.179,102.856,101.642 ,99.5982,98.3112,96.7765,95.0181,92.866 ,90.236,85.0509,74.324,66.3015,55.5997, 34.4257,18.4745,357.044,341.543,334.368 ,328.783,324.515,319.73,316.296,314.505 ,312.322,311.112,310.051,308.729, 308.012,307.391,306.792,306.251,305.748 ,305.331,304.933,304.556,302.963, 299.118,296.386,292.13,288.422,286.083, 283.548,281.4,279.345,275.752,273.179, 272.367,271.495,270.557,269.545,268.469 ,266.692,265.379,263.948,262.388, 260.676,258.813,256.801,254.584,252.144 ,249.452,246.48,243.201,239.591,235.692 ,231.48,226.924,219.531,211.518,206.111 ,200.618,192.691,185.247,178.403, 172.278,165.194,160.634,154.53,151.451, 147.923,144.946,141.314,139.798, 142.139)
ORBIT_NUMBER = 4706
ORBITAL_ECCENTRICITY = 0.57
ORBITAL_INCLINATION = 86.68
ORBITAL_SEMIMAJOR_AXIS = 8542.77
PERIAPSIS_ALTITUDE = 296.98
PERIAPSIS_ARGUMENT_ANGLE = 250.13
PERIAPSIS_TIME = 2007-09-02T09:59:59.000Z
SPACECRAFT_ORIENTATION = (0.0,-1.0,0.0)
^MEX_ORIENTATION_DESC = "MEX_ORIENTATION_DESC.TXT"
SPACECRAFT_POINTING_MODE = INERT
^MEX_POINTING_DESC = "MEX_POINTING_DESC.TXT"
RIGHT_ASCENSION = 283.725
DECLINATION = 62.214
OFFSET_ANGLE = -1e+32
SPACECRAFT_SOLAR_DISTANCE = 2.14629e+08
TARGET_NAME = MARS
/* CAMERA DATA ELEMENTS */
DETECTOR_TEMPERATURE = 18.7783
FOCAL_PLANE_TEMPERATURE = 8.9911
INST_CMPRS_NAME = "DISCRETE COSINE TRANSFORMATION (DCT)"
INST_CMPRS_RATIO = 6.38046
INST_CMPRS_QUALITY = 0
INST_CMPRS_QUANTZ_TBL_ID = 0
INSTRUMENT_TEMPERATURE = 11.4379
LENS_TEMPERATURE = 9.3989
MACROPIXEL_SIZE = 1
MISSING_FRAMES = 0
PIXEL_SUBSAMPLING_FLAG = N
SIGNAL_CHAIN_ID = 1
/* RADIOMETRIC DATA ELEMENTS */
BANDWIDTH = 178.0
CENTER_FILTER_WAVELENGTH = 679.0
RADIANCE_OFFSET = 3.947
RADIANCE_SCALING_FACTOR = 0.0343545
REFLECTANCE_SCALING_FACTOR = 0.000838099
MEX:REFLECTANCE_OFFSET = 0.0962893
/* IMAGE OBJECT DEFINITIONS */
OBJECT = IMAGE
  INTERCHANGE_FORMAT = BINARY
  LINES = 19435
  LINE_SAMPLES = 29124
  SAMPLE_TYPE = UNSIGNED_INTEGER
  SAMPLE_BITS = 8
  BANDS = 1
  BAND_STORAGE_TYPE = BAND_SEQUENTIAL
  MAXIMUM = 255
  MEAN = 102.469
  MINIMUM = 1
  STANDARD_DEVIATION = 84.6223
END_OBJECT = IMAGE
/* MAP OBJECT DEFINITIONS */
OBJECT = IMAGE_MAP_PROJECTION
  ^DATA_SET_MAP_PROJECTION_CATALOG= "DSMAP.CAT"
  A_AXIS_RADIUS = 3396.0
  B_AXIS_RADIUS = 3396.0
  C_AXIS_RADIUS = 3396.0
  CENTER_LATITUDE = -90.0
  CENTER_LONGITUDE = 0.0
  COORDINATE_SYSTEM_NAME = PLANETOGRAPHIC
  COORDINATE_SYSTEM_TYPE = "BODY-FIXED ROTATING"
  EASTERNMOST_LONGITUDE = 360.0
  FIRST_STANDARD_PARALLEL = "N/A"
  LINE_FIRST_PIXEL = 1
  LINE_LAST_PIXEL = 19435
  LINE_PROJECTION_OFFSET = 8179.0
  MAP_PROJECTION_ROTATION = 0.0
  MAP_PROJECTION_TYPE = STEREOGRAPHIC
  MAP_RESOLUTION = 4741.71043093333
  MAP_SCALE = 0.0125
  MAXIMUM_LATITUDE = -86.39360000000001
  MINIMUM_LATITUDE = -90.0
  POSITIVE_LONGITUDE_DIRECTION = EAST
  REFERENCE_LATITUDE = "N/A"
  REFERENCE_LONGITUDE = "N/A"
  SAMPLE_FIRST_PIXEL = 1
  SAMPLE_LAST_PIXEL = 29124
  SAMPLE_PROJECTION_OFFSET = 16568.0
  SECOND_STANDARD_PARALLEL = "N/A"
  WESTERNMOST_LONGITUDE = 0.0
END_OBJECT = IMAGE_MAP_PROJECTION
/* The JPEG2000 image data file associated with this label. */
OBJECT = COMPRESSED_FILE
  FILE_NAME = "H4706_0000_S23.JP2"
  RECORD_TYPE = UNDEFINED
  FILE_RECORDS = UNK
  ENCODING_TYPE = "JP2"
  INTERCHANGE_FORMAT = BINARY
  UNCOMPRESSED_FILE_NAME = "H4706_0000_S23.IMG"
  REQUIRED_STORAGE_BYTES = "566112312"
  ^DESCRIPTION = "JP2INFO.TXT"
END_OBJECT = COMPRESSED_FILE
END
