PDS_VERSION_ID = PDS3
/* FILE DATA ELEMENTS */
RECORD_TYPE = STREAM
/* POINTERS TO DATA OBJECTS */
^COMPRESSED_FILE = "H4707_0000_GR3.JP2"
/* IDENTIFICATION DATA ELEMENTS */
DATA_SET_ID = "MEX-M-HRSC-5-REFDR-MAPPROJECTED-V3.0"
DATA_SET_NAME = "MARS EXPRESS HRSC MAP PROJECTED REFDR V3.0"
DETECTOR_ID = MEX_HRSC_GREEN
EVENT_TYPE = "MARS-REGIONAL-MAPPING-Gl-La"
INSTRUMENT_HOST_ID = MEX
INSTRUMENT_HOST_NAME = "MARS EXPRESS"
INSTRUMENT_ID = HRSC
INSTRUMENT_NAME = "HIGH RESOLUTION STEREO CAMERA"
MISSION_NAME = "MARS EXPRESS"
MISSION_PHASE_NAME = ME_Phase_9
PROCESSING_LEVEL_ID = 3
PRODUCT_CREATION_TIME = 2016-04-26T13:14:09.000Z
PRODUCT_ID = "H4707_0000_GR3.JP2"
RELEASE_ID = 0054
REVISION_ID = 0000
/* QUALITY DATA ELEMENTS */
DATA_QUALITY_ID = 1
DATA_QUALITY_DESC = "Data calculated based on original SPICE kernels"
/* TIME DATA ELEMENTS */
SPACECRAFT_CLOCK_START_COUNT = "1/0136831679.08421"
SPACECRAFT_CLOCK_STOP_COUNT = "1/0136831958.32412"
START_TIME = 2007-09-02T16:48:32.217Z
STOP_TIME = 2007-09-02T16:51:32.758Z
/* ORBITAL DATA ELEMENTS */
ASCENDING_NODE_LONGITUDE = 129.99
MAXIMUM_RESOLUTION = 61.8
FOOTPRINT_POINT_LATITUDE = (-85.0629,-85.4492,-85.8243,-86.1763, -85.9784,-85.7834,-85.5612,-85.4388, -85.3101,-85.1762,-85.0374,-84.894, -84.7444,-84.5893,-84.4303,-84.2696, -84.1059,-83.8494,-83.6748,-83.4979, -83.3191,-83.1343,-82.9472,-82.7582, -82.5689,-82.3744,-82.178,-81.9799, -81.7809,-81.4743,-81.2684,-81.0616, -80.7449,-80.5319,-80.3183,-79.9916, -79.772,-79.552,-79.3281,-79.1027, -78.8771,-78.6478,-78.4169,-78.1858, -77.9517,-77.7156,-77.4793,-77.2395, -77.0056,-76.9362,-76.8563,-76.7808, -76.6947,-76.603,-76.4993,-76.6681, -76.9001,-77.1286,-77.3569,-77.694, -77.9154,-78.138,-78.3558,-78.572, -78.8943,-79.1036,-79.3127,-79.6231, -79.8255,-80.0265,-80.3247,-80.5188, -80.712,-80.9982,-81.1832,-81.3663, -81.5447,-81.7232,-81.8983,-82.072, -82.2423,-82.4099,-82.5704,-82.7287, -82.8846,-83.1112,-83.2507,-83.3903, -83.5295,-83.6656,-83.795,-83.9167, -84.0342,-84.1468,-84.2541,-84.3555, -84.5377,-84.6977,-84.8305,-85.0629)
FOOTPRINT_POINT_LONGITUDE = (120.109,121.442,122.985,124.958, 131.708,136.591,141.005,143.078,145.053 ,146.919,148.68,150.342,151.935,153.452 ,154.883,156.23,157.501,159.317,160.446 ,161.512,162.52,163.495,164.419,165.295 ,166.124,166.924,167.688,168.413, 169.102,170.093,170.715,171.307,172.158 ,172.696,173.208,173.946,174.414,174.86 ,175.295,175.713,176.113,176.501, 176.877,177.236,177.586,177.924,178.248 ,178.565,178.861,177.732,176.532, 175.479,174.359,173.245,172.069,170.982 ,170.597,170.201,169.791,169.152, 168.701,168.243,167.775,167.285,166.517 ,165.983,165.429,164.561,163.96,163.33, 162.343,161.661,160.95,159.828,159.051, 158.238,157.37,156.488,155.59,154.654, 153.666,152.638,151.578,150.471,149.315 ,147.481,146.197,144.873,143.506, 142.081,140.604,139.079,137.492,135.839 ,134.121,132.353,128.689,124.783, 120.646,120.109)
ORBIT_NUMBER = 4707
ORBITAL_ECCENTRICITY = 0.57
ORBITAL_INCLINATION = 86.68
ORBITAL_SEMIMAJOR_AXIS = 8542.16
PERIAPSIS_ALTITUDE = 296.97
PERIAPSIS_ARGUMENT_ANGLE = 249.95
PERIAPSIS_TIME = 2007-09-02T16:43:11.000Z
SPACECRAFT_ORIENTATION = (0.0,-1.0,0.0)
^MEX_ORIENTATION_DESC = "MEX_ORIENTATION_DESC.TXT"
SPACECRAFT_POINTING_MODE = ACROSSTRACK
^MEX_POINTING_DESC = "MEX_POINTING_DESC.TXT"
RIGHT_ASCENSION = -1e+32
DECLINATION = -1e+32
OFFSET_ANGLE = 0.9
SPACECRAFT_SOLAR_DISTANCE = 2.14675e+08
TARGET_NAME = MARS
/* CAMERA DATA ELEMENTS */
DETECTOR_TEMPERATURE = 18.5744
FOCAL_PLANE_TEMPERATURE = 10.0106
INST_CMPRS_NAME = "DISCRETE COSINE TRANSFORMATION (DCT)"
INST_CMPRS_RATIO = 15.0165
INST_CMPRS_QUALITY = 0
INST_CMPRS_QUANTZ_TBL_ID = 0
INSTRUMENT_TEMPERATURE = 11.4379
LENS_TEMPERATURE = 10.2145
MACROPIXEL_SIZE = 4
MISSING_FRAMES = 0
PIXEL_SUBSAMPLING_FLAG = N
SIGNAL_CHAIN_ID = 2
/* RADIOMETRIC DATA ELEMENTS */
BANDWIDTH = 88.0
CENTER_FILTER_WAVELENGTH = 538.0
RADIANCE_OFFSET = 1.38845
RADIANCE_SCALING_FACTOR = 0.00290394
REFLECTANCE_SCALING_FACTOR = 0.000115224
MEX:REFLECTANCE_OFFSET = 0.0550915
/* IMAGE OBJECT DEFINITIONS */
OBJECT = IMAGE
  INTERCHANGE_FORMAT = BINARY
  LINES = 11549
  LINE_SAMPLES = 9113
  SAMPLE_TYPE = UNSIGNED_INTEGER
  SAMPLE_BITS = 8
  BANDS = 1
  BAND_STORAGE_TYPE = BAND_SEQUENTIAL
  MAXIMUM = 255
  MEAN = 122.239
  MINIMUM = 1
  STANDARD_DEVIATION = 61.8872
END_OBJECT = IMAGE
/* MAP OBJECT DEFINITIONS */
OBJECT = IMAGE_MAP_PROJECTION
  ^DATA_SET_MAP_PROJECTION_CATALOG= "DSMAP.CAT"
  A_AXIS_RADIUS = 3396.0
  B_AXIS_RADIUS = 3396.0
  C_AXIS_RADIUS = 3396.0
  CENTER_LATITUDE = 0.0
  CENTER_LONGITUDE = 161.0
  COORDINATE_SYSTEM_NAME = PLANETOGRAPHIC
  COORDINATE_SYSTEM_TYPE = "BODY-FIXED ROTATING"
  EASTERNMOST_LONGITUDE = 178.861
  FIRST_STANDARD_PARALLEL = "N/A"
  LINE_FIRST_PIXEL = 1
  LINE_LAST_PIXEL = 11549
  LINE_PROJECTION_OFFSET = -90627.875
  MAP_PROJECTION_ROTATION = 0.0
  MAP_PROJECTION_TYPE = SINUSOIDAL
  MAP_RESOLUTION = 1185.42760773333
  MAP_SCALE = 0.05
  MAXIMUM_LATITUDE = -76.49930000000001
  MINIMUM_LATITUDE = -86.1763
  POSITIVE_LONGITUDE_DIRECTION = EAST
  REFERENCE_LATITUDE = "N/A"
  REFERENCE_LONGITUDE = "N/A"
  SAMPLE_FIRST_PIXEL = 1
  SAMPLE_LAST_PIXEL = 9113
  SAMPLE_PROJECTION_OFFSET = 4321.625
  SECOND_STANDARD_PARALLEL = "N/A"
  WESTERNMOST_LONGITUDE = 120.109
END_OBJECT = IMAGE_MAP_PROJECTION
/* The JPEG2000 image data file associated with this label. */
OBJECT = COMPRESSED_FILE
  FILE_NAME = "H4707_0000_GR3.JP2"
  RECORD_TYPE = UNDEFINED
  FILE_RECORDS = UNK
  ENCODING_TYPE = "JP2"
  INTERCHANGE_FORMAT = BINARY
  UNCOMPRESSED_FILE_NAME = "H4707_0000_GR3.IMG"
  REQUIRED_STORAGE_BYTES = "105282489"
  ^DESCRIPTION = "JP2INFO.TXT"
END_OBJECT = COMPRESSED_FILE
END
