PDS_VERSION_ID = PDS3
/* FILE DATA ELEMENTS */
RECORD_TYPE = STREAM
/* POINTERS TO DATA OBJECTS */
^COMPRESSED_FILE = "H4707_0000_IR3.JP2"
/* IDENTIFICATION DATA ELEMENTS */
DATA_SET_ID = "MEX-M-HRSC-5-REFDR-MAPPROJECTED-V3.0"
DATA_SET_NAME = "MARS EXPRESS HRSC MAP PROJECTED REFDR V3.0"
DETECTOR_ID = MEX_HRSC_IR
EVENT_TYPE = "MARS-REGIONAL-MAPPING-Gl-La"
INSTRUMENT_HOST_ID = MEX
INSTRUMENT_HOST_NAME = "MARS EXPRESS"
INSTRUMENT_ID = HRSC
INSTRUMENT_NAME = "HIGH RESOLUTION STEREO CAMERA"
MISSION_NAME = "MARS EXPRESS"
MISSION_PHASE_NAME = ME_Phase_9
PROCESSING_LEVEL_ID = 3
PRODUCT_CREATION_TIME = 2016-04-26T13:14:09.000Z
PRODUCT_ID = "H4707_0000_IR3.JP2"
RELEASE_ID = 0054
REVISION_ID = 0000
/* QUALITY DATA ELEMENTS */
DATA_QUALITY_ID = 1
DATA_QUALITY_DESC = "Data calculated based on original SPICE kernels"
/* TIME DATA ELEMENTS */
SPACECRAFT_CLOCK_START_COUNT = "1/0136831679.08421"
SPACECRAFT_CLOCK_STOP_COUNT = "1/0136831958.32412"
START_TIME = 2007-09-02T16:48:08.978Z
STOP_TIME = 2007-09-02T16:51:00.804Z
/* ORBITAL DATA ELEMENTS */
ASCENDING_NODE_LONGITUDE = 129.99
MAXIMUM_RESOLUTION = 62.4
FOOTPRINT_POINT_LATITUDE = (-84.9614,-85.1913,-85.5704,-85.9392, -86.1762,-86.1032,-86.0204,-85.9286, -85.7746,-85.6623,-85.5436,-85.4188, -85.222,-84.9405,-84.7925,-84.6397, -84.4819,-84.2395,-84.0747,-83.9061, -83.7343,-83.5588,-83.3772,-83.1932, -83.007,-82.8166,-82.6276,-82.4327, -82.1402,-81.8428,-81.637,-81.4314, -81.2252,-81.0174,-80.8051,-80.5912, -80.377,-80.1617,-79.9409,-79.6084, -79.3861,-79.1595,-78.9313,-78.5871, -78.2372,-78.0026,-77.768,-77.528, -77.2878,-77.0498,-76.9789,-76.9089, -76.8253,-76.7004,-76.6033,-76.5005, -76.6795,-76.913,-77.1448,-77.3724, -77.599,-77.825,-78.0436,-78.2658, -78.4871,-78.7039,-78.9171,-79.1286, -79.3397,-79.548,-79.752,-79.9545, -80.2556,-80.4514,-80.7429,-80.9357, -81.1241,-81.308,-81.4845,-81.7533, -81.9319,-82.1067,-82.2771,-82.5265, -82.6872,-82.8434,-82.9962,-83.1452, -83.3529,-83.4934,-83.6304,-83.8286, -84.07,-84.3429,-84.4424,-84.5356, -84.6228,-84.7044,-84.7774,-84.9614)
FOOTPRINT_POINT_LONGITUDE = (119.095,119.668,120.754,122.021, 124.137,127.038,129.829,132.497,136.277 ,138.641,140.874,142.982,145.918, 149.473,151.106,152.653,154.122,156.178 ,157.452,158.66,159.805,160.895,161.948 ,162.945,163.89,164.793,165.642,166.463 ,167.61,168.679,169.367,170.018,170.637 ,171.229,171.803,172.353,172.876, 173.378,173.867,174.562,175.0,175.426, 175.837,176.423,176.981,177.335,177.676 ,178.009,178.33,178.635,177.632,176.693 ,175.626,174.167,173.113,172.066, 171.148,170.761,170.359,169.95,169.524, 169.081,168.625,168.159,167.674,167.169 ,166.652,166.114,165.554,164.978, 164.383,163.762,162.783,162.11,161.045, 160.296,159.522,158.723,157.886,156.564 ,155.645,154.696,153.703,152.126, 151.023,149.89,148.706,147.469,145.519, 144.161,142.752,140.522,137.337,132.984 ,131.124,129.198,127.203,125.137, 123.017,119.095)
ORBIT_NUMBER = 4707
ORBITAL_ECCENTRICITY = 0.57
ORBITAL_INCLINATION = 86.68
ORBITAL_SEMIMAJOR_AXIS = 8542.16
PERIAPSIS_ALTITUDE = 296.97
PERIAPSIS_ARGUMENT_ANGLE = 249.95
PERIAPSIS_TIME = 2007-09-02T16:43:11.000Z
SPACECRAFT_ORIENTATION = (0.0,-1.0,0.0)
^MEX_ORIENTATION_DESC = "MEX_ORIENTATION_DESC.TXT"
SPACECRAFT_POINTING_MODE = ACROSSTRACK
^MEX_POINTING_DESC = "MEX_POINTING_DESC.TXT"
RIGHT_ASCENSION = -1e+32
DECLINATION = -1e+32
OFFSET_ANGLE = 0.9
SPACECRAFT_SOLAR_DISTANCE = 2.14675e+08
TARGET_NAME = MARS
/* CAMERA DATA ELEMENTS */
DETECTOR_TEMPERATURE = 17.9627
FOCAL_PLANE_TEMPERATURE = 10.0106
INST_CMPRS_NAME = "DISCRETE COSINE TRANSFORMATION (DCT)"
INST_CMPRS_RATIO = 12.4522
INST_CMPRS_QUALITY = 0
INST_CMPRS_QUANTZ_TBL_ID = 0
INSTRUMENT_TEMPERATURE = 11.4379
LENS_TEMPERATURE = 10.2145
MACROPIXEL_SIZE = 4
MISSING_FRAMES = 0
PIXEL_SUBSAMPLING_FLAG = N
SIGNAL_CHAIN_ID = 2
/* RADIOMETRIC DATA ELEMENTS */
BANDWIDTH = 81.0
CENTER_FILTER_WAVELENGTH = 955.5
RADIANCE_OFFSET = 0.843515
RADIANCE_SCALING_FACTOR = 0.00285996
REFLECTANCE_SCALING_FACTOR = 0.000284349
MEX:REFLECTANCE_OFFSET = 0.0838657
/* IMAGE OBJECT DEFINITIONS */
OBJECT = IMAGE
  INTERCHANGE_FORMAT = BINARY
  LINES = 11549
  LINE_SAMPLES = 9113
  SAMPLE_TYPE = UNSIGNED_INTEGER
  SAMPLE_BITS = 8
  BANDS = 1
  BAND_STORAGE_TYPE = BAND_SEQUENTIAL
  MAXIMUM = 255
  MEAN = 115.695
  MINIMUM = 1
  STANDARD_DEVIATION = 58.0889
END_OBJECT = IMAGE
/* MAP OBJECT DEFINITIONS */
OBJECT = IMAGE_MAP_PROJECTION
  ^DATA_SET_MAP_PROJECTION_CATALOG= "DSMAP.CAT"
  A_AXIS_RADIUS = 3396.0
  B_AXIS_RADIUS = 3396.0
  C_AXIS_RADIUS = 3396.0
  CENTER_LATITUDE = 0.0
  CENTER_LONGITUDE = 161.0
  COORDINATE_SYSTEM_NAME = PLANETOGRAPHIC
  COORDINATE_SYSTEM_TYPE = "BODY-FIXED ROTATING"
  EASTERNMOST_LONGITUDE = 178.635
  FIRST_STANDARD_PARALLEL = "N/A"
  LINE_FIRST_PIXEL = 1
  LINE_LAST_PIXEL = 11549
  LINE_PROJECTION_OFFSET = -90627.875
  MAP_PROJECTION_ROTATION = 0.0
  MAP_PROJECTION_TYPE = SINUSOIDAL
  MAP_RESOLUTION = 1185.42760773333
  MAP_SCALE = 0.05
  MAXIMUM_LATITUDE = -76.5005
  MINIMUM_LATITUDE = -86.17619999999999
  POSITIVE_LONGITUDE_DIRECTION = EAST
  REFERENCE_LATITUDE = "N/A"
  REFERENCE_LONGITUDE = "N/A"
  SAMPLE_FIRST_PIXEL = 1
  SAMPLE_LAST_PIXEL = 9113
  SAMPLE_PROJECTION_OFFSET = 4321.625
  SECOND_STANDARD_PARALLEL = "N/A"
  WESTERNMOST_LONGITUDE = 119.095
END_OBJECT = IMAGE_MAP_PROJECTION
/* The JPEG2000 image data file associated with this label. */
OBJECT = COMPRESSED_FILE
  FILE_NAME = "H4707_0000_IR3.JP2"
  RECORD_TYPE = UNDEFINED
  FILE_RECORDS = UNK
  ENCODING_TYPE = "JP2"
  INTERCHANGE_FORMAT = BINARY
  UNCOMPRESSED_FILE_NAME = "H4707_0000_IR3.IMG"
  REQUIRED_STORAGE_BYTES = "105282489"
  ^DESCRIPTION = "JP2INFO.TXT"
END_OBJECT = COMPRESSED_FILE
END
