PDS_VERSION_ID = PDS3
/* FILE DATA ELEMENTS */
RECORD_TYPE = STREAM
/* POINTERS TO DATA OBJECTS */
^COMPRESSED_FILE = "H4707_0000_ND3.JP2"
/* IDENTIFICATION DATA ELEMENTS */
DATA_SET_ID = "MEX-M-HRSC-5-REFDR-MAPPROJECTED-V3.0"
DATA_SET_NAME = "MARS EXPRESS HRSC MAP PROJECTED REFDR V3.0"
DETECTOR_ID = MEX_HRSC_NADIR
EVENT_TYPE = "MARS-REGIONAL-MAPPING-Gl-La"
INSTRUMENT_HOST_ID = MEX
INSTRUMENT_HOST_NAME = "MARS EXPRESS"
INSTRUMENT_ID = HRSC
INSTRUMENT_NAME = "HIGH RESOLUTION STEREO CAMERA"
MISSION_NAME = "MARS EXPRESS"
MISSION_PHASE_NAME = ME_Phase_9
PROCESSING_LEVEL_ID = 3
PRODUCT_CREATION_TIME = 2016-04-26T13:14:09.000Z
PRODUCT_ID = "H4707_0000_ND3.JP2"
RELEASE_ID = 0054
REVISION_ID = 0000
/* QUALITY DATA ELEMENTS */
DATA_QUALITY_ID = 1
DATA_QUALITY_DESC = "Data calculated based on original SPICE kernels"
/* TIME DATA ELEMENTS */
SPACECRAFT_CLOCK_START_COUNT = "1/0136831679.08421"
SPACECRAFT_CLOCK_STOP_COUNT = "1/0136831958.32412"
START_TIME = 2007-09-02T16:48:38.475Z
STOP_TIME = 2007-09-02T16:51:41.475Z
/* ORBITAL DATA ELEMENTS */
ASCENDING_NODE_LONGITUDE = 129.99
MAXIMUM_RESOLUTION = 15.6
FOOTPRINT_POINT_LATITUDE = (-85.0879,-85.2948,-85.4988,-85.6994, -85.8968,-86.0913,-85.9843,-85.7883, -85.5597,-85.4357,-85.3062,-85.1716, -85.0298,-84.8823,-84.7307,-84.5754, -84.4167,-84.2511,-84.0825,-83.9112, -83.7375,-83.4682,-83.2849,-83.0997, -82.9129,-82.7204,-82.4286,-82.2326, -82.0329,-81.83,-81.6262,-81.4215, -81.2118,-80.8953,-80.6835,-80.4667, -80.2491,-80.031,-79.6979,-79.4742, -79.2501,-79.021,-78.7916,-78.4449, -78.2104,-77.9758,-77.738,-77.4984, -77.2589,-77.0152,-76.9431,-76.8658, -76.7822,-76.6506,-76.5703,-76.4656, -76.6717,-76.9035,-77.135,-77.365, -77.5911,-77.8169,-78.0397,-78.2603, -78.4804,-78.6975,-78.9115,-79.1245, -79.3352,-79.5423,-79.7485,-79.9535, -80.1529,-80.4506,-80.6474,-80.8388, -81.0286,-81.2169,-81.4016,-81.5798, -81.7587,-81.9371,-82.1955,-82.3635, -82.5282,-82.7693,-82.9238,-83.0748, -83.2198,-83.4322,-83.5698,-83.7042, -83.8322,-84.0143,-84.235,-84.3378, -84.5255,-84.6859,-84.8198,-85.0879)
FOOTPRINT_POINT_LONGITUDE = (120.403,121.139,121.933,122.791, 123.722,124.736,131.976,136.845,141.342 ,143.42,145.384,147.238,149.016,150.706 ,152.297,153.795,155.206,156.576, 157.866,159.081,160.227,161.853,162.87, 163.83,164.737,165.617,166.852,167.624, 168.364,169.073,169.747,170.388,171.01, 171.889,172.44,172.977,173.489,173.979, 174.682,175.128,175.555,175.971,176.37, 176.941,177.306,177.657,177.998,178.327 ,178.643,178.952,177.975,176.753, 175.538,173.801,172.825,171.63,170.918, 170.533,170.131,169.717,169.292,168.848 ,168.387,167.921,167.436,166.931, 166.412,165.868,165.305,164.728,164.127 ,163.497,162.852,161.838,161.124, 160.397,159.634,158.835,158.005,157.127 ,156.235,155.316,153.868,152.852,151.78 ,150.094,148.927,147.702,146.397, 144.371,142.995,141.56,140.045,137.657, 134.309,132.538,128.807,124.922,120.803 ,120.403)
ORBIT_NUMBER = 4707
ORBITAL_ECCENTRICITY = 0.57
ORBITAL_INCLINATION = 86.68
ORBITAL_SEMIMAJOR_AXIS = 8542.16
PERIAPSIS_ALTITUDE = 296.97
PERIAPSIS_ARGUMENT_ANGLE = 249.95
PERIAPSIS_TIME = 2007-09-02T16:43:11.000Z
SPACECRAFT_ORIENTATION = (0.0,-1.0,0.0)
^MEX_ORIENTATION_DESC = "MEX_ORIENTATION_DESC.TXT"
SPACECRAFT_POINTING_MODE = ACROSSTRACK
^MEX_POINTING_DESC = "MEX_POINTING_DESC.TXT"
RIGHT_ASCENSION = -1e+32
DECLINATION = -1e+32
OFFSET_ANGLE = 0.9
SPACECRAFT_SOLAR_DISTANCE = 2.14675e+08
TARGET_NAME = MARS
/* CAMERA DATA ELEMENTS */
DETECTOR_TEMPERATURE = 18.5744
FOCAL_PLANE_TEMPERATURE = 10.0106
INST_CMPRS_NAME = "DISCRETE COSINE TRANSFORMATION (DCT)"
INST_CMPRS_RATIO = 6.64147
INST_CMPRS_QUALITY = 0
INST_CMPRS_QUANTZ_TBL_ID = 0
INSTRUMENT_TEMPERATURE = 11.4379
LENS_TEMPERATURE = 10.2145
MACROPIXEL_SIZE = 1
MISSING_FRAMES = 0
PIXEL_SUBSAMPLING_FLAG = N
SIGNAL_CHAIN_ID = 0
/* RADIOMETRIC DATA ELEMENTS */
BANDWIDTH = 177.0
CENTER_FILTER_WAVELENGTH = 677.5
RADIANCE_OFFSET = 3.20229
RADIANCE_SCALING_FACTOR = 0.0101533
REFLECTANCE_SCALING_FACTOR = 0.000248573
MEX:REFLECTANCE_OFFSET = 0.0783986
/* IMAGE OBJECT DEFINITIONS */
OBJECT = IMAGE
  INTERCHANGE_FORMAT = BINARY
  LINES = 46193
  LINE_SAMPLES = 36451
  SAMPLE_TYPE = UNSIGNED_INTEGER
  SAMPLE_BITS = 8
  BANDS = 1
  BAND_STORAGE_TYPE = BAND_SEQUENTIAL
  MAXIMUM = 255
  MEAN = 116.663
  MINIMUM = 1
  STANDARD_DEVIATION = 60.3255
END_OBJECT = IMAGE
/* MAP OBJECT DEFINITIONS */
OBJECT = IMAGE_MAP_PROJECTION
  ^DATA_SET_MAP_PROJECTION_CATALOG= "DSMAP.CAT"
  A_AXIS_RADIUS = 3396.0
  B_AXIS_RADIUS = 3396.0
  C_AXIS_RADIUS = 3396.0
  CENTER_LATITUDE = 0.0
  CENTER_LONGITUDE = 161.0
  COORDINATE_SYSTEM_NAME = PLANETOGRAPHIC
  COORDINATE_SYSTEM_TYPE = "BODY-FIXED ROTATING"
  EASTERNMOST_LONGITUDE = 178.952
  FIRST_STANDARD_PARALLEL = "N/A"
  LINE_FIRST_PIXEL = 1
  LINE_LAST_PIXEL = 46193
  LINE_PROJECTION_OFFSET = -362510.0
  MAP_PROJECTION_ROTATION = 0.0
  MAP_PROJECTION_TYPE = SINUSOIDAL
  MAP_RESOLUTION = 4741.71043093333
  MAP_SCALE = 0.0125
  MAXIMUM_LATITUDE = -76.46559999999999
  MINIMUM_LATITUDE = -86.0913
  POSITIVE_LONGITUDE_DIRECTION = EAST
  REFERENCE_LATITUDE = "N/A"
  REFERENCE_LONGITUDE = "N/A"
  SAMPLE_FIRST_PIXEL = 1
  SAMPLE_LAST_PIXEL = 36451
  SAMPLE_PROJECTION_OFFSET = 17288.0
  SECOND_STANDARD_PARALLEL = "N/A"
  WESTERNMOST_LONGITUDE = 120.403
END_OBJECT = IMAGE_MAP_PROJECTION
/* The JPEG2000 image data file associated with this label. */
OBJECT = COMPRESSED_FILE
  FILE_NAME = "H4707_0000_ND3.JP2"
  RECORD_TYPE = UNDEFINED
  FILE_RECORDS = UNK
  ENCODING_TYPE = "JP2"
  INTERCHANGE_FORMAT = BINARY
  UNCOMPRESSED_FILE_NAME = "H4707_0000_ND3.IMG"
  REQUIRED_STORAGE_BYTES = "1683890396"
  ^DESCRIPTION = "JP2INFO.TXT"
END_OBJECT = COMPRESSED_FILE
END
