PDS_VERSION_ID = PDS3
/* FILE DATA ELEMENTS */
RECORD_TYPE = STREAM
/* POINTERS TO DATA OBJECTS */
^COMPRESSED_FILE = "H4708_0000_S13.JP2"
/* IDENTIFICATION DATA ELEMENTS */
DATA_SET_ID = "MEX-M-HRSC-5-REFDR-MAPPROJECTED-V3.0"
DATA_SET_NAME = "MARS EXPRESS HRSC MAP PROJECTED REFDR V3.0"
DETECTOR_ID = MEX_HRSC_S1
EVENT_TYPE = "MARS-REGIONAL-MAPPING-Fl-Gl-La"
INSTRUMENT_HOST_ID = MEX
INSTRUMENT_HOST_NAME = "MARS EXPRESS"
INSTRUMENT_ID = HRSC
INSTRUMENT_NAME = "HIGH RESOLUTION STEREO CAMERA"
MISSION_NAME = "MARS EXPRESS"
MISSION_PHASE_NAME = ME_Phase_9
PROCESSING_LEVEL_ID = 3
PRODUCT_CREATION_TIME = 2016-04-26T13:14:09.000Z
PRODUCT_ID = "H4708_0000_S13.JP2"
RELEASE_ID = 0054
REVISION_ID = 0000
/* QUALITY DATA ELEMENTS */
DATA_QUALITY_ID = 1
DATA_QUALITY_DESC = "Data calculated based on original SPICE kernels"
/* TIME DATA ELEMENTS */
SPACECRAFT_CLOCK_START_COUNT = "1/0136855886.09066"
SPACECRAFT_CLOCK_STOP_COUNT = "1/0136856213.31499"
START_TIME = 2007-09-02T23:31:30.160Z
STOP_TIME = 2007-09-02T23:34:56.523Z
/* ORBITAL DATA ELEMENTS */
ASCENDING_NODE_LONGITUDE = 129.96
MAXIMUM_RESOLUTION = 31.9
FOOTPRINT_POINT_LATITUDE = (-86.2146,-86.4381,-86.7696,-86.8528, -86.6928,-86.5226,-86.3433,-86.1576, -85.965,-85.7666,-85.4614,-85.2534, -85.0418,-84.7193,-84.5013,-84.2762, -84.0484,-83.7041,-83.4721,-83.2325, -82.8725,-82.6309,-82.2593,-82.0092, -81.633,-81.2472,-80.9891,-80.5986, -80.3331,-80.0684,-79.6662,-79.3951, -79.1236,-78.7088,-78.4312,-78.1511, -77.7272,-77.4443,-77.1572,-76.8593, -76.5662,-76.2734,-75.8382,-75.5301, -75.0708,-74.7638,-74.3832,-74.3519, -74.298,-74.2522,-74.1855,-74.1295, -74.0849,-74.5347,-74.8346,-75.1328, -75.4319,-75.7262,-76.0195,-76.3008, -76.5838,-76.8672,-77.2874,-77.5656, -77.84,-78.1096,-78.3796,-78.6477, -78.9109,-79.1738,-79.435,-79.6908, -79.9455,-80.1996,-80.4479,-80.8136, -81.0619,-81.3011,-81.5377,-81.7732, -82.1199,-82.3455,-82.5695,-82.7895, -83.0064,-83.2176,-83.5284,-83.7326, -83.9288,-84.2158,-84.4017,-84.5827, -84.7584,-84.9283,-85.0921,-85.2493, -85.4697,-85.6708,-85.7922,-86.2146)
FOOTPRINT_POINT_LONGITUDE = (34.3052,36.2997,39.8859,45.8153, 49.1123,52.1039,54.8267,57.2623,59.4839 ,61.5039,64.179,65.7639,67.2188,69.176, 70.3514,71.4595,72.4859,73.8805,74.7292 ,75.5438,76.651,77.331,78.2898,78.8816, 79.7009,80.462,80.933,81.5939,82.0117, 82.4024,82.9575,83.3048,83.635,84.1091, 84.4042,84.6917,85.0906,85.3417,85.584, 85.8403,86.0718,86.2826,86.5732,86.7874 ,87.0846,87.2653,86.9475,86.0939,84.791 ,83.8231,82.5436,81.5952,80.8196, 80.4482,80.1881,79.92,79.6394,79.351, 79.0501,78.7389,78.4171,78.08,77.5513, 77.1796,76.7927,76.3934,75.9737,75.5354 ,75.0822,74.6054,74.1056,73.5891, 73.0451,72.4713,71.8781,70.9332,70.2499 ,69.5463,68.8046,68.018,66.7616,65.8723 ,64.9263,63.9258,62.8713,61.7617, 59.9628,58.6597,57.3017,55.093,53.4953, 51.7896,49.9658,48.0169,45.9311,43.6987 ,40.0726,36.0768,33.2057,34.3052)
ORBIT_NUMBER = 4708
ORBITAL_ECCENTRICITY = 0.57
ORBITAL_INCLINATION = 86.7
ORBITAL_SEMIMAJOR_AXIS = 8539.63
PERIAPSIS_ALTITUDE = 296.24
PERIAPSIS_ARGUMENT_ANGLE = 249.78
PERIAPSIS_TIME = 2007-09-02T23:26:26.000Z
SPACECRAFT_ORIENTATION = (0.0,-1.0,0.0)
^MEX_ORIENTATION_DESC = "MEX_ORIENTATION_DESC.TXT"
SPACECRAFT_POINTING_MODE = ACROSSTRACK
^MEX_POINTING_DESC = "MEX_POINTING_DESC.TXT"
RIGHT_ASCENSION = -1e+32
DECLINATION = -1e+32
OFFSET_ANGLE = -0.2
SPACECRAFT_SOLAR_DISTANCE = 2.1472e+08
TARGET_NAME = MARS
/* CAMERA DATA ELEMENTS */
DETECTOR_TEMPERATURE = 17.5549
FOCAL_PLANE_TEMPERATURE = 9.6028
INST_CMPRS_NAME = "DISCRETE COSINE TRANSFORMATION (DCT)"
INST_CMPRS_RATIO = 10.6014
INST_CMPRS_QUALITY = 0
INST_CMPRS_QUANTZ_TBL_ID = 0
INSTRUMENT_TEMPERATURE = 10.4184
LENS_TEMPERATURE = 10.0106
MACROPIXEL_SIZE = 2
MISSING_FRAMES = 0
PIXEL_SUBSAMPLING_FLAG = N
SIGNAL_CHAIN_ID = 1
/* RADIOMETRIC DATA ELEMENTS */
BANDWIDTH = 180.0
CENTER_FILTER_WAVELENGTH = 677.0
RADIANCE_OFFSET = 4.78109
RADIANCE_SCALING_FACTOR = 0.01276
REFLECTANCE_SCALING_FACTOR = 0.00030693
MEX:REFLECTANCE_OFFSET = 0.115005
/* IMAGE OBJECT DEFINITIONS */
OBJECT = IMAGE
  INTERCHANGE_FORMAT = BINARY
  LINES = 30542
  LINE_SAMPLES = 15367
  SAMPLE_TYPE = UNSIGNED_INTEGER
  SAMPLE_BITS = 8
  BANDS = 1
  BAND_STORAGE_TYPE = BAND_SEQUENTIAL
  MAXIMUM = 255
  MEAN = 111.134
  MINIMUM = 1
  STANDARD_DEVIATION = 48.1306
END_OBJECT = IMAGE
/* MAP OBJECT DEFINITIONS */
OBJECT = IMAGE_MAP_PROJECTION
  ^DATA_SET_MAP_PROJECTION_CATALOG= "DSMAP.CAT"
  A_AXIS_RADIUS = 3396.0
  B_AXIS_RADIUS = 3396.0
  C_AXIS_RADIUS = 3396.0
  CENTER_LATITUDE = 0.0
  CENTER_LONGITUDE = 75.0
  COORDINATE_SYSTEM_NAME = PLANETOGRAPHIC
  COORDINATE_SYSTEM_TYPE = "BODY-FIXED ROTATING"
  EASTERNMOST_LONGITUDE = 87.2653
  FIRST_STANDARD_PARALLEL = "N/A"
  LINE_FIRST_PIXEL = 1
  LINE_LAST_PIXEL = 30542
  LINE_PROJECTION_OFFSET = -175497.25
  MAP_PROJECTION_ROTATION = 0.0
  MAP_PROJECTION_TYPE = SINUSOIDAL
  MAP_RESOLUTION = 2370.85521546667
  MAP_SCALE = 0.025
  MAXIMUM_LATITUDE = -74.0849
  MINIMUM_LATITUDE = -86.8528
  POSITIVE_LONGITUDE_DIRECTION = EAST
  REFERENCE_LATITUDE = "N/A"
  REFERENCE_LONGITUDE = "N/A"
  SAMPLE_FIRST_PIXEL = 1
  SAMPLE_LAST_PIXEL = 15367
  SAMPLE_PROJECTION_OFFSET = 7326.25
  SECOND_STANDARD_PARALLEL = "N/A"
  WESTERNMOST_LONGITUDE = 33.2057
END_OBJECT = IMAGE_MAP_PROJECTION
/* The JPEG2000 image data file associated with this label. */
OBJECT = COMPRESSED_FILE
  FILE_NAME = "H4708_0000_S13.JP2"
  RECORD_TYPE = UNDEFINED
  FILE_RECORDS = UNK
  ENCODING_TYPE = "JP2"
  INTERCHANGE_FORMAT = BINARY
  UNCOMPRESSED_FILE_NAME = "H4708_0000_S13.IMG"
  REQUIRED_STORAGE_BYTES = "469385015"
  ^DESCRIPTION = "JP2INFO.TXT"
END_OBJECT = COMPRESSED_FILE
END
