PDS_VERSION_ID = PDS3
/* FILE DATA ELEMENTS */
RECORD_TYPE = STREAM
/* POINTERS TO DATA OBJECTS */
^COMPRESSED_FILE = "H4709_0000_P23.JP2"
/* IDENTIFICATION DATA ELEMENTS */
DATA_SET_ID = "MEX-M-HRSC-5-REFDR-MAPPROJECTED-V3.0"
DATA_SET_NAME = "MARS EXPRESS HRSC MAP PROJECTED REFDR V3.0"
DETECTOR_ID = MEX_HRSC_P2
EVENT_TYPE = "MARS-REGIONAL-STEREO-Gl-La"
INSTRUMENT_HOST_ID = MEX
INSTRUMENT_HOST_NAME = "MARS EXPRESS"
INSTRUMENT_ID = HRSC
INSTRUMENT_NAME = "HIGH RESOLUTION STEREO CAMERA"
MISSION_NAME = "MARS EXPRESS"
MISSION_PHASE_NAME = ME_Phase_9
PROCESSING_LEVEL_ID = 3
PRODUCT_CREATION_TIME = 2016-04-26T13:14:09.000Z
PRODUCT_ID = "H4709_0000_P23.JP2"
RELEASE_ID = 0054
REVISION_ID = 0000
/* QUALITY DATA ELEMENTS */
DATA_QUALITY_ID = 2
DATA_QUALITY_DESC = "Data calculated based on photogrammetrically improved orbit and attitude data"
/* TIME DATA ELEMENTS */
SPACECRAFT_CLOCK_START_COUNT = "1/0136880227.08422"
SPACECRAFT_CLOCK_STOP_COUNT = "1/0136880546.16376"
START_TIME = 2007-09-03T06:18:34.629Z
STOP_TIME = 2007-09-03T06:21:54.518Z
/* ORBITAL DATA ELEMENTS */
ASCENDING_NODE_LONGITUDE = 129.95
MAXIMUM_RESOLUTION = 45
FOOTPRINT_POINT_LATITUDE = (-77.5795,-77.6673,-77.785,-77.8528, -77.9147,-77.8742,-77.6,-77.2343, -76.7712,-76.4903,-76.207,-76.0183, -75.8285,-75.6383,-75.446,-75.2534, -75.0596,-74.7658,-74.4711,-74.2732, -74.0755,-73.8747,-73.6744,-73.4724, -73.2712,-72.9642,-72.7593,-72.5532, -72.3461,-72.0343,-71.8251,-71.6136, -71.4018,-71.1886,-70.9748,-70.7594, -70.5432,-70.3256,-70.1068,-69.8864, -69.6658,-69.4431,-69.1074,-68.8842, -68.6586,-68.4325,-68.2046,-67.9754, -67.8099,-67.7753,-67.7472,-67.7236, -67.6801,-67.6543,-67.6271,-67.5909, -67.5484,-67.6373,-67.8644,-68.0899, -68.3139,-68.5396,-68.7581,-68.9809, -69.2037,-69.5344,-69.7502,-70.0704, -70.2842,-70.4961,-70.7108,-70.9212, -71.1261,-71.3344,-71.646,-71.8524, -72.0564,-72.3622,-72.5636,-72.7652, -73.064,-73.2631,-73.46,-73.7547, -73.9495,-74.1434,-74.3357,-74.5275, -74.7198,-75.0019,-75.1912,-75.3772, -75.5635,-75.749,-75.9327,-76.2089, -76.6611,-77.0185,-77.3742,-77.5795)
FOOTPRINT_POINT_LONGITUDE = (338.85,340.215,342.257,343.584,344.926 ,346.77,347.028,347.358,347.75,347.973, 348.187,348.327,348.465,348.598,348.729 ,348.857,348.98,349.161,349.337,349.451 ,349.562,349.672,349.778,349.884, 349.988,350.137,350.234,350.33,350.424, 350.562,350.652,350.739,350.825,350.909 ,350.992,351.073,351.153,351.231, 351.307,351.382,351.456,351.529,351.635 ,351.706,351.775,351.843,351.91,351.976 ,351.548,350.404,349.601,349.0,348.002, 347.472,346.943,346.284,345.56,345.101, 345.019,344.935,344.849,344.758,344.673 ,344.578,344.478,344.328,344.231, 344.084,343.979,343.875,343.76,343.649, 343.545,343.429,343.248,343.125,343.0, 342.806,342.674,342.538,342.33,342.187, 342.041,341.815,341.659,341.502,341.34, 341.175,341.002,340.746,340.565,340.383 ,340.195,340.003,339.806,339.499, 338.965,338.514,338.034,338.85)
ORBIT_NUMBER = 4709
ORBITAL_ECCENTRICITY = 0.57
ORBITAL_INCLINATION = 86.69
ORBITAL_SEMIMAJOR_AXIS = 8540.73
PERIAPSIS_ALTITUDE = 297.22
PERIAPSIS_ARGUMENT_ANGLE = 249.59
PERIAPSIS_TIME = 2007-09-03T06:09:37.000Z
SPACECRAFT_ORIENTATION = (0.0,-1.0,0.0)
^MEX_ORIENTATION_DESC = "MEX_ORIENTATION_DESC.TXT"
SPACECRAFT_POINTING_MODE = ACROSSTRACK
^MEX_POINTING_DESC = "MEX_POINTING_DESC.TXT"
RIGHT_ASCENSION = -1e+32
DECLINATION = -1e+32
OFFSET_ANGLE = -0.1
SPACECRAFT_SOLAR_DISTANCE = 2.14765e+08
TARGET_NAME = MARS
/* CAMERA DATA ELEMENTS */
DETECTOR_TEMPERATURE = 18.5744
FOCAL_PLANE_TEMPERATURE = 9.6028
INST_CMPRS_NAME = "DISCRETE COSINE TRANSFORMATION (DCT)"
INST_CMPRS_RATIO = 8.19657
INST_CMPRS_QUALITY = 0
INST_CMPRS_QUANTZ_TBL_ID = 0
INSTRUMENT_TEMPERATURE = 11.6418
LENS_TEMPERATURE = 50.9945
MACROPIXEL_SIZE = 2
MISSING_FRAMES = 0
PIXEL_SUBSAMPLING_FLAG = N
SIGNAL_CHAIN_ID = 3
/* RADIOMETRIC DATA ELEMENTS */
BANDWIDTH = 177.0
CENTER_FILTER_WAVELENGTH = 676.5
RADIANCE_OFFSET = 4.89058
RADIANCE_SCALING_FACTOR = 0.0116351
REFLECTANCE_SCALING_FACTOR = 0.00028455
MEX:REFLECTANCE_OFFSET = 0.119605
/* IMAGE OBJECT DEFINITIONS */
OBJECT = IMAGE
  INTERCHANGE_FORMAT = BINARY
  LINES = 12457
  LINE_SAMPLES = 4552
  SAMPLE_TYPE = UNSIGNED_INTEGER
  SAMPLE_BITS = 8
  BANDS = 1
  BAND_STORAGE_TYPE = BAND_SEQUENTIAL
  MAXIMUM = 255
  MEAN = 128.552
  MINIMUM = 1
  STANDARD_DEVIATION = 40.5121
END_OBJECT = IMAGE
/* MAP OBJECT DEFINITIONS */
OBJECT = IMAGE_MAP_PROJECTION
  ^DATA_SET_MAP_PROJECTION_CATALOG= "DSMAP.CAT"
  A_AXIS_RADIUS = 3396.0
  B_AXIS_RADIUS = 3396.0
  C_AXIS_RADIUS = 3396.0
  CENTER_LATITUDE = 0.0
  CENTER_LONGITUDE = 346.0
  COORDINATE_SYSTEM_NAME = PLANETOGRAPHIC
  COORDINATE_SYSTEM_TYPE = "BODY-FIXED ROTATING"
  EASTERNMOST_LONGITUDE = 351.976
  FIRST_STANDARD_PARALLEL = "N/A"
  LINE_FIRST_PIXEL = 1
  LINE_LAST_PIXEL = 12457
  LINE_PROJECTION_OFFSET = -80079.25
  MAP_PROJECTION_ROTATION = 0.0
  MAP_PROJECTION_TYPE = SINUSOIDAL
  MAP_RESOLUTION = 1185.42760773333
  MAP_SCALE = 0.05
  MAXIMUM_LATITUDE = -67.5484
  MINIMUM_LATITUDE = -77.9147
  POSITIVE_LONGITUDE_DIRECTION = EAST
  REFERENCE_LATITUDE = "N/A"
  REFERENCE_LONGITUDE = "N/A"
  SAMPLE_FIRST_PIXEL = 1
  SAMPLE_LAST_PIXEL = 4552
  SAMPLE_PROJECTION_OFFSET = 2033.25
  SECOND_STANDARD_PARALLEL = "N/A"
  WESTERNMOST_LONGITUDE = 338.034
END_OBJECT = IMAGE_MAP_PROJECTION
/* The JPEG2000 image data file associated with this label. */
OBJECT = COMPRESSED_FILE
  FILE_NAME = "H4709_0000_P23.JP2"
  RECORD_TYPE = UNDEFINED
  FILE_RECORDS = UNK
  ENCODING_TYPE = "JP2"
  INTERCHANGE_FORMAT = BINARY
  UNCOMPRESSED_FILE_NAME = "H4709_0000_P23.IMG"
  REQUIRED_STORAGE_BYTES = "56731576"
  ^DESCRIPTION = "JP2INFO.TXT"
END_OBJECT = COMPRESSED_FILE
END
