PDS_VERSION_ID = PDS3
/* FILE DATA ELEMENTS */
RECORD_TYPE = STREAM
/* POINTERS TO DATA OBJECTS */
^COMPRESSED_FILE = "H4713_0000_IR3.JP2"
/* IDENTIFICATION DATA ELEMENTS */
DATA_SET_ID = "MEX-M-HRSC-5-REFDR-MAPPROJECTED-V3.0"
DATA_SET_NAME = "MARS EXPRESS HRSC MAP PROJECTED REFDR V3.0"
DETECTOR_ID = MEX_HRSC_IR
EVENT_TYPE = "MARS-REGIONAL-MAPPING-Gl-La"
INSTRUMENT_HOST_ID = MEX
INSTRUMENT_HOST_NAME = "MARS EXPRESS"
INSTRUMENT_ID = HRSC
INSTRUMENT_NAME = "HIGH RESOLUTION STEREO CAMERA"
MISSION_NAME = "MARS EXPRESS"
MISSION_PHASE_NAME = ME_Phase_9
PROCESSING_LEVEL_ID = 3
PRODUCT_CREATION_TIME = 2016-04-26T13:14:09.000Z
PRODUCT_ID = "H4713_0000_IR3.JP2"
RELEASE_ID = 0054
REVISION_ID = 0000
/* QUALITY DATA ELEMENTS */
DATA_QUALITY_ID = 1
DATA_QUALITY_DESC = "Data calculated based on original SPICE kernels"
/* TIME DATA ELEMENTS */
SPACECRAFT_CLOCK_START_COUNT = "1/0136976912.08255"
SPACECRAFT_CLOCK_STOP_COUNT = "1/0136977231.33312"
START_TIME = 2007-09-04T09:08:42.390Z
STOP_TIME = 2007-09-04T09:11:50.102Z
/* ORBITAL DATA ELEMENTS */
ASCENDING_NODE_LONGITUDE = 129.86
MAXIMUM_RESOLUTION = 70.2
FOOTPRINT_POINT_LATITUDE = (-82.8658,-83.0186,-83.1663,-83.3084, -83.445,-83.5761,-83.5452,-83.1899, -83.007,-82.8256,-82.5468,-82.3561, -82.1654,-81.9717,-81.6772,-81.4783, -81.1795,-80.8742,-80.6668,-80.4588, -80.2505,-79.9319,-79.7178,-79.396, -79.0638,-78.8429,-78.6219,-78.396, -78.1691,-77.9417,-77.5943,-77.3616, -77.1283,-76.8912,-76.6535,-76.416, -76.1739,-75.9312,-75.6884,-75.3174, -75.0698,-74.8188,-74.5665,-74.3142, -74.0572,-73.6713,-73.41,-73.0186, -72.6179,-72.3924,-72.3313,-72.2601, -72.1336,-72.033,-71.9662,-72.008, -72.2686,-72.6573,-72.9138,-73.1697, -73.4218,-73.7988,-74.0457,-74.2928, -74.5371,-74.7788,-75.1404,-75.3772, -75.614,-75.8499,-76.0802,-76.3105, -76.6507,-76.8793,-77.1037,-77.4368, -77.6558,-77.8758,-78.0849,-78.3045, -78.6159,-78.8226,-79.0294,-79.239, -79.4394,-79.7363,-79.9342,-80.1301, -80.3189,-80.5082,-80.7866,-80.9719, -81.1543,-81.339,-81.5977,-81.7759, -82.1103,-82.3533,-82.5934,-82.8658)
FOOTPRINT_POINT_LONGITUDE = (282.265,283.552,284.885,286.262, 287.683,289.152,291.552,293.52,294.438, 295.297,296.52,297.298,298.033,298.737, 299.739,300.372,301.264,302.107,302.645 ,303.159,303.65,304.358,304.807,305.445 ,306.06,306.448,306.82,307.184,307.535, 307.872,308.362,308.674,308.975,309.269 ,309.552,309.825,310.093,310.352, 310.601,310.965,311.197,311.425,311.645 ,311.858,312.068,312.369,312.564, 312.845,313.119,313.267,312.32,311.31, 309.707,308.524,307.815,306.8,306.579, 306.237,306.002,305.76,305.513,305.127, 304.863,304.59,304.309,304.021,303.572, 303.264,302.946,302.618,302.281,301.932 ,301.389,301.019,300.631,300.032, 299.615,299.184,298.735,298.285,297.558 ,297.061,296.55,296.021,295.463,294.607 ,294.007,293.382,292.737,292.075, 291.025,290.289,289.539,288.759,287.519 ,286.652,284.839,283.373,281.818, 282.265)
ORBIT_NUMBER = 4713
ORBITAL_ECCENTRICITY = 0.57
ORBITAL_INCLINATION = 86.69
ORBITAL_SEMIMAJOR_AXIS = 8542.56
PERIAPSIS_ALTITUDE = 297.12
PERIAPSIS_ARGUMENT_ANGLE = 248.93
PERIAPSIS_TIME = 2007-09-04T09:02:28.000Z
SPACECRAFT_ORIENTATION = (0.0,-1.0,0.0)
^MEX_ORIENTATION_DESC = "MEX_ORIENTATION_DESC.TXT"
SPACECRAFT_POINTING_MODE = ACROSSTRACK
^MEX_POINTING_DESC = "MEX_POINTING_DESC.TXT"
RIGHT_ASCENSION = -1e+32
DECLINATION = -1e+32
OFFSET_ANGLE = 0.9
SPACECRAFT_SOLAR_DISTANCE = 2.14947e+08
TARGET_NAME = MARS
/* CAMERA DATA ELEMENTS */
DETECTOR_TEMPERATURE = 17.7588
FOCAL_PLANE_TEMPERATURE = 9.195
INST_CMPRS_NAME = "DISCRETE COSINE TRANSFORMATION (DCT)"
INST_CMPRS_RATIO = 11.9579
INST_CMPRS_QUALITY = 0
INST_CMPRS_QUANTZ_TBL_ID = 0
INSTRUMENT_TEMPERATURE = 11.6418
LENS_TEMPERATURE = 9.3989
MACROPIXEL_SIZE = 4
MISSING_FRAMES = 0
PIXEL_SUBSAMPLING_FLAG = N
SIGNAL_CHAIN_ID = 2
/* RADIOMETRIC DATA ELEMENTS */
BANDWIDTH = 81.0
CENTER_FILTER_WAVELENGTH = 955.5
RADIANCE_OFFSET = 0.987097
RADIANCE_SCALING_FACTOR = 0.00422581
REFLECTANCE_SCALING_FACTOR = 0.000421216
MEX:REFLECTANCE_OFFSET = 0.098391
/* IMAGE OBJECT DEFINITIONS */
OBJECT = IMAGE
  INTERCHANGE_FORMAT = BINARY
  LINES = 13881
  LINE_SAMPLES = 7055
  SAMPLE_TYPE = UNSIGNED_INTEGER
  SAMPLE_BITS = 8
  BANDS = 1
  BAND_STORAGE_TYPE = BAND_SEQUENTIAL
  MAXIMUM = 255
  MEAN = 120.181
  MINIMUM = 1
  STANDARD_DEVIATION = 41.7076
END_OBJECT = IMAGE
/* MAP OBJECT DEFINITIONS */
OBJECT = IMAGE_MAP_PROJECTION
  ^DATA_SET_MAP_PROJECTION_CATALOG= "DSMAP.CAT"
  A_AXIS_RADIUS = 3396.0
  B_AXIS_RADIUS = 3396.0
  C_AXIS_RADIUS = 3396.0
  CENTER_LATITUDE = 0.0
  CENTER_LONGITUDE = 303.0
  COORDINATE_SYSTEM_NAME = PLANETOGRAPHIC
  COORDINATE_SYSTEM_TYPE = "BODY-FIXED ROTATING"
  EASTERNMOST_LONGITUDE = 313.267
  FIRST_STANDARD_PARALLEL = "N/A"
  LINE_FIRST_PIXEL = 1
  LINE_LAST_PIXEL = 13881
  LINE_PROJECTION_OFFSET = -85226.625
  MAP_PROJECTION_ROTATION = 0.0
  MAP_PROJECTION_TYPE = SINUSOIDAL
  MAP_RESOLUTION = 1185.42760773333
  MAP_SCALE = 0.05
  MAXIMUM_LATITUDE = -71.9662
  MINIMUM_LATITUDE = -83.5761
  POSITIVE_LONGITUDE_DIRECTION = EAST
  REFERENCE_LATITUDE = "N/A"
  REFERENCE_LONGITUDE = "N/A"
  SAMPLE_FIRST_PIXEL = 1
  SAMPLE_LAST_PIXEL = 7055
  SAMPLE_PROJECTION_OFFSET = 3262.625
  SECOND_STANDARD_PARALLEL = "N/A"
  WESTERNMOST_LONGITUDE = 281.818
END_OBJECT = IMAGE_MAP_PROJECTION
/* The JPEG2000 image data file associated with this label. */
OBJECT = COMPRESSED_FILE
  FILE_NAME = "H4713_0000_IR3.JP2"
  RECORD_TYPE = UNDEFINED
  FILE_RECORDS = UNK
  ENCODING_TYPE = "JP2"
  INTERCHANGE_FORMAT = BINARY
  UNCOMPRESSED_FILE_NAME = "H4713_0000_IR3.IMG"
  REQUIRED_STORAGE_BYTES = "97965730"
  ^DESCRIPTION = "JP2INFO.TXT"
END_OBJECT = COMPRESSED_FILE
END
