PDS_VERSION_ID = PDS3
/* FILE DATA ELEMENTS */
RECORD_TYPE = STREAM
/* POINTERS TO DATA OBJECTS */
^COMPRESSED_FILE = "H4717_0000_ND3.JP2"
/* IDENTIFICATION DATA ELEMENTS */
DATA_SET_ID = "MEX-M-HRSC-5-REFDR-MAPPROJECTED-V3.0"
DATA_SET_NAME = "MARS EXPRESS HRSC MAP PROJECTED REFDR V3.0"
DETECTOR_ID = MEX_HRSC_NADIR
EVENT_TYPE = "MARS-REGIONAL-MAPPING-Gl-La"
INSTRUMENT_HOST_ID = MEX
INSTRUMENT_HOST_NAME = "MARS EXPRESS"
INSTRUMENT_ID = HRSC
INSTRUMENT_NAME = "HIGH RESOLUTION STEREO CAMERA"
MISSION_NAME = "MARS EXPRESS"
MISSION_PHASE_NAME = ME_Phase_9
PROCESSING_LEVEL_ID = 3
PRODUCT_CREATION_TIME = 2016-04-26T13:14:09.000Z
PRODUCT_ID = "H4717_0000_ND3.JP2"
RELEASE_ID = 0054
REVISION_ID = 0000
/* QUALITY DATA ELEMENTS */
DATA_QUALITY_ID = 1
DATA_QUALITY_DESC = "Data calculated based on original SPICE kernels"
/* TIME DATA ELEMENTS */
SPACECRAFT_CLOCK_START_COUNT = "1/0137073698.09060"
SPACECRAFT_CLOCK_STOP_COUNT = "1/0137074080.31060"
START_TIME = 2007-09-05T12:02:22.981Z
STOP_TIME = 2007-09-05T12:06:35.975Z
/* ORBITAL DATA ELEMENTS */
ASCENDING_NODE_LONGITUDE = 129.79
MAXIMUM_RESOLUTION = 18.1
FOOTPRINT_POINT_LATITUDE = (-83.3136,-83.4839,-83.6687,-83.7795, -83.6278,-83.3961,-83.1633,-82.9262, -82.6864,-82.446,-82.2018,-81.9546, -81.7071,-81.456,-81.198,-80.9442, -80.6854,-80.2966,-79.9003,-79.6354, -79.2314,-78.9617,-78.5498,-78.2742, -77.9943,-77.7144,-77.2886,-77.0039, -76.7144,-76.4248,-76.1304,-75.8365, -75.5379,-75.0881,-74.7852,-74.4791, -74.1723,-73.8612,-73.392,-72.9165, -72.5969,-72.2735,-71.9485,-71.6208, -71.2894,-70.9568,-70.6213,-70.2815, -69.94,-69.5963,-69.5422,-69.4927, -69.4521,-69.4066,-69.3213,-69.4227, -69.7621,-70.0974,-70.4305,-70.7617, -71.0889,-71.4134,-71.7361,-72.0552, -72.5293,-72.9976,-73.3069,-73.6129, -74.0673,-74.3681,-74.6651,-74.9602, -75.2526,-75.6864,-76.1158,-76.3983, -76.6788,-76.9565,-77.2328,-77.5051, -77.777,-78.0438,-78.4428,-78.7038, -79.0935,-79.3483,-79.7289,-79.9772, -80.2248,-80.5896,-80.8344,-81.0724, -81.3057,-81.5379,-81.7668,-81.9911, -82.2139,-82.4334,-82.8596,-83.3136)
FOOTPRINT_POINT_LONGITUDE = (258.884,261.363,264.458,266.583, 269.134,269.989,270.785,271.536,272.243 ,272.905,273.532,274.12,274.675,275.209 ,275.72,276.189,276.643,277.284,277.875 ,278.245,278.767,279.108,279.579, 279.866,280.151,280.429,280.827,281.073 ,281.316,281.539,281.761,281.972, 282.172,282.469,282.655,282.838,283.016 ,283.185,283.443,283.675,283.824, 283.969,284.107,284.245,284.373,284.508 ,284.633,284.744,284.858,284.972, 284.041,282.703,281.774,280.848,279.337 ,278.185,278.029,277.868,277.702, 277.532,277.355,277.169,276.975,276.783 ,276.478,276.158,275.932,275.699, 275.336,275.082,274.821,274.55,274.269, 273.829,273.364,273.036,272.699,272.35, 271.983,271.604,271.205,270.796,270.144 ,269.69,268.97,268.463,267.66,267.096, 266.501,265.563,264.884,264.183,263.454 ,262.683,261.871,261.023,260.126, 259.179,257.139,258.884)
ORBIT_NUMBER = 4717
ORBITAL_ECCENTRICITY = 0.57
ORBITAL_INCLINATION = 86.68
ORBITAL_SEMIMAJOR_AXIS = 8545.01
PERIAPSIS_ALTITUDE = 297.22
PERIAPSIS_ARGUMENT_ANGLE = 248.22
PERIAPSIS_TIME = 2007-09-05T11:55:19.000Z
SPACECRAFT_ORIENTATION = (0.0,-1.0,0.0)
^MEX_ORIENTATION_DESC = "MEX_ORIENTATION_DESC.TXT"
SPACECRAFT_POINTING_MODE = ACROSSTRACK
^MEX_POINTING_DESC = "MEX_POINTING_DESC.TXT"
RIGHT_ASCENSION = -1e+32
DECLINATION = -1e+32
OFFSET_ANGLE = -0.1
SPACECRAFT_SOLAR_DISTANCE = 2.15131e+08
TARGET_NAME = MARS
/* CAMERA DATA ELEMENTS */
DETECTOR_TEMPERATURE = 18.3705
FOCAL_PLANE_TEMPERATURE = 8.9911
INST_CMPRS_NAME = "DISCRETE COSINE TRANSFORMATION (DCT)"
INST_CMPRS_RATIO = 6.64267
INST_CMPRS_QUALITY = 0
INST_CMPRS_QUANTZ_TBL_ID = 0
INSTRUMENT_TEMPERATURE = 11.4379
LENS_TEMPERATURE = 9.3989
MACROPIXEL_SIZE = 1
MISSING_FRAMES = 2
PIXEL_SUBSAMPLING_FLAG = N
SIGNAL_CHAIN_ID = 0
/* RADIOMETRIC DATA ELEMENTS */
BANDWIDTH = 177.0
CENTER_FILTER_WAVELENGTH = 677.5
RADIANCE_OFFSET = 4.02492
RADIANCE_SCALING_FACTOR = 0.015784
REFLECTANCE_SCALING_FACTOR = 0.000388071
MEX:REFLECTANCE_OFFSET = 0.0989582
/* IMAGE OBJECT DEFINITIONS */
OBJECT = IMAGE
  INTERCHANGE_FORMAT = BINARY
  LINES = 69171
  LINE_SAMPLES = 26077
  SAMPLE_TYPE = UNSIGNED_INTEGER
  SAMPLE_BITS = 8
  BANDS = 1
  BAND_STORAGE_TYPE = BAND_SEQUENTIAL
  MAXIMUM = 255
  MEAN = 117.574
  MINIMUM = 1
  STANDARD_DEVIATION = 48.3755
END_OBJECT = IMAGE
/* MAP OBJECT DEFINITIONS */
OBJECT = IMAGE_MAP_PROJECTION
  ^DATA_SET_MAP_PROJECTION_CATALOG= "DSMAP.CAT"
  A_AXIS_RADIUS = 3396.0
  B_AXIS_RADIUS = 3396.0
  C_AXIS_RADIUS = 3396.0
  CENTER_LATITUDE = 0.0
  CENTER_LONGITUDE = 276.0
  COORDINATE_SYSTEM_NAME = PLANETOGRAPHIC
  COORDINATE_SYSTEM_TYPE = "BODY-FIXED ROTATING"
  EASTERNMOST_LONGITUDE = 284.972
  FIRST_STANDARD_PARALLEL = "N/A"
  LINE_FIRST_PIXEL = 1
  LINE_LAST_PIXEL = 69171
  LINE_PROJECTION_OFFSET = -328392.0
  MAP_PROJECTION_ROTATION = 0.0
  MAP_PROJECTION_TYPE = SINUSOIDAL
  MAP_RESOLUTION = 4741.71043093333
  MAP_SCALE = 0.0125
  MAXIMUM_LATITUDE = -69.32129999999999
  MINIMUM_LATITUDE = -83.7795
  POSITIVE_LONGITUDE_DIRECTION = EAST
  REFERENCE_LATITUDE = "N/A"
  REFERENCE_LONGITUDE = "N/A"
  SAMPLE_FIRST_PIXEL = 1
  SAMPLE_LAST_PIXEL = 26077
  SAMPLE_PROJECTION_OFFSET = 11366.0
  SECOND_STANDARD_PARALLEL = "N/A"
  WESTERNMOST_LONGITUDE = 257.139
END_OBJECT = IMAGE_MAP_PROJECTION
/* The JPEG2000 image data file associated with this label. */
OBJECT = COMPRESSED_FILE
  FILE_NAME = "H4717_0000_ND3.JP2"
  RECORD_TYPE = UNDEFINED
  FILE_RECORDS = UNK
  ENCODING_TYPE = "JP2"
  INTERCHANGE_FORMAT = BINARY
  UNCOMPRESSED_FILE_NAME = "H4717_0000_ND3.IMG"
  REQUIRED_STORAGE_BYTES = "1803850398"
  ^DESCRIPTION = "JP2INFO.TXT"
END_OBJECT = COMPRESSED_FILE
END
