PDS_VERSION_ID = PDS3
/* FILE DATA ELEMENTS */
RECORD_TYPE = STREAM
/* POINTERS TO DATA OBJECTS */
^COMPRESSED_FILE = "H4730_0000_ND3.JP2"
/* IDENTIFICATION DATA ELEMENTS */
DATA_SET_ID = "MEX-M-HRSC-5-REFDR-MAPPROJECTED-V3.0"
DATA_SET_NAME = "MARS EXPRESS HRSC MAP PROJECTED REFDR V3.0"
DETECTOR_ID = MEX_HRSC_NADIR
EVENT_TYPE = "MARS-REGIONAL-MAPPING-Fl-Gl-La"
INSTRUMENT_HOST_ID = MEX
INSTRUMENT_HOST_NAME = "MARS EXPRESS"
INSTRUMENT_ID = HRSC
INSTRUMENT_NAME = "HIGH RESOLUTION STEREO CAMERA"
MISSION_NAME = "MARS EXPRESS"
MISSION_PHASE_NAME = ME_Phase_10
PROCESSING_LEVEL_ID = 3
PRODUCT_CREATION_TIME = 2016-04-26T13:14:09.000Z
PRODUCT_ID = "H4730_0000_ND3.JP2"
RELEASE_ID = 0054
REVISION_ID = 0000
/* QUALITY DATA ELEMENTS */
DATA_QUALITY_ID = 1
DATA_QUALITY_DESC = "Data calculated based on original SPICE kernels"
/* TIME DATA ELEMENTS */
SPACECRAFT_CLOCK_START_COUNT = "1/0137388240.08540"
SPACECRAFT_CLOCK_STOP_COUNT = "1/0137388546.54431"
START_TIME = 2007-09-09T03:24:48.354Z
STOP_TIME = 2007-09-09T03:27:48.388Z
/* ORBITAL DATA ELEMENTS */
ASCENDING_NODE_LONGITUDE = 129.52
MAXIMUM_RESOLUTION = 19.3
FOOTPRINT_POINT_LATITUDE = (-82.4393,-82.6045,-82.7625,-82.9131, -83.0558,-83.1909,-83.2511,-82.9266, -82.7607,-82.5927,-82.4239,-82.2545, -81.994,-81.8194,-81.6442,-81.3761, -81.1962,-81.0159,-80.7406,-80.5558, -80.3708,-80.1826,-79.9934,-79.8042, -79.5156,-79.3223,-79.0302,-78.833, -78.6357,-78.4364,-78.2354,-78.0344, -77.8307,-77.6262,-77.3177,-77.1098, -76.9019,-76.5853,-76.3741,-76.0531, -75.8385,-75.6213,-75.4009,-75.0718, -74.851,-74.5163,-74.2924,-74.0657, -73.839,-73.6102,-73.4545,-73.3823, -73.315,-73.2043,-73.1378,-73.0426, -72.9697,-73.306,-73.5278,-73.7495, -73.968,-74.2948,-74.5101,-74.8313, -75.0439,-75.2553,-75.4636,-75.7768, -76.0841,-76.2884,-76.4896,-76.6904, -76.9879,-77.1857,-77.3811,-77.5742, -77.7672,-77.9586,-78.1475,-78.3361, -78.523,-78.7074,-78.8915,-79.0741, -79.2538,-79.4328,-79.6111,-79.7856, -79.9596,-80.2184,-80.3872,-80.5552, -80.8052,-80.9678,-81.2098,-81.3696, -81.6798,-81.833,-82.1311,-82.4393)
FOOTPRINT_POINT_LONGITUDE = (53.9496,55.5515,57.2113,58.9296,60.705 ,62.5403,65.02,66.5037,67.2035,67.8757, 68.5169,69.1292,70.0135,70.5713,71.1048 ,71.8752,72.3633,72.8309,73.5073, 73.9369,74.3493,74.752,75.1399,75.5126, 76.0529,76.3973,76.8932,77.2123,77.5195 ,77.8191,78.1098,78.3896,78.6631, 78.9286,79.3122,79.5601,79.7993,80.1489 ,80.3722,80.6975,80.9053,81.1097, 81.3116,81.6015,81.788,82.06,82.2345, 82.4059,82.573,82.7369,82.2931,80.9159, 79.7722,78.1024,77.1944,75.9892,75.1265 ,74.8116,74.6,74.3807,74.1579,73.8094, 73.572,73.2056,72.9234,72.6626,72.3945, 71.9961,71.566,71.2661,70.9631,70.645, 70.1543,69.8261,69.4689,69.1151,68.7484 ,68.372,67.9864,67.588,67.1793,66.7597, 66.3256,65.8771,65.4198,64.9438,64.4526 ,63.9515,63.4318,62.6185,62.06,61.4793, 60.5716,59.9475,58.9646,58.277,56.8517, 56.0953,54.5115,53.9496)
ORBIT_NUMBER = 4730
ORBITAL_ECCENTRICITY = 0.57
ORBITAL_INCLINATION = 86.7
ORBITAL_SEMIMAJOR_AXIS = 8544.01
PERIAPSIS_ALTITUDE = 296.75
PERIAPSIS_ARGUMENT_ANGLE = 245.96
PERIAPSIS_TIME = 2007-09-09T03:17:04.000Z
SPACECRAFT_ORIENTATION = (0.0,-1.0,0.0)
^MEX_ORIENTATION_DESC = "MEX_ORIENTATION_DESC.TXT"
SPACECRAFT_POINTING_MODE = ACROSSTRACK
^MEX_POINTING_DESC = "MEX_POINTING_DESC.TXT"
RIGHT_ASCENSION = -1e+32
DECLINATION = -1e+32
OFFSET_ANGLE = 0.75
SPACECRAFT_SOLAR_DISTANCE = 2.15737e+08
TARGET_NAME = MARS
/* CAMERA DATA ELEMENTS */
DETECTOR_TEMPERATURE = 18.3705
FOCAL_PLANE_TEMPERATURE = 8.9911
INST_CMPRS_NAME = "DISCRETE COSINE TRANSFORMATION (DCT)"
INST_CMPRS_RATIO = 6.97425
INST_CMPRS_QUALITY = 0
INST_CMPRS_QUANTZ_TBL_ID = 0
INSTRUMENT_TEMPERATURE = 11.6418
LENS_TEMPERATURE = 9.3989
MACROPIXEL_SIZE = 1
MISSING_FRAMES = 1
PIXEL_SUBSAMPLING_FLAG = N
SIGNAL_CHAIN_ID = 0
/* RADIOMETRIC DATA ELEMENTS */
BANDWIDTH = 177.0
CENTER_FILTER_WAVELENGTH = 677.5
RADIANCE_OFFSET = 3.83734
RADIANCE_SCALING_FACTOR = 0.0103458
REFLECTANCE_SCALING_FACTOR = 0.0002558
MEX:REFLECTANCE_OFFSET = 0.0948786
/* IMAGE OBJECT DEFINITIONS */
OBJECT = IMAGE
  INTERCHANGE_FORMAT = BINARY
  LINES = 24552
  LINE_SAMPLES = 12721
  SAMPLE_TYPE = UNSIGNED_INTEGER
  SAMPLE_BITS = 8
  BANDS = 1
  BAND_STORAGE_TYPE = BAND_SEQUENTIAL
  MAXIMUM = 255
  MEAN = 103.804
  MINIMUM = 1
  STANDARD_DEVIATION = 36.132
END_OBJECT = IMAGE
/* MAP OBJECT DEFINITIONS */
OBJECT = IMAGE_MAP_PROJECTION
  ^DATA_SET_MAP_PROJECTION_CATALOG= "DSMAP.CAT"
  A_AXIS_RADIUS = 3396.0
  B_AXIS_RADIUS = 3396.0
  C_AXIS_RADIUS = 3396.0
  CENTER_LATITUDE = 0.0
  CENTER_LONGITUDE = 73.0
  COORDINATE_SYSTEM_NAME = PLANETOGRAPHIC
  COORDINATE_SYSTEM_TYPE = "BODY-FIXED ROTATING"
  EASTERNMOST_LONGITUDE = 82.73690000000001
  FIRST_STANDARD_PARALLEL = "N/A"
  LINE_FIRST_PIXEL = 1
  LINE_LAST_PIXEL = 24552
  LINE_PROJECTION_OFFSET = -173011.0
  MAP_PROJECTION_ROTATION = 0.0
  MAP_PROJECTION_TYPE = SINUSOIDAL
  MAP_RESOLUTION = 2370.85521546667
  MAP_SCALE = 0.025
  MAXIMUM_LATITUDE = -72.9697
  MINIMUM_LATITUDE = -83.25109999999999
  POSITIVE_LONGITUDE_DIRECTION = EAST
  REFERENCE_LATITUDE = "N/A"
  REFERENCE_LONGITUDE = "N/A"
  SAMPLE_FIRST_PIXEL = 1
  SAMPLE_LAST_PIXEL = 12721
  SAMPLE_PROJECTION_OFFSET = 6098.0
  SECOND_STANDARD_PARALLEL = "N/A"
  WESTERNMOST_LONGITUDE = 53.9496
END_OBJECT = IMAGE_MAP_PROJECTION
/* The JPEG2000 image data file associated with this label. */
OBJECT = COMPRESSED_FILE
  FILE_NAME = "H4730_0000_ND3.JP2"
  RECORD_TYPE = UNDEFINED
  FILE_RECORDS = UNK
  ENCODING_TYPE = "JP2"
  INTERCHANGE_FORMAT = BINARY
  UNCOMPRESSED_FILE_NAME = "H4730_0000_ND3.IMG"
  REQUIRED_STORAGE_BYTES = "312364155"
  ^DESCRIPTION = "JP2INFO.TXT"
END_OBJECT = COMPRESSED_FILE
END
