PDS_VERSION_ID = PDS3
/* FILE DATA ELEMENTS */
RECORD_TYPE = STREAM
/* POINTERS TO DATA OBJECTS */
^COMPRESSED_FILE = "H4737_0000_ND3.JP2"
/* IDENTIFICATION DATA ELEMENTS */
DATA_SET_ID = "MEX-M-HRSC-5-REFDR-MAPPROJECTED-V3.0"
DATA_SET_NAME = "MARS EXPRESS HRSC MAP PROJECTED REFDR V3.0"
DETECTOR_ID = MEX_HRSC_NADIR
EVENT_TYPE = "MARS-REGIONAL-MAPPING-Fl-Gl-La"
INSTRUMENT_HOST_ID = MEX
INSTRUMENT_HOST_NAME = "MARS EXPRESS"
INSTRUMENT_ID = HRSC
INSTRUMENT_NAME = "HIGH RESOLUTION STEREO CAMERA"
MISSION_NAME = "MARS EXPRESS"
MISSION_PHASE_NAME = ME_Phase_10
PROCESSING_LEVEL_ID = 3
PRODUCT_CREATION_TIME = 2016-04-26T13:14:09.000Z
PRODUCT_ID = "H4737_0000_ND3.JP2"
RELEASE_ID = 0054
REVISION_ID = 0000
/* QUALITY DATA ELEMENTS */
DATA_QUALITY_ID = 1
DATA_QUALITY_DESC = "Data calculated based on original SPICE kernels"
/* TIME DATA ELEMENTS */
SPACECRAFT_CLOCK_START_COUNT = "1/0137557561.07583"
SPACECRAFT_CLOCK_STOP_COUNT = "1/0137557921.35926"
START_TIME = 2007-09-11T02:26:47.849Z
STOP_TIME = 2007-09-11T02:30:37.855Z
/* ORBITAL DATA ELEMENTS */
ASCENDING_NODE_LONGITUDE = 129.38
MAXIMUM_RESOLUTION = 18.6
FOOTPRINT_POINT_LATITUDE = (-84.2787,-84.4914,-84.6984,-84.899, -85.0931,-85.2806,-84.9636,-84.6174, -84.4349,-84.248,-84.0578,-83.862, -83.662,-83.4595,-83.2521,-83.0411, -82.8282,-82.5001,-82.279,-82.0542, -81.8262,-81.5972,-81.3632,-81.01, -80.7698,-80.4074,-80.1607,-79.9135, -79.5371,-79.2846,-79.0279,-78.7704, -78.5095,-78.2472,-77.8485,-77.4457, -77.1744,-76.9002,-76.6247,-76.3458, -76.0661,-75.7825,-75.3541,-75.0664, -74.775,-74.4825,-74.187,-73.889, -73.5893,-73.287,-73.2226,-73.1259, -73.0645,-72.9753,-72.8713,-72.741, -73.0371,-73.3298,-73.6207,-73.9083, -74.1936,-74.4775,-74.756,-75.1711, -75.446,-75.7183,-75.9884,-76.2537, -76.5184,-76.7802,-77.1671,-77.5486, -77.7996,-78.049,-78.2945,-78.5388, -78.7785,-79.135,-79.3686,-79.6007, -79.9409,-80.1654,-80.4937,-80.7104, -80.9218,-81.1314,-81.438,-81.6387, -81.837,-82.029,-82.2184,-82.4032, -82.5825,-82.7587,-82.9297,-83.0946, -83.412,-83.7042,-83.9724,-84.2787)
FOOTPRINT_POINT_LONGITUDE = (68.8753,70.3487,71.9245,73.6079, 75.4099,77.3427,83.1721,86.5926,88.1635 ,89.6365,91.0135,92.3184,93.5487, 94.7023,95.7977,96.8335,97.8061,99.181, 100.032,100.843,101.614,102.341,103.039 ,104.018,104.637,105.506,106.058, 106.582,107.329,107.799,108.252,108.684 ,109.101,109.501,110.072,110.611, 110.954,111.284,111.602,111.91,112.205, 112.492,112.904,113.166,113.421,113.667 ,113.905,114.136,114.359,114.576, 113.316,111.666,110.727,109.476,108.152 ,106.641,106.364,106.082,105.789,105.48 ,105.172,104.85,104.501,103.968,103.601 ,103.242,102.857,102.443,102.027, 101.599,100.915,100.187,99.688,99.1696, 98.6322,98.0725,97.494,96.5815,95.9465, 95.2781,94.2375,93.5008,92.3427,91.5249 ,90.6827,89.7971,88.4016,87.4219, 86.4012,85.3404,84.2245,83.0594,81.8482 ,80.5758,79.2466,77.8676,74.9092, 71.7086,68.227,68.8753)
ORBIT_NUMBER = 4737
ORBITAL_ECCENTRICITY = 0.57
ORBITAL_INCLINATION = 86.69
ORBITAL_SEMIMAJOR_AXIS = 8545.38
PERIAPSIS_ALTITUDE = 297.42
PERIAPSIS_ARGUMENT_ANGLE = 244.74
PERIAPSIS_TIME = 2007-09-11T02:19:28.000Z
SPACECRAFT_ORIENTATION = (0.0,-1.0,0.0)
^MEX_ORIENTATION_DESC = "MEX_ORIENTATION_DESC.TXT"
SPACECRAFT_POINTING_MODE = ACROSSTRACK
^MEX_POINTING_DESC = "MEX_POINTING_DESC.TXT"
RIGHT_ASCENSION = -1e+32
DECLINATION = -1e+32
OFFSET_ANGLE = 0.9
SPACECRAFT_SOLAR_DISTANCE = 2.16069e+08
TARGET_NAME = MARS
/* CAMERA DATA ELEMENTS */
DETECTOR_TEMPERATURE = 18.5744
FOCAL_PLANE_TEMPERATURE = 8.7872
INST_CMPRS_NAME = "DISCRETE COSINE TRANSFORMATION (DCT)"
INST_CMPRS_RATIO = 6.94101
INST_CMPRS_QUALITY = 0
INST_CMPRS_QUANTZ_TBL_ID = 0
INSTRUMENT_TEMPERATURE = 11.4379
LENS_TEMPERATURE = 8.9911
MACROPIXEL_SIZE = 1
MISSING_FRAMES = 0
PIXEL_SUBSAMPLING_FLAG = N
SIGNAL_CHAIN_ID = 0
/* RADIOMETRIC DATA ELEMENTS */
BANDWIDTH = 177.0
CENTER_FILTER_WAVELENGTH = 677.5
RADIANCE_OFFSET = 3.0591
RADIANCE_SCALING_FACTOR = 0.0118765
REFLECTANCE_SCALING_FACTOR = 0.000294552
MEX:REFLECTANCE_OFFSET = 0.0758694
/* IMAGE OBJECT DEFINITIONS */
OBJECT = IMAGE
  INTERCHANGE_FORMAT = BINARY
  LINES = 59796
  LINE_SAMPLES = 35045
  SAMPLE_TYPE = UNSIGNED_INTEGER
  SAMPLE_BITS = 8
  BANDS = 1
  BAND_STORAGE_TYPE = BAND_SEQUENTIAL
  MAXIMUM = 255
  MEAN = 117.363
  MINIMUM = 1
  STANDARD_DEVIATION = 43.6188
END_OBJECT = IMAGE
/* MAP OBJECT DEFINITIONS */
OBJECT = IMAGE_MAP_PROJECTION
  ^DATA_SET_MAP_PROJECTION_CATALOG= "DSMAP.CAT"
  A_AXIS_RADIUS = 3396.0
  B_AXIS_RADIUS = 3396.0
  C_AXIS_RADIUS = 3396.0
  CENTER_LATITUDE = 0.0
  CENTER_LONGITUDE = 101.0
  COORDINATE_SYSTEM_NAME = PLANETOGRAPHIC
  COORDINATE_SYSTEM_TYPE = "BODY-FIXED ROTATING"
  EASTERNMOST_LONGITUDE = 114.576
  FIRST_STANDARD_PARALLEL = "N/A"
  LINE_FIRST_PIXEL = 1
  LINE_LAST_PIXEL = 59796
  LINE_PROJECTION_OFFSET = -344984.0
  MAP_PROJECTION_ROTATION = 0.0
  MAP_PROJECTION_TYPE = SINUSOIDAL
  MAP_RESOLUTION = 4741.71043093333
  MAP_SCALE = 0.0125
  MAXIMUM_LATITUDE = -72.741
  MINIMUM_LATITUDE = -85.28060000000001
  POSITIVE_LONGITUDE_DIRECTION = EAST
  REFERENCE_LATITUDE = "N/A"
  REFERENCE_LONGITUDE = "N/A"
  SAMPLE_FIRST_PIXEL = 1
  SAMPLE_LAST_PIXEL = 35045
  SAMPLE_PROJECTION_OFFSET = 16558.0
  SECOND_STANDARD_PARALLEL = "N/A"
  WESTERNMOST_LONGITUDE = 68.227
END_OBJECT = IMAGE_MAP_PROJECTION
/* The JPEG2000 image data file associated with this label. */
OBJECT = COMPRESSED_FILE
  FILE_NAME = "H4737_0000_ND3.JP2"
  RECORD_TYPE = UNDEFINED
  FILE_RECORDS = UNK
  ENCODING_TYPE = "JP2"
  INTERCHANGE_FORMAT = BINARY
  UNCOMPRESSED_FILE_NAME = "H4737_0000_ND3.IMG"
  REQUIRED_STORAGE_BYTES = "2095655955"
  ^DESCRIPTION = "JP2INFO.TXT"
END_OBJECT = COMPRESSED_FILE
END
