PDS_VERSION_ID = PDS3
/* FILE DATA ELEMENTS */
RECORD_TYPE = STREAM
/* POINTERS TO DATA OBJECTS */
^COMPRESSED_FILE = "H4737_0000_S23.JP2"
/* IDENTIFICATION DATA ELEMENTS */
DATA_SET_ID = "MEX-M-HRSC-5-REFDR-MAPPROJECTED-V3.0"
DATA_SET_NAME = "MARS EXPRESS HRSC MAP PROJECTED REFDR V3.0"
DETECTOR_ID = MEX_HRSC_S2
EVENT_TYPE = "MARS-REGIONAL-MAPPING-Fl-Gl-La"
INSTRUMENT_HOST_ID = MEX
INSTRUMENT_HOST_NAME = "MARS EXPRESS"
INSTRUMENT_ID = HRSC
INSTRUMENT_NAME = "HIGH RESOLUTION STEREO CAMERA"
MISSION_NAME = "MARS EXPRESS"
MISSION_PHASE_NAME = ME_Phase_10
PROCESSING_LEVEL_ID = 3
PRODUCT_CREATION_TIME = 2016-04-26T13:14:09.000Z
PRODUCT_ID = "H4737_0000_S23.JP2"
RELEASE_ID = 0054
REVISION_ID = 0000
/* QUALITY DATA ELEMENTS */
DATA_QUALITY_ID = 1
DATA_QUALITY_DESC = "Data calculated based on original SPICE kernels"
/* TIME DATA ELEMENTS */
SPACECRAFT_CLOCK_START_COUNT = "1/0137557561.07583"
SPACECRAFT_CLOCK_STOP_COUNT = "1/0137557921.35926"
START_TIME = 2007-09-11T02:27:38.273Z
STOP_TIME = 2007-09-11T02:32:03.611Z
/* ORBITAL DATA ELEMENTS */
ASCENDING_NODE_LONGITUDE = 129.38
MAXIMUM_RESOLUTION = 43.2
FOOTPRINT_POINT_LATITUDE = (-84.3055,-84.5203,-84.728,-84.928, -85.1201,-85.304,-85.1348,-84.792, -84.3333,-84.0446,-83.6493,-83.3401, -83.1274,-82.913,-82.6948,-82.474, -82.2441,-81.9028,-81.67,-81.4369, -81.1997,-80.9621,-80.7205,-80.4791, -80.2325,-79.9856,-79.7355,-79.4897, -79.2354,-78.9795,-78.5912,-78.3294, -78.0658,-77.801,-77.3981,-77.1272, -76.8539,-76.576,-76.2961,-76.0151, -75.5986,-75.3143,-75.0186,-74.731, -74.4395,-74.1491,-73.8545,-73.5542, -73.2517,-73.1944,-73.1293,-73.0762, -73.0058,-72.9071,-72.8413,-72.7405, -73.031,-73.4634,-73.8946,-74.1762, -74.4521,-74.7305,-75.0095,-75.2814, -75.5495,-75.8166,-76.0882,-76.3538, -76.6124,-76.8728,-77.13,-77.3877, -77.6397,-77.888,-78.2569,-78.62, -78.8595,-79.0948,-79.3281,-79.5582, -79.8984,-80.1221,-80.3421,-80.5602, -80.7737,-80.9852,-81.1917,-81.4963, -81.693,-81.8876,-82.0772,-82.2641, -82.5347,-82.7108,-82.9641,-83.1279, -83.5118,-83.792,-83.9854,-84.3055)
FOOTPRINT_POINT_LONGITUDE = (70.2629,72.0338,73.924,75.9407,78.0986 ,80.4089,82.609,86.215,90.1273,92.1956, 94.6553,96.3333,97.3846,98.3699,99.3044 ,100.187,101.043,102.218,102.957, 103.653,104.32,104.95,105.555,106.126, 106.678,107.202,107.705,108.177,108.639 ,109.081,109.712,110.111,110.496, 110.864,111.394,111.73,112.055,112.37, 112.673,112.966,113.383,113.651,113.914 ,114.165,114.408,114.643,114.872, 115.094,115.31,113.877,112.349,111.273, 110.022,108.412,107.431,106.069,105.799 ,105.376,104.917,104.609,104.303, 103.968,103.611,103.262,102.905,102.531 ,102.113,101.695,101.285,100.841, 100.383,99.8886,99.3981,98.8937,98.0946 ,97.2492,96.6561,96.0445,95.4072, 94.7465,93.7,92.9667,92.1987,91.3975, 90.5661,89.6964,88.7951,87.3625,86.3812 ,85.3351,84.2525,83.1143,81.3156, 80.0379,78.0318,76.6101,72.8061,69.4685 ,66.7817,70.2629)
ORBIT_NUMBER = 4737
ORBITAL_ECCENTRICITY = 0.57
ORBITAL_INCLINATION = 86.69
ORBITAL_SEMIMAJOR_AXIS = 8545.38
PERIAPSIS_ALTITUDE = 297.42
PERIAPSIS_ARGUMENT_ANGLE = 244.74
PERIAPSIS_TIME = 2007-09-11T02:19:28.000Z
SPACECRAFT_ORIENTATION = (0.0,-1.0,0.0)
^MEX_ORIENTATION_DESC = "MEX_ORIENTATION_DESC.TXT"
SPACECRAFT_POINTING_MODE = ACROSSTRACK
^MEX_POINTING_DESC = "MEX_POINTING_DESC.TXT"
RIGHT_ASCENSION = -1e+32
DECLINATION = -1e+32
OFFSET_ANGLE = 0.9
SPACECRAFT_SOLAR_DISTANCE = 2.16069e+08
TARGET_NAME = MARS
/* CAMERA DATA ELEMENTS */
DETECTOR_TEMPERATURE = 18.7783
FOCAL_PLANE_TEMPERATURE = 8.7872
INST_CMPRS_NAME = "DISCRETE COSINE TRANSFORMATION (DCT)"
INST_CMPRS_RATIO = 12.0383
INST_CMPRS_QUALITY = 0
INST_CMPRS_QUANTZ_TBL_ID = 0
INSTRUMENT_TEMPERATURE = 11.4379
LENS_TEMPERATURE = 8.9911
MACROPIXEL_SIZE = 2
MISSING_FRAMES = 0
PIXEL_SUBSAMPLING_FLAG = N
SIGNAL_CHAIN_ID = 1
/* RADIOMETRIC DATA ELEMENTS */
BANDWIDTH = 178.0
CENTER_FILTER_WAVELENGTH = 679.0
RADIANCE_OFFSET = 3.56346
RADIANCE_SCALING_FACTOR = 0.0114445
REFLECTANCE_SCALING_FACTOR = 0.000282954
MEX:REFLECTANCE_OFFSET = 0.0881029
/* IMAGE OBJECT DEFINITIONS */
OBJECT = IMAGE
  INTERCHANGE_FORMAT = BINARY
  LINES = 29898
  LINE_SAMPLES = 17523
  SAMPLE_TYPE = UNSIGNED_INTEGER
  SAMPLE_BITS = 8
  BANDS = 1
  BAND_STORAGE_TYPE = BAND_SEQUENTIAL
  MAXIMUM = 255
  MEAN = 123.081
  MINIMUM = 1
  STANDARD_DEVIATION = 45.7524
END_OBJECT = IMAGE
/* MAP OBJECT DEFINITIONS */
OBJECT = IMAGE_MAP_PROJECTION
  ^DATA_SET_MAP_PROJECTION_CATALOG= "DSMAP.CAT"
  A_AXIS_RADIUS = 3396.0
  B_AXIS_RADIUS = 3396.0
  C_AXIS_RADIUS = 3396.0
  CENTER_LATITUDE = 0.0
  CENTER_LONGITUDE = 101.0
  COORDINATE_SYSTEM_NAME = PLANETOGRAPHIC
  COORDINATE_SYSTEM_TYPE = "BODY-FIXED ROTATING"
  EASTERNMOST_LONGITUDE = 115.31
  FIRST_STANDARD_PARALLEL = "N/A"
  LINE_FIRST_PIXEL = 1
  LINE_LAST_PIXEL = 29898
  LINE_PROJECTION_OFFSET = -172492.25
  MAP_PROJECTION_ROTATION = 0.0
  MAP_PROJECTION_TYPE = SINUSOIDAL
  MAP_RESOLUTION = 2370.85521546667
  MAP_SCALE = 0.025
  MAXIMUM_LATITUDE = -72.7405
  MINIMUM_LATITUDE = -85.304
  POSITIVE_LONGITUDE_DIRECTION = EAST
  REFERENCE_LATITUDE = "N/A"
  REFERENCE_LONGITUDE = "N/A"
  SAMPLE_FIRST_PIXEL = 1
  SAMPLE_LAST_PIXEL = 17523
  SAMPLE_PROJECTION_OFFSET = 8278.75
  SECOND_STANDARD_PARALLEL = "N/A"
  WESTERNMOST_LONGITUDE = 66.7817
END_OBJECT = IMAGE_MAP_PROJECTION
/* The JPEG2000 image data file associated with this label. */
OBJECT = COMPRESSED_FILE
  FILE_NAME = "H4737_0000_S23.JP2"
  RECORD_TYPE = UNDEFINED
  FILE_RECORDS = UNK
  ENCODING_TYPE = "JP2"
  INTERCHANGE_FORMAT = BINARY
  UNCOMPRESSED_FILE_NAME = "H4737_0000_S23.IMG"
  REQUIRED_STORAGE_BYTES = "523955223"
  ^DESCRIPTION = "JP2INFO.TXT"
END_OBJECT = COMPRESSED_FILE
END
