PDS_VERSION_ID = PDS3
/* FILE DATA ELEMENTS */
RECORD_TYPE = STREAM
/* POINTERS TO DATA OBJECTS */
^COMPRESSED_FILE = "H4743_0000_IR3.JP2"
/* IDENTIFICATION DATA ELEMENTS */
DATA_SET_ID = "MEX-M-HRSC-5-REFDR-MAPPROJECTED-V3.0"
DATA_SET_NAME = "MARS EXPRESS HRSC MAP PROJECTED REFDR V3.0"
DETECTOR_ID = MEX_HRSC_IR
EVENT_TYPE = "MARS-REGIONAL-MAPPING-Im-Gl-La"
INSTRUMENT_HOST_ID = MEX
INSTRUMENT_HOST_NAME = "MARS EXPRESS"
INSTRUMENT_ID = HRSC
INSTRUMENT_NAME = "HIGH RESOLUTION STEREO CAMERA"
MISSION_NAME = "MARS EXPRESS"
MISSION_PHASE_NAME = ME_Phase_10
PROCESSING_LEVEL_ID = 3
PRODUCT_CREATION_TIME = 2016-04-26T13:14:09.000Z
PRODUCT_ID = "H4743_0000_IR3.JP2"
RELEASE_ID = 0054
REVISION_ID = 0000
/* QUALITY DATA ELEMENTS */
DATA_QUALITY_ID = 1
DATA_QUALITY_DESC = "Data calculated based on original SPICE kernels"
/* TIME DATA ELEMENTS */
SPACECRAFT_CLOCK_START_COUNT = "1/0137702814.09056"
SPACECRAFT_CLOCK_STOP_COUNT = "1/0137703130.50834"
START_TIME = 2007-09-12T18:47:06.199Z
STOP_TIME = 2007-09-12T18:49:37.876Z
/* ORBITAL DATA ELEMENTS */
ASCENDING_NODE_LONGITUDE = 129.26
MAXIMUM_RESOLUTION = 86.7
FOOTPRINT_POINT_LATITUDE = (-80.5967,-80.7034,-80.8688,-80.9894, -81.1196,-81.2112,-81.077,-80.5909, -80.2639,-79.9313,-79.5978,-79.3431, -79.1729,-79.0027,-78.8306,-78.6573, -78.484,-78.3107,-78.1343,-77.8695, -77.693,-77.424,-77.2444,-77.0647, -76.7912,-76.6086,-76.426,-76.2403, -76.0549,-75.8697,-75.6814,-75.4928, -75.3043,-75.1139,-74.923,-74.7328, -74.4431,-74.2498,-74.0538,-73.8563, -73.6607,-73.3626,-73.1626,-72.9613, -72.759,-72.5569,-72.3532,-72.1484, -71.9824,-71.9523,-71.9267,-71.8926, -71.866,-71.8377,-71.8079,-71.7681, -71.7259,-71.6767,-71.7001,-71.9016, -72.1033,-72.3022,-72.5008,-72.6984, -72.8942,-73.1879,-73.4779,-73.6716, -73.8618,-74.0521,-74.2424,-74.4295, -74.617,-74.8042,-74.9881,-75.1724, -75.4478,-75.6285,-75.8096,-75.9901, -76.1681,-76.3459,-76.5237,-76.6986, -76.8741,-77.0488,-77.2214,-77.3925, -77.5648,-77.7291,-77.9832,-78.1521, -78.3151,-78.4851,-78.7345,-79.1384, -79.5379,-79.9296,-80.316,-80.5967)
FOOTPRINT_POINT_LONGITUDE = (229.426,230.791,233.133,235.066, 237.453,239.394,240.33,241.202,241.737, 242.243,242.716,243.057,243.275,243.486 ,243.692,243.893,244.088,244.276, 244.462,244.731,244.903,245.156,245.319 ,245.477,245.708,245.857,246.002, 246.145,246.284,246.418,246.552,246.682 ,246.808,246.932,247.053,247.169,247.34 ,247.451,247.563,247.671,247.774, 247.928,248.029,248.128,248.224,248.317 ,248.408,248.498,248.292,247.459, 246.837,246.08,245.531,244.984,244.438, 243.758,243.081,242.34,241.184,241.056, 240.925,240.792,240.656,240.516,240.375 ,240.156,239.931,239.776,239.618, 239.457,239.292,239.124,238.952,238.775 ,238.596,238.412,238.128,237.934, 237.734,237.53,237.322,237.109,236.889, 236.667,236.438,236.202,235.962,235.717 ,235.464,235.203,234.804,234.529, 234.245,233.955,233.506,232.716,231.871 ,230.97,229.998,229.426)
ORBIT_NUMBER = 4743
ORBITAL_ECCENTRICITY = 0.57
ORBITAL_INCLINATION = 86.7
ORBITAL_SEMIMAJOR_AXIS = 8550.34
PERIAPSIS_ALTITUDE = 297.28
PERIAPSIS_ARGUMENT_ANGLE = 243.69
PERIAPSIS_TIME = 2007-09-12T18:38:41.000Z
SPACECRAFT_ORIENTATION = (0.0,-1.0,0.0)
^MEX_ORIENTATION_DESC = "MEX_ORIENTATION_DESC.TXT"
SPACECRAFT_POINTING_MODE = NADIR
^MEX_POINTING_DESC = "MEX_POINTING_DESC.TXT"
RIGHT_ASCENSION = -1e+32
DECLINATION = -1e+32
OFFSET_ANGLE = -1e+32
SPACECRAFT_SOLAR_DISTANCE = 2.16357e+08
TARGET_NAME = MARS
/* CAMERA DATA ELEMENTS */
DETECTOR_TEMPERATURE = 17.7588
FOCAL_PLANE_TEMPERATURE = 8.9911
INST_CMPRS_NAME = "DISCRETE COSINE TRANSFORMATION (DCT)"
INST_CMPRS_RATIO = 19.7048
INST_CMPRS_QUALITY = 0
INST_CMPRS_QUANTZ_TBL_ID = 0
INSTRUMENT_TEMPERATURE = 11.234
LENS_TEMPERATURE = 9.3989
MACROPIXEL_SIZE = 4
MISSING_FRAMES = 0
PIXEL_SUBSAMPLING_FLAG = N
SIGNAL_CHAIN_ID = 2
/* RADIOMETRIC DATA ELEMENTS */
BANDWIDTH = 81.0
CENTER_FILTER_WAVELENGTH = 955.5
RADIANCE_OFFSET = 0.839238
RADIANCE_SCALING_FACTOR = 0.00370725
REFLECTANCE_SCALING_FACTOR = 0.00037439
MEX:REFLECTANCE_OFFSET = 0.0847534
/* IMAGE OBJECT DEFINITIONS */
OBJECT = IMAGE
  INTERCHANGE_FORMAT = BINARY
  LINES = 5674
  LINE_SAMPLES = 2606
  SAMPLE_TYPE = UNSIGNED_INTEGER
  SAMPLE_BITS = 8
  BANDS = 1
  BAND_STORAGE_TYPE = BAND_SEQUENTIAL
  MAXIMUM = 255
  MEAN = 126.826
  MINIMUM = 1
  STANDARD_DEVIATION = 40.6581
END_OBJECT = IMAGE
/* MAP OBJECT DEFINITIONS */
OBJECT = IMAGE_MAP_PROJECTION
  ^DATA_SET_MAP_PROJECTION_CATALOG= "DSMAP.CAT"
  A_AXIS_RADIUS = 3396.0
  B_AXIS_RADIUS = 3396.0
  C_AXIS_RADIUS = 3396.0
  CENTER_LATITUDE = 0.0
  CENTER_LONGITUDE = 241.0
  COORDINATE_SYSTEM_NAME = PLANETOGRAPHIC
  COORDINATE_SYSTEM_TYPE = "BODY-FIXED ROTATING"
  EASTERNMOST_LONGITUDE = 248.498
  FIRST_STANDARD_PARALLEL = "N/A"
  LINE_FIRST_PIXEL = 1
  LINE_LAST_PIXEL = 5674
  LINE_PROJECTION_OFFSET = -42419.875
  MAP_PROJECTION_ROTATION = 0.0
  MAP_PROJECTION_TYPE = SINUSOIDAL
  MAP_RESOLUTION = 592.713803866667
  MAP_SCALE = 0.1
  MAXIMUM_LATITUDE = -71.6767
  MINIMUM_LATITUDE = -81.21120000000001
  POSITIVE_LONGITUDE_DIRECTION = EAST
  REFERENCE_LATITUDE = "N/A"
  REFERENCE_LONGITUDE = "N/A"
  SAMPLE_FIRST_PIXEL = 1
  SAMPLE_LAST_PIXEL = 2606
  SAMPLE_PROJECTION_OFFSET = 1156.625
  SECOND_STANDARD_PARALLEL = "N/A"
  WESTERNMOST_LONGITUDE = 229.426
END_OBJECT = IMAGE_MAP_PROJECTION
/* The JPEG2000 image data file associated with this label. */
OBJECT = COMPRESSED_FILE
  FILE_NAME = "H4743_0000_IR3.JP2"
  RECORD_TYPE = UNDEFINED
  FILE_RECORDS = UNK
  ENCODING_TYPE = "JP2"
  INTERCHANGE_FORMAT = BINARY
  UNCOMPRESSED_FILE_NAME = "H4743_0000_IR3.IMG"
  REQUIRED_STORAGE_BYTES = "14807292"
  ^DESCRIPTION = "JP2INFO.TXT"
END_OBJECT = COMPRESSED_FILE
END
