PDS_VERSION_ID = PDS3
/* FILE DATA ELEMENTS */
RECORD_TYPE = STREAM
/* POINTERS TO DATA OBJECTS */
^COMPRESSED_FILE = "H4752_0000_GR3.JP2"
/* IDENTIFICATION DATA ELEMENTS */
DATA_SET_ID = "MEX-M-HRSC-5-REFDR-MAPPROJECTED-V3.0"
DATA_SET_NAME = "MARS EXPRESS HRSC MAP PROJECTED REFDR V3.0"
DETECTOR_ID = MEX_HRSC_GREEN
EVENT_TYPE = "MARS-REGIONAL-MAPPING-Fl-Gl-La"
INSTRUMENT_HOST_ID = MEX
INSTRUMENT_HOST_NAME = "MARS EXPRESS"
INSTRUMENT_ID = HRSC
INSTRUMENT_NAME = "HIGH RESOLUTION STEREO CAMERA"
MISSION_NAME = "MARS EXPRESS"
MISSION_PHASE_NAME = ME_Phase_10
PROCESSING_LEVEL_ID = 3
PRODUCT_CREATION_TIME = 2016-04-26T13:14:09.000Z
PRODUCT_ID = "H4752_0000_GR3.JP2"
RELEASE_ID = 0054
REVISION_ID = 0000
/* QUALITY DATA ELEMENTS */
DATA_QUALITY_ID = 1
DATA_QUALITY_DESC = "Data calculated based on original SPICE kernels"
/* TIME DATA ELEMENTS */
SPACECRAFT_CLOCK_START_COUNT = "1/0137920518.09075"
SPACECRAFT_CLOCK_STOP_COUNT = "1/0137920865.59008"
START_TIME = 2007-09-15T07:16:03.347Z
STOP_TIME = 2007-09-15T07:19:17.259Z
/* ORBITAL DATA ELEMENTS */
ASCENDING_NODE_LONGITUDE = 129.08
MAXIMUM_RESOLUTION = 84
FOOTPRINT_POINT_LATITUDE = (-82.0161,-82.2767,-82.4868,-82.6886, -82.8817,-83.0664,-83.2428,-83.0729, -82.8402,-82.5224,-82.2763,-81.9416, -81.7696,-81.5959,-81.4213,-81.2429, -81.0632,-80.8824,-80.6982,-80.5129, -80.2319,-80.0416,-79.8507,-79.5597, -79.3644,-79.1667,-78.9672,-78.7673, -78.564,-78.2584,-78.0511,-77.8434, -77.5279,-77.3166,-76.9953,-76.7805, -76.5641,-76.3454,-76.0134,-75.7915, -75.5666,-75.3417,-75.1136,-74.8854, -74.6545,-74.3052,-74.0717,-73.8357, -73.5985,-73.3588,-73.1647,-73.1018, -73.0094,-72.9027,-72.7331,-72.6123, -72.5977,-72.8303,-73.0612,-73.4045, -73.6306,-73.8537,-74.0757,-74.2953, -74.5153,-74.7321,-75.0561,-75.269, -75.4815,-75.6918,-75.9027,-76.1072, -76.414,-76.6153,-76.9161,-77.1128, -77.4062,-77.5976,-77.7874,-77.9735, -78.1611,-78.3466,-78.5296,-78.8015, -78.9788,-79.1555,-79.3301,-79.5876, -79.7569,-79.9225,-80.0867,-80.2493, -80.4081,-80.5652,-80.7206,-81.0207, -81.2404,-81.5237,-81.7288,-82.0161)
FOOTPRINT_POINT_LONGITUDE = (41.9554,43.6083,45.0592,46.5678, 48.1321,49.7559,51.4432,53.7776,55.2538 ,57.083,58.3701,59.9632,60.7208,61.4473 ,62.1438,62.8222,63.4734,64.0969, 64.7056,65.2907,66.1289,66.6665,67.1824 ,67.9286,68.4044,68.8661,69.3135, 69.7439,70.1645,70.768,71.158,71.5338, 72.0791,72.4278,72.9335,73.2581,73.5787 ,73.8842,74.3283,74.6139,74.8943, 75.1648,75.4295,75.686,75.9376,76.2993, 76.5367,76.7659,76.9895,77.2077,76.406, 75.5558,74.3967,73.1622,71.385,70.2281, 68.9119,68.6472,68.3811,67.9685,67.6754 ,67.3786,67.0682,66.7563,66.4371, 66.1126,65.6105,65.262,64.9084,64.5485, 64.1846,63.7953,63.1974,62.7861,62.1497 ,61.7081,61.0261,60.5491,60.0519, 59.5457,59.0338,58.5066,57.9683,57.1269 ,56.5475,55.9487,55.3354,54.3841, 53.7188,53.042,52.341,51.6159,50.8788, 50.1139,49.3241,47.6836,46.3817,44.572, 43.1329,41.9554)
ORBIT_NUMBER = 4752
ORBITAL_ECCENTRICITY = 0.57
ORBITAL_INCLINATION = 86.7
ORBITAL_SEMIMAJOR_AXIS = 8549.06
PERIAPSIS_ALTITUDE = 297.24
PERIAPSIS_ARGUMENT_ANGLE = 242.14
PERIAPSIS_TIME = 2007-09-15T07:07:34.000Z
SPACECRAFT_ORIENTATION = (0.0,-1.0,0.0)
^MEX_ORIENTATION_DESC = "MEX_ORIENTATION_DESC.TXT"
SPACECRAFT_POINTING_MODE = ACROSSTRACK
^MEX_POINTING_DESC = "MEX_POINTING_DESC.TXT"
RIGHT_ASCENSION = -1e+32
DECLINATION = -1e+32
OFFSET_ANGLE = 1.8
SPACECRAFT_SOLAR_DISTANCE = 2.16793e+08
TARGET_NAME = MARS
/* CAMERA DATA ELEMENTS */
DETECTOR_TEMPERATURE = 18.3705
FOCAL_PLANE_TEMPERATURE = 8.7872
INST_CMPRS_NAME = "DISCRETE COSINE TRANSFORMATION (DCT)"
INST_CMPRS_RATIO = 19.055
INST_CMPRS_QUALITY = 0
INST_CMPRS_QUANTZ_TBL_ID = 0
INSTRUMENT_TEMPERATURE = 11.234
LENS_TEMPERATURE = 9.195
MACROPIXEL_SIZE = 4
MISSING_FRAMES = 0
PIXEL_SUBSAMPLING_FLAG = N
SIGNAL_CHAIN_ID = 2
/* RADIOMETRIC DATA ELEMENTS */
BANDWIDTH = 88.0
CENTER_FILTER_WAVELENGTH = 538.0
RADIANCE_OFFSET = 1.33638
RADIANCE_SCALING_FACTOR = 0.00243964
REFLECTANCE_SCALING_FACTOR = 9.87207e-05
MEX:REFLECTANCE_OFFSET = 0.054077
/* IMAGE OBJECT DEFINITIONS */
OBJECT = IMAGE
  INTERCHANGE_FORMAT = BINARY
  LINES = 6414
  LINE_SAMPLES = 4069
  SAMPLE_TYPE = UNSIGNED_INTEGER
  SAMPLE_BITS = 8
  BANDS = 1
  BAND_STORAGE_TYPE = BAND_SEQUENTIAL
  MAXIMUM = 255
  MEAN = 128.712
  MINIMUM = 1
  STANDARD_DEVIATION = 35.9757
END_OBJECT = IMAGE
/* MAP OBJECT DEFINITIONS */
OBJECT = IMAGE_MAP_PROJECTION
  ^DATA_SET_MAP_PROJECTION_CATALOG= "DSMAP.CAT"
  A_AXIS_RADIUS = 3396.0
  B_AXIS_RADIUS = 3396.0
  C_AXIS_RADIUS = 3396.0
  CENTER_LATITUDE = 0.0
  CENTER_LONGITUDE = 65.0
  COORDINATE_SYSTEM_NAME = PLANETOGRAPHIC
  COORDINATE_SYSTEM_TYPE = "BODY-FIXED ROTATING"
  EASTERNMOST_LONGITUDE = 77.2077
  FIRST_STANDARD_PARALLEL = "N/A"
  LINE_FIRST_PIXEL = 1
  LINE_LAST_PIXEL = 6414
  LINE_PROJECTION_OFFSET = -42968.625
  MAP_PROJECTION_ROTATION = 0.0
  MAP_PROJECTION_TYPE = SINUSOIDAL
  MAP_RESOLUTION = 592.713803866667
  MAP_SCALE = 0.1
  MAXIMUM_LATITUDE = -72.5977
  MINIMUM_LATITUDE = -83.2428
  POSITIVE_LONGITUDE_DIRECTION = EAST
  REFERENCE_LATITUDE = "N/A"
  REFERENCE_LONGITUDE = "N/A"
  SAMPLE_FIRST_PIXEL = 1
  SAMPLE_LAST_PIXEL = 4069
  SAMPLE_PROJECTION_OFFSET = 1928.625
  SECOND_STANDARD_PARALLEL = "N/A"
  WESTERNMOST_LONGITUDE = 41.9554
END_OBJECT = IMAGE_MAP_PROJECTION
/* The JPEG2000 image data file associated with this label. */
OBJECT = COMPRESSED_FILE
  FILE_NAME = "H4752_0000_GR3.JP2"
  RECORD_TYPE = UNDEFINED
  FILE_RECORDS = UNK
  ENCODING_TYPE = "JP2"
  INTERCHANGE_FORMAT = BINARY
  UNCOMPRESSED_FILE_NAME = "H4752_0000_GR3.IMG"
  REQUIRED_STORAGE_BYTES = "26122980"
  ^DESCRIPTION = "JP2INFO.TXT"
END_OBJECT = COMPRESSED_FILE
END
