PDS_VERSION_ID = PDS3
/* FILE DATA ELEMENTS */
RECORD_TYPE = STREAM
/* POINTERS TO DATA OBJECTS */
^COMPRESSED_FILE = "H4752_0000_ND3.JP2"
/* IDENTIFICATION DATA ELEMENTS */
DATA_SET_ID = "MEX-M-HRSC-5-REFDR-MAPPROJECTED-V3.0"
DATA_SET_NAME = "MARS EXPRESS HRSC MAP PROJECTED REFDR V3.0"
DETECTOR_ID = MEX_HRSC_NADIR
EVENT_TYPE = "MARS-REGIONAL-MAPPING-Fl-Gl-La"
INSTRUMENT_HOST_ID = MEX
INSTRUMENT_HOST_NAME = "MARS EXPRESS"
INSTRUMENT_ID = HRSC
INSTRUMENT_NAME = "HIGH RESOLUTION STEREO CAMERA"
MISSION_NAME = "MARS EXPRESS"
MISSION_PHASE_NAME = ME_Phase_10
PROCESSING_LEVEL_ID = 3
PRODUCT_CREATION_TIME = 2016-04-26T13:14:09.000Z
PRODUCT_ID = "H4752_0000_ND3.JP2"
RELEASE_ID = 0054
REVISION_ID = 0000
/* QUALITY DATA ELEMENTS */
DATA_QUALITY_ID = 1
DATA_QUALITY_DESC = "Data calculated based on original SPICE kernels"
/* TIME DATA ELEMENTS */
SPACECRAFT_CLOCK_START_COUNT = "1/0137920518.09075"
SPACECRAFT_CLOCK_STOP_COUNT = "1/0137920865.59008"
START_TIME = 2007-09-15T07:16:12.506Z
STOP_TIME = 2007-09-15T07:19:30.502Z
/* ORBITAL DATA ELEMENTS */
ASCENDING_NODE_LONGITUDE = 129.08
MAXIMUM_RESOLUTION = 21.3
FOOTPRINT_POINT_LATITUDE = (-82.192,-82.4172,-82.6328,-82.8385, -83.0343,-83.2204,-83.0692,-82.7552, -82.4316,-82.0965,-81.753,-81.5775, -81.401,-81.221,-81.0395,-80.857, -80.6709,-80.39,-80.1042,-79.912, -79.7175,-79.5211,-79.3243,-79.124, -78.8226,-78.618,-78.4132,-78.1017, -77.893,-77.5757,-77.3635,-77.1481, -76.9324,-76.7143,-76.4952,-76.2739, -76.0516,-75.7147,-75.3749,-75.1464, -74.9159,-74.6845,-74.4507,-74.0978, -73.8605,-73.6214,-73.3814,-73.1957, -73.1453,-73.067,-73.009,-72.955, -72.8981,-72.8157,-72.6953,-72.6097, -72.6148,-72.8477,-73.0803,-73.3099, -73.6517,-73.8776,-74.0999,-74.3225, -74.5425,-74.7616,-74.9786,-75.1939, -75.4073,-75.6199,-75.8315,-76.0399, -76.2457,-76.4511,-76.7539,-76.9553, -77.1525,-77.448,-77.6403,-77.9252, -78.1135,-78.3013,-78.4857,-78.6689, -78.8504,-79.0286,-79.2937,-79.467, -79.6392,-79.8081,-80.0573,-80.2214, -80.3815,-80.5402,-80.697,-81.0002, -81.4365,-81.6459,-81.9108,-82.192)
FOOTPRINT_POINT_LONGITUDE = (43.1653,44.7368,46.3743,48.0764, 49.8462,51.6877,54.051,55.9982,57.7959, 59.4615,60.9986,61.7246,62.4214,63.0986 ,63.7491,64.3713,64.9796,65.8454, 66.6701,67.1944,67.7028,68.1948,68.668, 69.1295,69.79,70.2159,70.6266,71.2219, 71.601,72.1517,72.5036,72.847,73.1794, 73.5086,73.8229,74.1281,74.423,74.8542, 75.2671,75.5329,75.7925,76.0449,76.2916 ,76.6488,76.8792,77.1049,77.3233, 76.9598,76.2038,75.1119,74.3559,73.6859 ,73.013,72.0882,70.828,69.9879,68.8055, 68.5416,68.2724,67.9925,67.5604,67.2596 ,66.9452,66.6305,66.3101,65.9808, 65.6477,65.2974,64.9449,64.5811,64.226, 63.8335,63.4404,63.0322,62.404,61.9728, 61.5246,60.8339,60.3493,59.5839,59.0708 ,58.5416,58.004,57.4464,56.8724,56.2826 ,55.3643,54.7363,54.085,53.4092,52.3647 ,51.6371,50.8965,50.1288,49.3358, 47.6861,45.0272,43.6059,41.6035, 43.1653)
ORBIT_NUMBER = 4752
ORBITAL_ECCENTRICITY = 0.57
ORBITAL_INCLINATION = 86.7
ORBITAL_SEMIMAJOR_AXIS = 8549.06
PERIAPSIS_ALTITUDE = 297.24
PERIAPSIS_ARGUMENT_ANGLE = 242.14
PERIAPSIS_TIME = 2007-09-15T07:07:34.000Z
SPACECRAFT_ORIENTATION = (0.0,-1.0,0.0)
^MEX_ORIENTATION_DESC = "MEX_ORIENTATION_DESC.TXT"
SPACECRAFT_POINTING_MODE = ACROSSTRACK
^MEX_POINTING_DESC = "MEX_POINTING_DESC.TXT"
RIGHT_ASCENSION = -1e+32
DECLINATION = -1e+32
OFFSET_ANGLE = 1.8
SPACECRAFT_SOLAR_DISTANCE = 2.16793e+08
TARGET_NAME = MARS
/* CAMERA DATA ELEMENTS */
DETECTOR_TEMPERATURE = 18.3705
FOCAL_PLANE_TEMPERATURE = 8.7872
INST_CMPRS_NAME = "DISCRETE COSINE TRANSFORMATION (DCT)"
INST_CMPRS_RATIO = 7.07804
INST_CMPRS_QUALITY = 0
INST_CMPRS_QUANTZ_TBL_ID = 0
INSTRUMENT_TEMPERATURE = 11.234
LENS_TEMPERATURE = 9.195
MACROPIXEL_SIZE = 1
MISSING_FRAMES = 0
PIXEL_SUBSAMPLING_FLAG = N
SIGNAL_CHAIN_ID = 0
/* RADIOMETRIC DATA ELEMENTS */
BANDWIDTH = 177.0
CENTER_FILTER_WAVELENGTH = 677.5
RADIANCE_OFFSET = 3.2174
RADIANCE_SCALING_FACTOR = 0.00957694
REFLECTANCE_SCALING_FACTOR = 0.000239113
MEX:REFLECTANCE_OFFSET = 0.0803307
/* IMAGE OBJECT DEFINITIONS */
OBJECT = IMAGE
  INTERCHANGE_FORMAT = BINARY
  LINES = 25656
  LINE_SAMPLES = 16275
  SAMPLE_TYPE = UNSIGNED_INTEGER
  SAMPLE_BITS = 8
  BANDS = 1
  BAND_STORAGE_TYPE = BAND_SEQUENTIAL
  MAXIMUM = 255
  MEAN = 117.692
  MINIMUM = 1
  STANDARD_DEVIATION = 35.8576
END_OBJECT = IMAGE
/* MAP OBJECT DEFINITIONS */
OBJECT = IMAGE_MAP_PROJECTION
  ^DATA_SET_MAP_PROJECTION_CATALOG= "DSMAP.CAT"
  A_AXIS_RADIUS = 3396.0
  B_AXIS_RADIUS = 3396.0
  C_AXIS_RADIUS = 3396.0
  CENTER_LATITUDE = 0.0
  CENTER_LONGITUDE = 65.0
  COORDINATE_SYSTEM_NAME = PLANETOGRAPHIC
  COORDINATE_SYSTEM_TYPE = "BODY-FIXED ROTATING"
  EASTERNMOST_LONGITUDE = 77.3233
  FIRST_STANDARD_PARALLEL = "N/A"
  LINE_FIRST_PIXEL = 1
  LINE_LAST_PIXEL = 25656
  LINE_PROJECTION_OFFSET = -171873.0
  MAP_PROJECTION_ROTATION = 0.0
  MAP_PROJECTION_TYPE = SINUSOIDAL
  MAP_RESOLUTION = 2370.85521546667
  MAP_SCALE = 0.025
  MAXIMUM_LATITUDE = -72.6097
  MINIMUM_LATITUDE = -83.2204
  POSITIVE_LONGITUDE_DIRECTION = EAST
  REFERENCE_LATITUDE = "N/A"
  REFERENCE_LONGITUDE = "N/A"
  SAMPLE_FIRST_PIXEL = 1
  SAMPLE_LAST_PIXEL = 16275
  SAMPLE_PROJECTION_OFFSET = 7716.0
  SECOND_STANDARD_PARALLEL = "N/A"
  WESTERNMOST_LONGITUDE = 41.6035
END_OBJECT = IMAGE_MAP_PROJECTION
/* The JPEG2000 image data file associated with this label. */
OBJECT = COMPRESSED_FILE
  FILE_NAME = "H4752_0000_ND3.JP2"
  RECORD_TYPE = UNDEFINED
  FILE_RECORDS = UNK
  ENCODING_TYPE = "JP2"
  INTERCHANGE_FORMAT = BINARY
  UNCOMPRESSED_FILE_NAME = "H4752_0000_ND3.IMG"
  REQUIRED_STORAGE_BYTES = "417600225"
  ^DESCRIPTION = "JP2INFO.TXT"
END_OBJECT = COMPRESSED_FILE
END
