PDS_VERSION_ID = PDS3
/* FILE DATA ELEMENTS */
RECORD_TYPE = STREAM
/* POINTERS TO DATA OBJECTS */
^COMPRESSED_FILE = "H4752_0000_P13.JP2"
/* IDENTIFICATION DATA ELEMENTS */
DATA_SET_ID = "MEX-M-HRSC-5-REFDR-MAPPROJECTED-V3.0"
DATA_SET_NAME = "MARS EXPRESS HRSC MAP PROJECTED REFDR V3.0"
DETECTOR_ID = MEX_HRSC_P1
EVENT_TYPE = "MARS-REGIONAL-MAPPING-Fl-Gl-La"
INSTRUMENT_HOST_ID = MEX
INSTRUMENT_HOST_NAME = "MARS EXPRESS"
INSTRUMENT_ID = HRSC
INSTRUMENT_NAME = "HIGH RESOLUTION STEREO CAMERA"
MISSION_NAME = "MARS EXPRESS"
MISSION_PHASE_NAME = ME_Phase_10
PROCESSING_LEVEL_ID = 3
PRODUCT_CREATION_TIME = 2016-04-26T13:14:09.000Z
PRODUCT_ID = "H4752_0000_P13.JP2"
RELEASE_ID = 0054
REVISION_ID = 0000
/* QUALITY DATA ELEMENTS */
DATA_QUALITY_ID = 1
DATA_QUALITY_DESC = "Data calculated based on original SPICE kernels"
/* TIME DATA ELEMENTS */
SPACECRAFT_CLOCK_START_COUNT = "1/0137920518.09075"
SPACECRAFT_CLOCK_STOP_COUNT = "1/0137920865.59008"
START_TIME = 2007-09-15T07:15:38.496Z
STOP_TIME = 2007-09-15T07:18:41.363Z
/* ORBITAL DATA ELEMENTS */
ASCENDING_NODE_LONGITUDE = 129.08
MAXIMUM_RESOLUTION = 41.5
FOOTPRINT_POINT_LATITUDE = (-82.0498,-82.38,-82.5992,-82.8095, -83.0111,-83.2041,-83.3884,-83.1701, -82.7034,-82.3811,-82.2145,-82.0456, -81.7895,-81.6141,-81.4376,-81.2602, -81.0803,-80.8969,-80.6209,-80.4337, -80.2443,-80.0546,-79.8618,-79.6669, -79.4718,-79.2739,-79.074,-78.8737, -78.6704,-78.4659,-78.2611,-77.9484, -77.7393,-77.5275,-77.3142,-77.1001, -76.884,-76.6699,-76.3392,-76.1171, -75.8925,-75.5553,-75.2131,-74.8675, -74.6354,-74.401,-74.0476,-73.8087, -73.5695,-73.231,-73.1474,-73.0144, -72.8992,-72.7677,-72.6896,-72.5514, -72.4708,-72.7073,-72.9405,-73.1735, -73.4043,-73.7441,-73.9679,-74.1887, -74.4094,-74.6303,-74.8481,-75.1736, -75.3871,-75.6007,-75.8162,-76.0239, -76.2305,-76.4346,-76.6382,-76.8397, -77.0398,-77.2368,-77.4316,-77.6236, -77.9046,-78.1868,-78.3737,-78.5573, -78.7398,-78.9204,-79.0975,-79.2742, -79.4491,-79.6202,-79.7894,-80.0396, -80.2024,-80.3639,-80.524,-80.8328, -81.2057,-81.4935,-81.768,-82.0498)
FOOTPRINT_POINT_LONGITUDE = (41.9807,43.9095,45.3202,46.7895, 48.3193,49.9129,51.5718,52.8158,55.7806 ,57.5633,58.4109,59.2247,60.3804, 61.1215,61.8335,62.5156,63.1742,63.8132 ,64.7227,65.3048,65.8679,66.4086, 66.9337,67.442,67.9305,68.4055,68.8656, 69.3083,69.74,70.1575,70.5598,71.1448, 71.5179,71.8825,72.2354,72.5766,72.9108 ,73.2337,73.7026,74.003,74.2971,74.7211 ,75.13,75.5214,75.7744,76.0204,76.3783, 76.6099,76.835,76.4948,75.5053,74.0612, 72.9203,71.7045,71.0219,69.8837,69.2483 ,68.9864,68.719,68.4431,68.1648,67.7233 ,67.4204,67.1055,66.7892,66.4635, 66.1329,65.6167,65.2645,64.9016,64.5395 ,64.1551,63.759,63.3568,62.9411,62.5154 ,62.0806,61.6259,61.1668,60.6884, 59.9377,59.1688,58.6366,58.0942,57.5324 ,56.9527,56.3614,55.7505,55.1204, 54.4774,53.8103,52.7706,52.0564,51.3171 ,50.5514,48.9677,46.8421,45.0274, 43.1079,41.9807)
ORBIT_NUMBER = 4752
ORBITAL_ECCENTRICITY = 0.57
ORBITAL_INCLINATION = 86.7
ORBITAL_SEMIMAJOR_AXIS = 8549.06
PERIAPSIS_ALTITUDE = 297.24
PERIAPSIS_ARGUMENT_ANGLE = 242.14
PERIAPSIS_TIME = 2007-09-15T07:07:34.000Z
SPACECRAFT_ORIENTATION = (0.0,-1.0,0.0)
^MEX_ORIENTATION_DESC = "MEX_ORIENTATION_DESC.TXT"
SPACECRAFT_POINTING_MODE = ACROSSTRACK
^MEX_POINTING_DESC = "MEX_POINTING_DESC.TXT"
RIGHT_ASCENSION = -1e+32
DECLINATION = -1e+32
OFFSET_ANGLE = 1.8
SPACECRAFT_SOLAR_DISTANCE = 2.16793e+08
TARGET_NAME = MARS
/* CAMERA DATA ELEMENTS */
DETECTOR_TEMPERATURE = 17.1471
FOCAL_PLANE_TEMPERATURE = 8.7872
INST_CMPRS_NAME = "DISCRETE COSINE TRANSFORMATION (DCT)"
INST_CMPRS_RATIO = 14.7803
INST_CMPRS_QUALITY = 0
INST_CMPRS_QUANTZ_TBL_ID = 0
INSTRUMENT_TEMPERATURE = 11.234
LENS_TEMPERATURE = 9.195
MACROPIXEL_SIZE = 2
MISSING_FRAMES = 0
PIXEL_SUBSAMPLING_FLAG = N
SIGNAL_CHAIN_ID = 3
/* RADIOMETRIC DATA ELEMENTS */
BANDWIDTH = 174.0
CENTER_FILTER_WAVELENGTH = 675.0
RADIANCE_OFFSET = 3.65331
RADIANCE_SCALING_FACTOR = 0.00854576
REFLECTANCE_SCALING_FACTOR = 0.000216038
MEX:REFLECTANCE_OFFSET = 0.0923562
/* IMAGE OBJECT DEFINITIONS */
OBJECT = IMAGE
  INTERCHANGE_FORMAT = BINARY
  LINES = 12828
  LINE_SAMPLES = 8138
  SAMPLE_TYPE = UNSIGNED_INTEGER
  SAMPLE_BITS = 8
  BANDS = 1
  BAND_STORAGE_TYPE = BAND_SEQUENTIAL
  MAXIMUM = 255
  MEAN = 116.779
  MINIMUM = 1
  STANDARD_DEVIATION = 35.2941
END_OBJECT = IMAGE
/* MAP OBJECT DEFINITIONS */
OBJECT = IMAGE_MAP_PROJECTION
  ^DATA_SET_MAP_PROJECTION_CATALOG= "DSMAP.CAT"
  A_AXIS_RADIUS = 3396.0
  B_AXIS_RADIUS = 3396.0
  C_AXIS_RADIUS = 3396.0
  CENTER_LATITUDE = 0.0
  CENTER_LONGITUDE = 65.0
  COORDINATE_SYSTEM_NAME = PLANETOGRAPHIC
  COORDINATE_SYSTEM_TYPE = "BODY-FIXED ROTATING"
  EASTERNMOST_LONGITUDE = 76.83499999999999
  FIRST_STANDARD_PARALLEL = "N/A"
  LINE_FIRST_PIXEL = 1
  LINE_LAST_PIXEL = 12828
  LINE_PROJECTION_OFFSET = -85936.75
  MAP_PROJECTION_ROTATION = 0.0
  MAP_PROJECTION_TYPE = SINUSOIDAL
  MAP_RESOLUTION = 1185.42760773333
  MAP_SCALE = 0.05
  MAXIMUM_LATITUDE = -72.4708
  MINIMUM_LATITUDE = -83.3884
  POSITIVE_LONGITUDE_DIRECTION = EAST
  REFERENCE_LATITUDE = "N/A"
  REFERENCE_LONGITUDE = "N/A"
  SAMPLE_FIRST_PIXEL = 1
  SAMPLE_LAST_PIXEL = 8138
  SAMPLE_PROJECTION_OFFSET = 3857.75
  SECOND_STANDARD_PARALLEL = "N/A"
  WESTERNMOST_LONGITUDE = 41.9807
END_OBJECT = IMAGE_MAP_PROJECTION
/* The JPEG2000 image data file associated with this label. */
OBJECT = COMPRESSED_FILE
  FILE_NAME = "H4752_0000_P13.JP2"
  RECORD_TYPE = UNDEFINED
  FILE_RECORDS = UNK
  ENCODING_TYPE = "JP2"
  INTERCHANGE_FORMAT = BINARY
  UNCOMPRESSED_FILE_NAME = "H4752_0000_P13.IMG"
  REQUIRED_STORAGE_BYTES = "104426816"
  ^DESCRIPTION = "JP2INFO.TXT"
END_OBJECT = COMPRESSED_FILE
END
