PDS_VERSION_ID = PDS3
/* FILE DATA ELEMENTS */
RECORD_TYPE = STREAM
/* POINTERS TO DATA OBJECTS */
^COMPRESSED_FILE = "H4752_0000_S13.JP2"
/* IDENTIFICATION DATA ELEMENTS */
DATA_SET_ID = "MEX-M-HRSC-5-REFDR-MAPPROJECTED-V3.0"
DATA_SET_NAME = "MARS EXPRESS HRSC MAP PROJECTED REFDR V3.0"
DETECTOR_ID = MEX_HRSC_S1
EVENT_TYPE = "MARS-REGIONAL-MAPPING-Fl-Gl-La"
INSTRUMENT_HOST_ID = MEX
INSTRUMENT_HOST_NAME = "MARS EXPRESS"
INSTRUMENT_ID = HRSC
INSTRUMENT_NAME = "HIGH RESOLUTION STEREO CAMERA"
MISSION_NAME = "MARS EXPRESS"
MISSION_PHASE_NAME = ME_Phase_10
PROCESSING_LEVEL_ID = 3
PRODUCT_CREATION_TIME = 2016-04-26T13:14:09.000Z
PRODUCT_ID = "H4752_0000_S13.JP2"
RELEASE_ID = 0054
REVISION_ID = 0000
/* QUALITY DATA ELEMENTS */
DATA_QUALITY_ID = 1
DATA_QUALITY_DESC = "Data calculated based on original SPICE kernels"
/* TIME DATA ELEMENTS */
SPACECRAFT_CLOCK_START_COUNT = "1/0137920518.09075"
SPACECRAFT_CLOCK_STOP_COUNT = "1/0137920865.59008"
START_TIME = 2007-09-15T07:15:22.117Z
STOP_TIME = 2007-09-15T07:18:18.404Z
/* ORBITAL DATA ELEMENTS */
ASCENDING_NODE_LONGITUDE = 129.08
MAXIMUM_RESOLUTION = 41.9
FOOTPRINT_POINT_LATITUDE = (-82.0714,-82.2914,-82.5178,-82.7359, -82.9454,-83.1464,-83.3392,-83.186, -82.8781,-82.5587,-82.2304,-82.0629, -81.8045,-81.6297,-81.4546,-81.2754, -81.0947,-80.9124,-80.7275,-80.5411, -80.3529,-80.164,-79.9713,-79.7774, -79.583,-79.3856,-79.1863,-78.9866, -78.7835,-78.5791,-78.3748,-78.1671, -77.9579,-77.6423,-77.3226,-77.1082, -76.7864,-76.5701,-76.3466,-76.0114, -75.6733,-75.4471,-75.1019,-74.7541, -74.5199,-74.2804,-74.0455,-73.8072, -73.5657,-73.3244,-73.2424,-73.1356, -73.0684,-72.9513,-72.8499,-72.7439, -72.6132,-72.5773,-72.8137,-73.0489, -73.2804,-73.516,-73.7387,-73.9641, -74.2943,-74.5168,-74.8457,-75.0643, -75.2791,-75.4955,-75.7093,-76.0275, -76.2338,-76.4387,-76.6433,-76.8459, -77.046,-77.243,-77.4388,-77.6305, -77.9108,-78.0989,-78.2864,-78.4734, -78.656,-78.8377,-79.018,-79.1942, -79.3701,-79.6312,-79.8835,-80.0497, -80.2147,-80.3755,-80.6131,-80.846, -81.1449,-81.5068,-81.7821,-82.0714)
FOOTPRINT_POINT_LONGITUDE = (41.9627,43.1325,44.4321,45.7886, 47.2024,48.6767,50.2148,52.4594,54.4987 ,56.3816,58.1188,58.9349,60.1142,60.86, 61.573,62.2691,62.9365,63.5773,64.1975, 64.7972,65.3738,65.9279,66.4693,66.9899 ,67.4902,67.978,68.4494,68.9029,69.3458 ,69.7739,70.1859,70.5887,70.9783, 71.5394,72.0774,72.4209,72.9202,73.2394 ,73.5538,74.0056,74.4404,74.7189, 75.1257,75.5154,75.7673,76.0122,76.2515 ,76.4837,76.7111,76.9322,76.1368, 75.0348,74.3743,73.2757,72.3958,71.5176 ,70.4951,69.2411,68.9739,68.7035, 68.4226,68.1408,67.8414,67.5358,67.064, 66.7411,66.2452,65.9024,65.5529,65.1942 ,64.8262,64.2573,63.8613,63.4576, 63.0405,62.614,62.1765,61.7218,61.2589, 60.7813,60.0314,59.5233,58.9981,58.4573 ,57.9057,57.335,56.744,56.1424,55.5221, 54.5497,53.5438,52.8438,52.1188,51.3822 ,50.2291,49.0191,47.3312,45.0676, 43.1352,41.9627)
ORBIT_NUMBER = 4752
ORBITAL_ECCENTRICITY = 0.57
ORBITAL_INCLINATION = 86.7
ORBITAL_SEMIMAJOR_AXIS = 8549.06
PERIAPSIS_ALTITUDE = 297.24
PERIAPSIS_ARGUMENT_ANGLE = 242.14
PERIAPSIS_TIME = 2007-09-15T07:07:34.000Z
SPACECRAFT_ORIENTATION = (0.0,-1.0,0.0)
^MEX_ORIENTATION_DESC = "MEX_ORIENTATION_DESC.TXT"
SPACECRAFT_POINTING_MODE = ACROSSTRACK
^MEX_POINTING_DESC = "MEX_POINTING_DESC.TXT"
RIGHT_ASCENSION = -1e+32
DECLINATION = -1e+32
OFFSET_ANGLE = 1.8
SPACECRAFT_SOLAR_DISTANCE = 2.16793e+08
TARGET_NAME = MARS
/* CAMERA DATA ELEMENTS */
DETECTOR_TEMPERATURE = 17.1471
FOCAL_PLANE_TEMPERATURE = 8.7872
INST_CMPRS_NAME = "DISCRETE COSINE TRANSFORMATION (DCT)"
INST_CMPRS_RATIO = 11.8763
INST_CMPRS_QUALITY = 0
INST_CMPRS_QUANTZ_TBL_ID = 0
INSTRUMENT_TEMPERATURE = 11.234
LENS_TEMPERATURE = 9.195
MACROPIXEL_SIZE = 2
MISSING_FRAMES = 0
PIXEL_SUBSAMPLING_FLAG = N
SIGNAL_CHAIN_ID = 1
/* RADIOMETRIC DATA ELEMENTS */
BANDWIDTH = 180.0
CENTER_FILTER_WAVELENGTH = 677.0
RADIANCE_OFFSET = 4.13637
RADIANCE_SCALING_FACTOR = 0.00912435
REFLECTANCE_SCALING_FACTOR = 0.000223737
MEX:REFLECTANCE_OFFSET = 0.101427
/* IMAGE OBJECT DEFINITIONS */
OBJECT = IMAGE
  INTERCHANGE_FORMAT = BINARY
  LINES = 12828
  LINE_SAMPLES = 8138
  SAMPLE_TYPE = UNSIGNED_INTEGER
  SAMPLE_BITS = 8
  BANDS = 1
  BAND_STORAGE_TYPE = BAND_SEQUENTIAL
  MAXIMUM = 255
  MEAN = 116.5
  MINIMUM = 1
  STANDARD_DEVIATION = 34.2689
END_OBJECT = IMAGE
/* MAP OBJECT DEFINITIONS */
OBJECT = IMAGE_MAP_PROJECTION
  ^DATA_SET_MAP_PROJECTION_CATALOG= "DSMAP.CAT"
  A_AXIS_RADIUS = 3396.0
  B_AXIS_RADIUS = 3396.0
  C_AXIS_RADIUS = 3396.0
  CENTER_LATITUDE = 0.0
  CENTER_LONGITUDE = 65.0
  COORDINATE_SYSTEM_NAME = PLANETOGRAPHIC
  COORDINATE_SYSTEM_TYPE = "BODY-FIXED ROTATING"
  EASTERNMOST_LONGITUDE = 76.93219999999999
  FIRST_STANDARD_PARALLEL = "N/A"
  LINE_FIRST_PIXEL = 1
  LINE_LAST_PIXEL = 12828
  LINE_PROJECTION_OFFSET = -85936.75
  MAP_PROJECTION_ROTATION = 0.0
  MAP_PROJECTION_TYPE = SINUSOIDAL
  MAP_RESOLUTION = 1185.42760773333
  MAP_SCALE = 0.05
  MAXIMUM_LATITUDE = -72.57729999999999
  MINIMUM_LATITUDE = -83.33920000000001
  POSITIVE_LONGITUDE_DIRECTION = EAST
  REFERENCE_LATITUDE = "N/A"
  REFERENCE_LONGITUDE = "N/A"
  SAMPLE_FIRST_PIXEL = 1
  SAMPLE_LAST_PIXEL = 8138
  SAMPLE_PROJECTION_OFFSET = 3857.75
  SECOND_STANDARD_PARALLEL = "N/A"
  WESTERNMOST_LONGITUDE = 41.9627
END_OBJECT = IMAGE_MAP_PROJECTION
/* The JPEG2000 image data file associated with this label. */
OBJECT = COMPRESSED_FILE
  FILE_NAME = "H4752_0000_S13.JP2"
  RECORD_TYPE = UNDEFINED
  FILE_RECORDS = UNK
  ENCODING_TYPE = "JP2"
  INTERCHANGE_FORMAT = BINARY
  UNCOMPRESSED_FILE_NAME = "H4752_0000_S13.IMG"
  REQUIRED_STORAGE_BYTES = "104426816"
  ^DESCRIPTION = "JP2INFO.TXT"
END_OBJECT = COMPRESSED_FILE
END
