PDS_VERSION_ID = PDS3
/* FILE DATA ELEMENTS */
RECORD_TYPE = STREAM
/* POINTERS TO DATA OBJECTS */
^COMPRESSED_FILE = "H4758_0000_P23.JP2"
/* IDENTIFICATION DATA ELEMENTS */
DATA_SET_ID = "MEX-M-HRSC-5-REFDR-MAPPROJECTED-V3.0"
DATA_SET_NAME = "MARS EXPRESS HRSC MAP PROJECTED REFDR V3.0"
DETECTOR_ID = MEX_HRSC_P2
EVENT_TYPE = "MARS-REGIONAL-MAPPING-Im-Gl-La"
INSTRUMENT_HOST_ID = MEX
INSTRUMENT_HOST_NAME = "MARS EXPRESS"
INSTRUMENT_ID = HRSC
INSTRUMENT_NAME = "HIGH RESOLUTION STEREO CAMERA"
MISSION_NAME = "MARS EXPRESS"
MISSION_PHASE_NAME = ME_Phase_10
PROCESSING_LEVEL_ID = 3
PRODUCT_CREATION_TIME = 2016-04-26T13:14:09.000Z
PRODUCT_ID = "H4758_0000_P23.JP2"
RELEASE_ID = 0054
REVISION_ID = 0000
/* QUALITY DATA ELEMENTS */
DATA_QUALITY_ID = 1
DATA_QUALITY_DESC = "Data calculated based on original SPICE kernels"
/* TIME DATA ELEMENTS */
SPACECRAFT_CLOCK_START_COUNT = "1/0138065713.07296"
SPACECRAFT_CLOCK_STOP_COUNT = "1/0138066048.32030"
START_TIME = 2007-09-16T23:36:54.138Z
STOP_TIME = 2007-09-16T23:40:10.371Z
/* ORBITAL DATA ELEMENTS */
ASCENDING_NODE_LONGITUDE = 128.96
MAXIMUM_RESOLUTION = 50.9
FOOTPRINT_POINT_LATITUDE = (-81.1689,-81.3437,-81.5082,-81.6621, -81.8051,-81.937,-82.0943,-81.7779, -81.3757,-81.0489,-80.6333,-80.38, -80.2106,-80.0391,-79.781,-79.6069, -79.3451,-79.1685,-78.9924,-78.8135, -78.5443,-78.3629,-78.1814,-77.9983, -77.8149,-77.537,-77.2576,-77.0697, -76.8802,-76.692,-76.5013,-76.3086, -76.1149,-75.9223,-75.7267,-75.4326, -75.235,-75.0364,-74.8374,-74.6366, -74.3331,-74.028,-73.7206,-73.5143, -73.3067,-73.0991,-72.8358,-72.8068, -72.7616,-72.7261,-72.6837,-72.6477, -72.6098,-72.5595,-72.4933,-72.4061, -72.351,-72.3775,-72.5807,-72.7823, -73.0823,-73.3797,-73.5799,-73.8785, -74.0731,-74.2651,-74.4576,-74.7434, -74.9298,-75.1199,-75.3085,-75.4953, -75.7717,-75.9559,-76.138,-76.3195, -76.4991,-76.6783,-76.8554,-77.0325, -77.2077,-77.4695,-77.6415,-77.8127, -77.9823,-78.235,-78.4022,-78.5682, -78.7318,-78.8954,-79.137,-79.2974, -79.4555,-79.6129,-79.9998,-80.3026, -80.5266,-80.7463,-81.0337,-81.1689)
FOOTPRINT_POINT_LONGITUDE = (186.743,188.629,190.572,192.572, 194.625,196.735,198.239,199.261,200.441 ,201.315,202.331,202.904,203.269, 203.625,204.136,204.466,204.94,205.247, 205.543,205.832,206.249,206.519,206.78, 207.036,207.283,207.644,207.99,208.214, 208.432,208.644,208.852,209.055,209.253 ,209.445,209.634,209.908,210.086,210.26 ,210.43,210.596,210.839,211.073,211.3, 211.448,211.592,211.733,211.717,210.961 ,209.924,209.172,208.327,207.672, 207.018,206.174,205.146,203.942,203.195 ,202.14,201.959,201.775,201.493,201.202 ,200.987,200.652,200.437,200.225,200.0, 199.658,199.44,199.187,198.931,198.674, 198.285,198.01,197.733,197.449,197.16, 196.863,196.56,196.247,195.925,195.422, 195.084,194.735,194.377,193.821,193.436 ,193.041,192.643,192.229,191.588, 191.145,190.689,190.221,188.993,187.949 ,187.121,186.259,185.066,186.743)
ORBIT_NUMBER = 4758
ORBITAL_ECCENTRICITY = 0.57
ORBITAL_INCLINATION = 86.7
ORBITAL_SEMIMAJOR_AXIS = 8553.43
PERIAPSIS_ALTITUDE = 297.32
PERIAPSIS_ARGUMENT_ANGLE = 241.11
PERIAPSIS_TIME = 2007-09-16T23:26:41.000Z
SPACECRAFT_ORIENTATION = (0.0,-1.0,0.0)
^MEX_ORIENTATION_DESC = "MEX_ORIENTATION_DESC.TXT"
SPACECRAFT_POINTING_MODE = ACROSSTRACK
^MEX_POINTING_DESC = "MEX_POINTING_DESC.TXT"
RIGHT_ASCENSION = -1e+32
DECLINATION = -1e+32
OFFSET_ANGLE = 0.9
SPACECRAFT_SOLAR_DISTANCE = 2.17087e+08
TARGET_NAME = MARS
/* CAMERA DATA ELEMENTS */
DETECTOR_TEMPERATURE = 18.7783
FOCAL_PLANE_TEMPERATURE = 9.195
INST_CMPRS_NAME = "DISCRETE COSINE TRANSFORMATION (DCT)"
INST_CMPRS_RATIO = 7.2541
INST_CMPRS_QUALITY = 0
INST_CMPRS_QUANTZ_TBL_ID = 0
INSTRUMENT_TEMPERATURE = 11.6418
LENS_TEMPERATURE = 9.8067
MACROPIXEL_SIZE = 2
MISSING_FRAMES = 0
PIXEL_SUBSAMPLING_FLAG = N
SIGNAL_CHAIN_ID = 3
/* RADIOMETRIC DATA ELEMENTS */
BANDWIDTH = 177.0
CENTER_FILTER_WAVELENGTH = 676.5
RADIANCE_OFFSET = 3.14603
RADIANCE_SCALING_FACTOR = 0.0117715
REFLECTANCE_SCALING_FACTOR = 0.000294143
MEX:REFLECTANCE_OFFSET = 0.0786124
/* IMAGE OBJECT DEFINITIONS */
OBJECT = IMAGE
  INTERCHANGE_FORMAT = BINARY
  LINES = 11641
  LINE_SAMPLES = 6301
  SAMPLE_TYPE = UNSIGNED_INTEGER
  SAMPLE_BITS = 8
  BANDS = 1
  BAND_STORAGE_TYPE = BAND_SEQUENTIAL
  MAXIMUM = 255
  MEAN = 103.586
  MINIMUM = 1
  STANDARD_DEVIATION = 41.9869
END_OBJECT = IMAGE
/* MAP OBJECT DEFINITIONS */
OBJECT = IMAGE_MAP_PROJECTION
  ^DATA_SET_MAP_PROJECTION_CATALOG= "DSMAP.CAT"
  A_AXIS_RADIUS = 3396.0
  B_AXIS_RADIUS = 3396.0
  C_AXIS_RADIUS = 3396.0
  CENTER_LATITUDE = 0.0
  CENTER_LONGITUDE = 202.0
  COORDINATE_SYSTEM_NAME = PLANETOGRAPHIC
  COORDINATE_SYSTEM_TYPE = "BODY-FIXED ROTATING"
  EASTERNMOST_LONGITUDE = 211.733
  FIRST_STANDARD_PARALLEL = "N/A"
  LINE_FIRST_PIXEL = 1
  LINE_LAST_PIXEL = 11641
  LINE_PROJECTION_OFFSET = -85697.25
  MAP_PROJECTION_ROTATION = 0.0
  MAP_PROJECTION_TYPE = SINUSOIDAL
  MAP_RESOLUTION = 1185.42760773333
  MAP_SCALE = 0.05
  MAXIMUM_LATITUDE = -72.351
  MINIMUM_LATITUDE = -82.0943
  POSITIVE_LONGITUDE_DIRECTION = EAST
  REFERENCE_LATITUDE = "N/A"
  REFERENCE_LONGITUDE = "N/A"
  SAMPLE_FIRST_PIXEL = 1
  SAMPLE_LAST_PIXEL = 6301
  SAMPLE_PROJECTION_OFFSET = 3038.25
  SECOND_STANDARD_PARALLEL = "N/A"
  WESTERNMOST_LONGITUDE = 185.066
END_OBJECT = IMAGE_MAP_PROJECTION
/* The JPEG2000 image data file associated with this label. */
OBJECT = COMPRESSED_FILE
  FILE_NAME = "H4758_0000_P23.JP2"
  RECORD_TYPE = UNDEFINED
  FILE_RECORDS = UNK
  ENCODING_TYPE = "JP2"
  INTERCHANGE_FORMAT = BINARY
  UNCOMPRESSED_FILE_NAME = "H4758_0000_P23.IMG"
  REQUIRED_STORAGE_BYTES = "73381446"
  ^DESCRIPTION = "JP2INFO.TXT"
END_OBJECT = COMPRESSED_FILE
END
