PDS_VERSION_ID = PDS3
/* FILE DATA ELEMENTS */
RECORD_TYPE = STREAM
/* POINTERS TO DATA OBJECTS */
^COMPRESSED_FILE = "H4761_0000_P13.JP2"
/* IDENTIFICATION DATA ELEMENTS */
DATA_SET_ID = "MEX-M-HRSC-5-REFDR-MAPPROJECTED-V3.0"
DATA_SET_NAME = "MARS EXPRESS HRSC MAP PROJECTED REFDR V3.0"
DETECTOR_ID = MEX_HRSC_P1
EVENT_TYPE = "MARS-REGIONAL-MAPPING-Gl-La"
INSTRUMENT_HOST_ID = MEX
INSTRUMENT_HOST_NAME = "MARS EXPRESS"
INSTRUMENT_ID = HRSC
INSTRUMENT_NAME = "HIGH RESOLUTION STEREO CAMERA"
MISSION_NAME = "MARS EXPRESS"
MISSION_PHASE_NAME = ME_Phase_10
PROCESSING_LEVEL_ID = 3
PRODUCT_CREATION_TIME = 2016-04-26T13:14:09.000Z
PRODUCT_ID = "H4761_0000_P13.JP2"
RELEASE_ID = 0054
REVISION_ID = 0000
/* QUALITY DATA ELEMENTS */
DATA_QUALITY_ID = 1
DATA_QUALITY_DESC = "Data calculated based on original SPICE kernels"
/* TIME DATA ELEMENTS */
SPACECRAFT_CLOCK_START_COUNT = "1/0138138282.09063"
SPACECRAFT_CLOCK_STOP_COUNT = "1/0138138713.05981"
START_TIME = 2007-09-17T19:45:03.729Z
STOP_TIME = 2007-09-17T19:48:53.930Z
/* ORBITAL DATA ELEMENTS */
ASCENDING_NODE_LONGITUDE = 128.9
MAXIMUM_RESOLUTION = 44.3
FOOTPRINT_POINT_LATITUDE = (-81.538,-81.8692,-82.0782,-82.2775, -82.4671,-82.6473,-82.3348,-82.0394, -81.8385,-81.6342,-81.428,-81.217, -80.8975,-80.6797,-80.4584,-80.1221, -79.8972,-79.6685,-79.326,-78.9727, -78.7354,-78.4963,-78.2534,-78.0082, -77.7627,-77.3868,-77.1354,-76.7526, -76.4957,-76.2352,-75.9738,-75.7024, -75.3018,-74.8902,-74.6175,-74.3417, -73.9251,-73.6449,-73.3615,-73.0769, -72.789,-72.4991,-72.2091,-71.914, -71.6173,-71.3193,-71.0189,-70.716, -70.4086,-70.101,-69.8901,-69.7963, -69.7145,-69.6019,-69.4791,-69.3191, -69.2094,-69.6322,-69.9317,-70.2317, -70.523,-70.8142,-71.2479,-71.6756, -72.0979,-72.5151,-72.7902,-73.0617, -73.4654,-73.7326,-73.9962,-74.3939, -74.7802,-75.1667,-75.4169,-75.6653, -75.9106,-76.1542,-76.3946,-76.6331, -76.8684,-77.1026,-77.3328,-77.6745, -77.8981,-78.1204,-78.3383,-78.662, -78.8731,-79.1861,-79.3899,-79.6917, -79.888,-80.0825,-80.2724,-80.4583, -80.7326,-80.912,-81.2589,-81.538)
FOOTPRINT_POINT_LONGITUDE = (242.669,244.886,246.433,248.036, 249.695,251.413,253.538,254.977,255.886 ,256.756,257.583,258.382,259.511, 260.228,260.914,261.891,262.51,263.103, 263.953,264.755,265.264,265.756,266.229 ,266.685,267.126,267.758,268.16,268.741 ,269.11,269.469,269.815,270.16,270.643, 271.112,271.407,271.695,272.109,272.374 ,272.633,272.884,273.128,273.365, 273.595,273.82,274.038,274.249,274.456, 274.657,274.853,275.043,274.479,273.367 ,272.476,271.289,270.1,268.626,267.733, 267.137,266.901,266.661,266.403,266.146 ,265.746,265.329,264.894,264.441, 264.127,263.805,263.304,262.958,262.602 ,262.039,261.46,260.844,260.425,259.992 ,259.546,259.086,258.613,258.123,257.62 ,257.099,256.564,255.723,255.142, 254.538,253.919,252.946,252.274,251.216 ,250.484,249.333,248.538,247.709, 246.855,245.97,244.581,243.622,241.59, 242.669)
ORBIT_NUMBER = 4761
ORBITAL_ECCENTRICITY = 0.57
ORBITAL_INCLINATION = 86.69
ORBITAL_SEMIMAJOR_AXIS = 8555.34
PERIAPSIS_ALTITUDE = 298.17
PERIAPSIS_ARGUMENT_ANGLE = 240.57
PERIAPSIS_TIME = 2007-09-17T19:36:19.000Z
SPACECRAFT_ORIENTATION = (0.0,-1.0,0.0)
^MEX_ORIENTATION_DESC = "MEX_ORIENTATION_DESC.TXT"
SPACECRAFT_POINTING_MODE = ACROSSTRACK
^MEX_POINTING_DESC = "MEX_POINTING_DESC.TXT"
RIGHT_ASCENSION = -1e+32
DECLINATION = -1e+32
OFFSET_ANGLE = 1.8
SPACECRAFT_SOLAR_DISTANCE = 2.17235e+08
TARGET_NAME = MARS
/* CAMERA DATA ELEMENTS */
DETECTOR_TEMPERATURE = 17.5549
FOCAL_PLANE_TEMPERATURE = 8.7872
INST_CMPRS_NAME = "DISCRETE COSINE TRANSFORMATION (DCT)"
INST_CMPRS_RATIO = 14.3806
INST_CMPRS_QUALITY = 0
INST_CMPRS_QUANTZ_TBL_ID = 0
INSTRUMENT_TEMPERATURE = 11.4379
LENS_TEMPERATURE = 9.6028
MACROPIXEL_SIZE = 2
MISSING_FRAMES = 2
PIXEL_SUBSAMPLING_FLAG = N
SIGNAL_CHAIN_ID = 3
/* RADIOMETRIC DATA ELEMENTS */
BANDWIDTH = 174.0
CENTER_FILTER_WAVELENGTH = 675.0
RADIANCE_OFFSET = 3.55982
RADIANCE_SCALING_FACTOR = 0.0104989
REFLECTANCE_SCALING_FACTOR = 0.000266497
MEX:REFLECTANCE_OFFSET = 0.0903599
/* IMAGE OBJECT DEFINITIONS */
OBJECT = IMAGE
  INTERCHANGE_FORMAT = BINARY
  LINES = 15858
  LINE_SAMPLES = 8706
  SAMPLE_TYPE = UNSIGNED_INTEGER
  SAMPLE_BITS = 8
  BANDS = 1
  BAND_STORAGE_TYPE = BAND_SEQUENTIAL
  MAXIMUM = 255
  MEAN = 119.624
  MINIMUM = 1
  STANDARD_DEVIATION = 43.3748
END_OBJECT = IMAGE
/* MAP OBJECT DEFINITIONS */
OBJECT = IMAGE_MAP_PROJECTION
  ^DATA_SET_MAP_PROJECTION_CATALOG= "DSMAP.CAT"
  A_AXIS_RADIUS = 3396.0
  B_AXIS_RADIUS = 3396.0
  C_AXIS_RADIUS = 3396.0
  CENTER_LATITUDE = 0.0
  CENTER_LONGITUDE = 264.0
  COORDINATE_SYSTEM_NAME = PLANETOGRAPHIC
  COORDINATE_SYSTEM_TYPE = "BODY-FIXED ROTATING"
  EASTERNMOST_LONGITUDE = 275.043
  FIRST_STANDARD_PARALLEL = "N/A"
  LINE_FIRST_PIXEL = 1
  LINE_LAST_PIXEL = 15858
  LINE_PROJECTION_OFFSET = -82066.25
  MAP_PROJECTION_ROTATION = 0.0
  MAP_PROJECTION_TYPE = SINUSOIDAL
  MAP_RESOLUTION = 1185.42760773333
  MAP_SCALE = 0.05
  MAXIMUM_LATITUDE = -69.2094
  MINIMUM_LATITUDE = -82.6473
  POSITIVE_LONGITUDE_DIRECTION = EAST
  REFERENCE_LATITUDE = "N/A"
  REFERENCE_LONGITUDE = "N/A"
  SAMPLE_FIRST_PIXEL = 1
  SAMPLE_LAST_PIXEL = 8706
  SAMPLE_PROJECTION_OFFSET = 4004.25
  SECOND_STANDARD_PARALLEL = "N/A"
  WESTERNMOST_LONGITUDE = 241.59
END_OBJECT = IMAGE_MAP_PROJECTION
/* The JPEG2000 image data file associated with this label. */
OBJECT = COMPRESSED_FILE
  FILE_NAME = "H4761_0000_P13.JP2"
  RECORD_TYPE = UNDEFINED
  FILE_RECORDS = UNK
  ENCODING_TYPE = "JP2"
  INTERCHANGE_FORMAT = BINARY
  UNCOMPRESSED_FILE_NAME = "H4761_0000_P13.IMG"
  REQUIRED_STORAGE_BYTES = "138094572"
  ^DESCRIPTION = "JP2INFO.TXT"
END_OBJECT = COMPRESSED_FILE
END
