PDS_VERSION_ID = PDS3
/* FILE DATA ELEMENTS */
RECORD_TYPE = STREAM
/* POINTERS TO DATA OBJECTS */
^COMPRESSED_FILE = "H4765_0000_BL3.JP2"
/* IDENTIFICATION DATA ELEMENTS */
DATA_SET_ID = "MEX-M-HRSC-5-REFDR-MAPPROJECTED-V3.0"
DATA_SET_NAME = "MARS EXPRESS HRSC MAP PROJECTED REFDR V3.0"
DETECTOR_ID = MEX_HRSC_BLUE
EVENT_TYPE = "MARS-REGIONAL-MAPPING-Im-Gl-La"
INSTRUMENT_HOST_ID = MEX
INSTRUMENT_HOST_NAME = "MARS EXPRESS"
INSTRUMENT_ID = HRSC
INSTRUMENT_NAME = "HIGH RESOLUTION STEREO CAMERA"
MISSION_NAME = "MARS EXPRESS"
MISSION_PHASE_NAME = ME_Phase_10
PROCESSING_LEVEL_ID = 3
PRODUCT_CREATION_TIME = 2016-04-26T13:14:09.000Z
PRODUCT_ID = "H4765_0000_BL3.JP2"
RELEASE_ID = 0054
REVISION_ID = 0000
/* QUALITY DATA ELEMENTS */
DATA_QUALITY_ID = 1
DATA_QUALITY_DESC = "Data calculated based on original SPICE kernels"
/* TIME DATA ELEMENTS */
SPACECRAFT_CLOCK_START_COUNT = "1/0138235094.09039"
SPACECRAFT_CLOCK_STOP_COUNT = "1/0138235449.25860"
START_TIME = 2007-09-18T22:39:28.520Z
STOP_TIME = 2007-09-18T22:42:32.683Z
/* ORBITAL DATA ELEMENTS */
ASCENDING_NODE_LONGITUDE = 128.82
MAXIMUM_RESOLUTION = 100.5
FOOTPRINT_POINT_LATITUDE = (-80.0804,-80.2481,-80.4062,-80.5544, -80.6926,-80.8209,-80.8691,-80.5499, -80.3071,-79.9806,-79.6501,-79.3132, -79.0583,-78.8869,-78.7158,-78.542, -78.2809,-78.1049,-77.8404,-77.5722, -77.3933,-77.212,-77.0308,-76.8477, -76.5726,-76.3868,-76.2012,-76.0135, -75.8258,-75.6362,-75.4463,-75.2551, -75.0631,-74.8697,-74.6757,-74.4804, -74.2844,-74.0871,-73.8891,-73.6896, -73.4899,-73.2882,-72.9841,-72.6775, -72.4718,-72.2648,-72.0579,-71.7188, -71.6865,-71.6519,-71.6146,-71.5751, -71.5279,-71.4541,-71.4052,-71.3606, -71.3073,-71.2513,-71.1928,-71.1317, -71.4209,-71.6228,-71.8243,-72.0243, -72.3223,-72.5199,-72.7159,-73.0077, -73.2014,-73.3932,-73.5844,-73.7742, -74.057,-74.3377,-74.523,-74.7076, -74.8907,-75.0733,-75.2539,-75.5236, -75.702,-75.8792,-76.055,-76.2304, -76.4035,-76.6622,-76.8328,-77.0869, -77.2544,-77.4219,-77.5871,-77.7519, -77.9958,-78.1576,-78.5553,-78.8676, -79.2509,-79.552,-79.8469,-80.0804)
FOOTPRINT_POINT_LONGITUDE = (220.857,222.517,224.217,225.954, 227.725,229.534,231.443,232.282,232.88, 233.633,234.343,235.019,235.5,235.811, 236.11,236.404,236.829,237.104,237.501, 237.885,238.132,238.374,238.609,238.84, 239.174,239.391,239.602,239.809,240.01, 240.208,240.4,240.589,240.773,240.954, 241.13,241.302,241.471,241.636,241.798, 241.956,242.111,242.263,242.486,242.701 ,242.841,242.978,243.113,242.987, 242.315,241.643,240.972,240.302,239.549 ,238.461,237.793,237.208,236.54,235.874 ,235.209,234.545,234.098,233.925, 233.747,233.566,233.29,233.1,232.908, 232.609,232.405,232.196,231.984,231.767 ,231.435,231.084,230.848,230.607,230.36 ,230.106,229.848,229.449,229.179, 228.901,228.617,228.325,228.026,227.565 ,227.251,226.755,226.414,226.076, 225.734,225.375,224.819,224.439,223.441 ,222.596,221.479,220.533,219.536, 220.857)
ORBIT_NUMBER = 4765
ORBITAL_ECCENTRICITY = 0.57
ORBITAL_INCLINATION = 86.7
ORBITAL_SEMIMAJOR_AXIS = 8555.58
PERIAPSIS_ALTITUDE = 297.76
PERIAPSIS_ARGUMENT_ANGLE = 239.87
PERIAPSIS_TIME = 2007-09-18T22:29:04.000Z
SPACECRAFT_ORIENTATION = (0.0,-1.0,0.0)
^MEX_ORIENTATION_DESC = "MEX_ORIENTATION_DESC.TXT"
SPACECRAFT_POINTING_MODE = ACROSSTRACK
^MEX_POINTING_DESC = "MEX_POINTING_DESC.TXT"
RIGHT_ASCENSION = -1e+32
DECLINATION = -1e+32
OFFSET_ANGLE = 1.2
SPACECRAFT_SOLAR_DISTANCE = 2.17433e+08
TARGET_NAME = MARS
/* CAMERA DATA ELEMENTS */
DETECTOR_TEMPERATURE = 18.1666
FOCAL_PLANE_TEMPERATURE = 8.9911
INST_CMPRS_NAME = "DISCRETE COSINE TRANSFORMATION (DCT)"
INST_CMPRS_RATIO = 14.4902
INST_CMPRS_QUALITY = 0
INST_CMPRS_QUANTZ_TBL_ID = 0
INSTRUMENT_TEMPERATURE = 11.6418
LENS_TEMPERATURE = 9.3989
MACROPIXEL_SIZE = 4
MISSING_FRAMES = 0
PIXEL_SUBSAMPLING_FLAG = N
SIGNAL_CHAIN_ID = 2
/* RADIOMETRIC DATA ELEMENTS */
BANDWIDTH = 76.0
CENTER_FILTER_WAVELENGTH = 444.0
RADIANCE_OFFSET = 0.552388
RADIANCE_SCALING_FACTOR = 0.00103908
REFLECTANCE_SCALING_FACTOR = 5.04732e-05
MEX:REFLECTANCE_OFFSET = 0.0268321
/* IMAGE OBJECT DEFINITIONS */
OBJECT = IMAGE
  INTERCHANGE_FORMAT = BINARY
  LINES = 5825
  LINE_SAMPLES = 3204
  SAMPLE_TYPE = UNSIGNED_INTEGER
  SAMPLE_BITS = 8
  BANDS = 1
  BAND_STORAGE_TYPE = BAND_SEQUENTIAL
  MAXIMUM = 255
  MEAN = 123.837
  MINIMUM = 1
  STANDARD_DEVIATION = 38.0022
END_OBJECT = IMAGE
/* MAP OBJECT DEFINITIONS */
OBJECT = IMAGE_MAP_PROJECTION
  ^DATA_SET_MAP_PROJECTION_CATALOG= "DSMAP.CAT"
  A_AXIS_RADIUS = 3396.0
  B_AXIS_RADIUS = 3396.0
  C_AXIS_RADIUS = 3396.0
  CENTER_LATITUDE = 0.0
  CENTER_LONGITUDE = 234.0
  COORDINATE_SYSTEM_NAME = PLANETOGRAPHIC
  COORDINATE_SYSTEM_TYPE = "BODY-FIXED ROTATING"
  EASTERNMOST_LONGITUDE = 243.113
  FIRST_STANDARD_PARALLEL = "N/A"
  LINE_FIRST_PIXEL = 1
  LINE_LAST_PIXEL = 5825
  LINE_PROJECTION_OFFSET = -42162.625
  MAP_PROJECTION_ROTATION = 0.0
  MAP_PROJECTION_TYPE = SINUSOIDAL
  MAP_RESOLUTION = 592.713803866667
  MAP_SCALE = 0.1
  MAXIMUM_LATITUDE = -71.1317
  MINIMUM_LATITUDE = -80.8691
  POSITIVE_LONGITUDE_DIRECTION = EAST
  REFERENCE_LATITUDE = "N/A"
  REFERENCE_LONGITUDE = "N/A"
  SAMPLE_FIRST_PIXEL = 1
  SAMPLE_LAST_PIXEL = 3204
  SAMPLE_PROJECTION_OFFSET = 1487.875
  SECOND_STANDARD_PARALLEL = "N/A"
  WESTERNMOST_LONGITUDE = 219.536
END_OBJECT = IMAGE_MAP_PROJECTION
/* The JPEG2000 image data file associated with this label. */
OBJECT = COMPRESSED_FILE
  FILE_NAME = "H4765_0000_BL3.JP2"
  RECORD_TYPE = UNDEFINED
  FILE_RECORDS = UNK
  ENCODING_TYPE = "JP2"
  INTERCHANGE_FORMAT = BINARY
  UNCOMPRESSED_FILE_NAME = "H4765_0000_BL3.IMG"
  REQUIRED_STORAGE_BYTES = "18685728"
  ^DESCRIPTION = "JP2INFO.TXT"
END_OBJECT = COMPRESSED_FILE
END
